BEGIN:VCALENDAR
VERSION:2.0
PRODID:-//GCBID - ECPv6.15.20//NONSGML v1.0//EN
CALSCALE:GREGORIAN
METHOD:PUBLISH
X-WR-CALNAME:GCBID
X-ORIGINAL-URL:https://glencovedowntown.org
X-WR-CALDESC:Events for GCBID
REFRESH-INTERVAL;VALUE=DURATION:PT1H
X-Robots-Tag:noindex
X-PUBLISHED-TTL:PT1H
BEGIN:VTIMEZONE
TZID:America/New_York
BEGIN:DAYLIGHT
TZOFFSETFROM:-0500
TZOFFSETTO:-0400
TZNAME:EDT
DTSTART:20240310T070000
END:DAYLIGHT
BEGIN:STANDARD
TZOFFSETFROM:-0400
TZOFFSETTO:-0500
TZNAME:EST
DTSTART:20241103T060000
END:STANDARD
BEGIN:DAYLIGHT
TZOFFSETFROM:-0500
TZOFFSETTO:-0400
TZNAME:EDT
DTSTART:20250309T070000
END:DAYLIGHT
BEGIN:STANDARD
TZOFFSETFROM:-0400
TZOFFSETTO:-0500
TZNAME:EST
DTSTART:20251102T060000
END:STANDARD
BEGIN:DAYLIGHT
TZOFFSETFROM:-0500
TZOFFSETTO:-0400
TZNAME:EDT
DTSTART:20260308T070000
END:DAYLIGHT
BEGIN:STANDARD
TZOFFSETFROM:-0400
TZOFFSETTO:-0500
TZNAME:EST
DTSTART:20261101T060000
END:STANDARD
END:VTIMEZONE
BEGIN:VEVENT
DTSTART;TZID=America/New_York:20250718T190000
DTEND;TZID=America/New_York:20250718T193000
DTSTAMP:20260424T065821
CREATED:20250623T182434Z
LAST-MODIFIED:20250715T153852Z
UID:7267-1752865200-1752867000@glencovedowntown.org
SUMMARY:Teen Showcase: Jazz Hands Children's Theatre "High School Musical”
DESCRIPTION:The Teen Showcase will begin at 7pm before the Downtown Sounds concerts \nCast members from Jazz Hands Children’s Theatre will perform a selection of songs from an upcoming performance of “High School Musical” \nThe Teen Showcase highlights local teens and their varied talents in the arts. Teens perform as opening acts to the Downtown Sounds concert performers. \nThe Teen Showcase does not happen every Friday and is subject to change. Please check our social media and website for the performer week to week. \nThis year’s Teen Showcase will feature song performances from cast members of local theater productions \nIf you have suggestions or interest in performing in our Teen Showcase please email us at downtownsoundsteenidol@gmail.com
URL:https://glencovedowntown.org/event/teen-showcase-robert-finley-middle-school-the-addams-family/
LOCATION:Village Square\, Glen Cove\, NY\, 11542\, United States
ATTACH;FMTTYPE=image/png:https://glencovedowntown.org/wp-content/uploads/2025/06/DTS-2025-Program2.png
END:VEVENT
BEGIN:VEVENT
DTSTART;TZID=America/New_York:20250711T193000
DTEND;TZID=America/New_York:20250711T213000
DTSTAMP:20260424T065821
CREATED:20250602T175553Z
LAST-MODIFIED:20250707T181053Z
UID:7196-1752262200-1752269400@glencovedowntown.org
SUMMARY:Downtown Sounds: The 80s vs 90s Show
DESCRIPTION:Date: Friday\, July 11 \nTime: 7:30 – 9:30pm \nLocation: 100 Village Square\, Glen Cove\, NY 11542 \nFree parking is available in the Brewster Street parking garage.
URL:https://glencovedowntown.org/event/downtown-sounds-the-80s-vs-90s-show/
LOCATION:Village Square\, Glen Cove\, NY\, 11542\, United States
ATTACH;FMTTYPE=image/jpeg:https://glencovedowntown.org/wp-content/uploads/2025/05/80s90sPromoShot-3-scaled.jpg
END:VEVENT
BEGIN:VEVENT
DTSTART;TZID=America/New_York:20250711T190000
DTEND;TZID=America/New_York:20250711T193000
DTSTAMP:20260424T065821
CREATED:20250623T182221Z
LAST-MODIFIED:20250623T182221Z
UID:7264-1752260400-1752262200@glencovedowntown.org
SUMMARY:Teen Showcase: Glen Cove High School "Chicago"
DESCRIPTION:The Teen Showcase will begin at 7pm before the Downtown Sounds concerts \nCast members from the Glen Cove High School Masquers will perform a selection of songs from this year’s performance of “Chicago” \nThe Teen Showcase highlights local teens and their varied talents in the arts. Teens perform as opening acts to the Downtown Sounds concert performers. \nThe Teen Showcase does not happen every Friday and is subject to change. Please check our social media and website for the performer week to week. \nThis year’s Teen Showcase will feature song performances from cast members of local theater productions \nIf you have suggestions or interest in performing in our Teen Showcase please email us at downtownsoundsteenidol@gmail.com
URL:https://glencovedowntown.org/event/teen-showcase-glen-cove-high-school-chicago/
LOCATION:Village Square\, Glen Cove\, NY\, 11542\, United States
END:VEVENT
BEGIN:VEVENT
DTSTART;TZID=America/New_York:20250628T120000
DTEND;TZID=America/New_York:20250628T160000
DTSTAMP:20260424T065821
CREATED:20250610T161137Z
LAST-MODIFIED:20250610T161137Z
UID:7241-1751112000-1751126400@glencovedowntown.org
SUMMARY:The Shoppe by Trubee Hill: Three Year Anniversary
DESCRIPTION:Stop by to celebrate!  \nEvent Details: \n\nDate: Saturday\, June 28\nTime: 12:00 PM – 4:00 PM\nLocation: 100 Village Square\, Glen Cove\, NY 11542\nAdmission: Free
URL:https://glencovedowntown.org/event/the-shoppe-by-trubee-hill-three-year-anniversary/
LOCATION:The Shoppe by Trubee Hill\, 100 Village Square\, Glen Cove\, 11542\, United States
ATTACH;FMTTYPE=image/png:https://glencovedowntown.org/wp-content/uploads/2025/06/69-615-2025-Instagram-Posts-1.png
END:VEVENT
BEGIN:VEVENT
DTSTART;TZID=America/New_York:20250628T110000
DTEND;TZID=America/New_York:20250628T120000
DTSTAMP:20260424T065821
CREATED:20250613T184920Z
LAST-MODIFIED:20250613T184920Z
UID:7248-1751108400-1751112000@glencovedowntown.org
SUMMARY:Ribbon Cutting: Kelly Music Center
DESCRIPTION:Join us as we welcome Kelly Music Center \nDate: Saturday\, June 28 \nTime: 11:00 am \nLocation: 62 School Street\, Glen Cove\, NY 11542 \nParking: Free parking available in the Brewster Street and Pulaski Street parking garages
URL:https://glencovedowntown.org/event/ribbon-cutting-kelly-music-center/
LOCATION:Kelly Music Center\, 62 School St\, Glen Cove\, NY\, 11542\, United States
ATTACH;FMTTYPE=image/png:https://glencovedowntown.org/wp-content/uploads/2025/06/23.png
END:VEVENT
BEGIN:VEVENT
DTSTART;TZID=America/New_York:20250627T140000
DTEND;TZID=America/New_York:20250627T160000
DTSTAMP:20260424T065821
CREATED:20250613T185212Z
LAST-MODIFIED:20250613T185221Z
UID:7252-1751032800-1751040000@glencovedowntown.org
SUMMARY:Ribbon Cutting: Celebrating Mary Stanco's 20 Years of Real Estate
DESCRIPTION:Event Details: \n\nDate: Friday\, June 27\nTime: 2:00 PM\nLocation: 50 School St\, Suite 2\, Glen Cove\, NY 11542\nParking: Free parking available in the Brewster Street and Pulaski Street parking garages
URL:https://glencovedowntown.org/event/ribbon-cutting-celebrating-mary-stancos-20-years-of-real-estate/
ATTACH;FMTTYPE=image/png:https://glencovedowntown.org/wp-content/uploads/2025/06/21.png
END:VEVENT
BEGIN:VEVENT
DTSTART;TZID=America/New_York:20250621T160000
DTEND;TZID=America/New_York:20250621T190000
DTSTAMP:20260424T065821
CREATED:20250515T194207Z
LAST-MODIFIED:20250515T194207Z
UID:7132-1750521600-1750532400@glencovedowntown.org
SUMMARY:Otherside Wine Bar: Jazz on the Patio
DESCRIPTION:JAZZ on the PATIO feat. Frank Ferrara & Special Guests \nOutdoor show \nNo reservations required \nEvent Details: \n\nDate: Saturday\, June 21st\nTime: 4:00 PM – 7:00 PM\nLocation: 149 Glen Street Suite 2\, Glen Cove\, NY 11542\n\nFor more information: https://otherside.wine/events
URL:https://glencovedowntown.org/event/otherside-wine-bar-jazz-on-the-patio-2/
LOCATION:Otherside Wine Bar\, 149 Glen Street\, Glen Cove\, NY\, 11542\, United States
ATTACH;FMTTYPE=image/png:https://glencovedowntown.org/wp-content/uploads/2025/05/4.png
END:VEVENT
BEGIN:VEVENT
DTSTART;TZID=America/New_York:20250619T183000
DTEND;TZID=America/New_York:20250619T203000
DTSTAMP:20260424T065821
CREATED:20250515T194725Z
LAST-MODIFIED:20250522T182815Z
UID:7134-1750357800-1750365000@glencovedowntown.org
SUMMARY:Otherside Wine Bar: Paint Your Partner
DESCRIPTION:PAINT YOUR PARTNER with Michelle Lee \nEvent Details: \n\nDate: Thursday\, June 19th\nTime: 6:30 PM – 8:30 PM\nLocation: 149 Glen Street Suite 2\, Glen Cove\, NY 11542\nAdmission: $50 per person\n\nFor tickets: Otherside Wine Bar Restaurant – Glen Cove\, NY | OpenTable \nFor more information: https://otherside.wine/events
URL:https://glencovedowntown.org/event/otherside-wine-bar-paint-your-partner-3/
LOCATION:Otherside Wine Bar\, 149 Glen Street\, Glen Cove\, NY\, 11542\, United States
ATTACH;FMTTYPE=image/png:https://glencovedowntown.org/wp-content/uploads/2025/05/4.png
END:VEVENT
BEGIN:VEVENT
DTSTART;TZID=America/New_York:20250619T180000
DTEND;TZID=America/New_York:20250619T213000
DTSTAMP:20260424T065821
CREATED:20250610T160839Z
LAST-MODIFIED:20250610T161743Z
UID:7238-1750356000-1750368600@glencovedowntown.org
SUMMARY:Autostrade Horsepower and Heros
DESCRIPTION:Event Details: \n\nDate: Thursday\, June 19\nTime: 6:00 PM – 9:30 PM\nLocation: 50 Glen St.\, Glen Cove\, NY 11542\nAdmission: Free\nParking: Free parking available in the Brewster Street parking garage
URL:https://glencovedowntown.org/event/autostrade-horsepower-and-heros/
LOCATION:Downtown Glen Cove
ATTACH;FMTTYPE=image/png:https://glencovedowntown.org/wp-content/uploads/2025/06/69-615-2025-Instagram-Posts.png
END:VEVENT
BEGIN:VEVENT
DTSTART;TZID=America/New_York:20250612T183000
DTEND;TZID=America/New_York:20250612T210000
DTSTAMP:20260424T065821
CREATED:20250515T193851Z
LAST-MODIFIED:20250515T193851Z
UID:7130-1749753000-1749762000@glencovedowntown.org
SUMMARY:Otherside Wine Bar: Jazz in the Lounge
DESCRIPTION:JAZZ NIGHT in the LOUNGE feat. Michael Amendola & Special Guests \nIndoor show in our fireplace lounge \nReservations recommended \nEvent Details: \n\nDate: Thursday\, June 12th\nTime: 6:30 PM – 9:00 PM\nLocation: 149 Glen Street Suite 2\, Glen Cove\, NY 11542\n\nFor more information: https://otherside.wine/events
URL:https://glencovedowntown.org/event/otherside-wine-bar-jazz-in-the-lounge-3/
LOCATION:Otherside Wine Bar\, 149 Glen Street\, Glen Cove\, NY\, 11542\, United States
ATTACH;FMTTYPE=image/png:https://glencovedowntown.org/wp-content/uploads/2025/05/4.png
END:VEVENT
BEGIN:VEVENT
DTSTART;TZID=America/New_York:20250607T150000
DTEND;TZID=America/New_York:20250607T190000
DTSTAMP:20260424T065821
CREATED:20250515T193549Z
LAST-MODIFIED:20250522T182759Z
UID:7128-1749308400-1749322800@glencovedowntown.org
SUMMARY:Otherside Wine Bar: Crawfish Boil
DESCRIPTION:CRAWFISH BOIL feat. Safire Hospitality \nEvent Details: \n\nDate: Saturday\, June 7th\nTime: 3:00 PM – 7:00 PM\nLocation: 149 Glen Street Suite 2\, Glen Cove\, NY 11542\nAdmission: $75 early bird\, $90 day-of\n\nFor tickets: Otherside Wine Bar Restaurant – Glen Cove\, NY | OpenTable \nFor more information: https://otherside.wine/events
URL:https://glencovedowntown.org/event/otherside-wine-bar-crawfish-boil/
LOCATION:Otherside Wine Bar\, 149 Glen Street\, Glen Cove\, NY\, 11542\, United States
ATTACH;FMTTYPE=image/png:https://glencovedowntown.org/wp-content/uploads/2025/05/4.png
END:VEVENT
BEGIN:VEVENT
DTSTART;TZID=America/New_York:20250605T193000
DTEND;TZID=America/New_York:20250605T203000
DTSTAMP:20260424T065821
CREATED:20250515T191110Z
LAST-MODIFIED:20250515T191110Z
UID:7114-1749151800-1749155400@glencovedowntown.org
SUMMARY:Meritage Wine Bar: Summer Wine Tasting
DESCRIPTION:Event Details: \n\nDate: June 5\nTime: 7:30 PM\nLocation: 90 School Street\, Glen Cove\, NY 11542\nAdmission: $100 per person\n\nCall 516-801-0055 for more information
URL:https://glencovedowntown.org/event/meritage-wine-bar-summer-wine-tasting/
LOCATION:Meritage Wine Bar\, 90 School Street\, Glen Cove\, NY\, 11542
ATTACH;FMTTYPE=image/png:https://glencovedowntown.org/wp-content/uploads/2025/05/22.png
END:VEVENT
BEGIN:VEVENT
DTSTART;TZID=America/New_York:20250605T183000
DTEND;TZID=America/New_York:20250605T203000
DTSTAMP:20260424T065821
CREATED:20250515T193158Z
LAST-MODIFIED:20250515T193158Z
UID:7126-1749148200-1749155400@glencovedowntown.org
SUMMARY:Otherside Wine Bar: Jazz in the Lounge
DESCRIPTION:JAZZ NIGHT in the LOUNGE feat. The Chai Tones (trio) \nIndoor show in our fireplace lounge \nReservations recommended \nEvent Details: \n\nDate: Thursday\, June 5th\nTime: 6:30 PM – 8:30 PM\nLocation: 149 Glen Street Suite 2\, Glen Cove\, NY 11542\n\nFor more information: https://otherside.wine/events
URL:https://glencovedowntown.org/event/otherside-wine-bar-jazz-in-the-lounge-2/
LOCATION:Otherside Wine Bar\, 149 Glen Street\, Glen Cove\, NY\, 11542\, United States
ATTACH;FMTTYPE=image/png:https://glencovedowntown.org/wp-content/uploads/2025/05/4.png
END:VEVENT
BEGIN:VEVENT
DTSTART;TZID=America/New_York:20250531T183000
DTEND;TZID=America/New_York:20250531T203000
DTSTAMP:20260424T065821
CREATED:20250515T192843Z
LAST-MODIFIED:20250515T192843Z
UID:7124-1748716200-1748723400@glencovedowntown.org
SUMMARY:Otherside Wine Bar: Jazz in the Lounge
DESCRIPTION:JAZZ in the LOUNGE feat Andrew Ahr\, solo jazz guitar set \nIndoor show in our fireplace lounge \nReservations recommended \nEvent Details: \n\nDate: Saturday\, May 31st\nTime: 6:30 PM – 8:30 PM\nLocation: 149 Glen Street Suite 2\, Glen Cove\, NY 11542\n\nFor more information: https://otherside.wine/events
URL:https://glencovedowntown.org/event/otherside-wine-bar-jazz-in-the-lounge/
LOCATION:Otherside Wine Bar\, 149 Glen Street\, Glen Cove\, NY\, 11542\, United States
ATTACH;FMTTYPE=image/png:https://glencovedowntown.org/wp-content/uploads/2025/05/4.png
END:VEVENT
BEGIN:VEVENT
DTSTART;TZID=America/New_York:20250531T090000
DTEND;TZID=America/New_York:20250531T120000
DTSTAMP:20260424T065821
CREATED:20250407T171030Z
LAST-MODIFIED:20250523T191400Z
UID:6897-1748682000-1748692800@glencovedowntown.org
SUMMARY:Wellness Day
DESCRIPTION:Enjoy free fitness classes\, Treat yourself to products sold by vendors\, and Learn about different health and wellness opportunities \nWhere: Village Square \nDate: May 31 \nTime: 9am-noon \n\n\n\nVendors: Dynamic Physical Therapy & Rehab Services\, Monarch Acupuncture\, Basket Case Organizing\, Holistic & Herby\, Empowerfit \nClass Schedule \n9am: Level Up Glen Cove \n9:30am: Screaming Pigeon Yoga \n10am: Glen Cove/X Legion Fitness \n10:30am: Leah Bush Pilates \n11am: Rumble Boxing (in studio) \n11am: Gentle Body Movement by Glengariff\n \n11:15am: Soca Brazilian Jiu-Jitsu \n11:30am: Living Lotus Sound Bowl Meditation
URL:https://glencovedowntown.org/event/wellness-day-4/
LOCATION:Village Square\, Glen Cove\, NY\, 11542\, United States
ATTACH;FMTTYPE=image/png:https://glencovedowntown.org/wp-content/uploads/2025/04/2025-Wellness-Day-Flyer-1.png
END:VEVENT
BEGIN:VEVENT
DTSTART;TZID=America/New_York:20250530T110000
DTEND;TZID=America/New_York:20250530T120000
DTSTAMP:20260424T065821
CREATED:20250515T200647Z
LAST-MODIFIED:20250515T200647Z
UID:7136-1748602800-1748606400@glencovedowntown.org
SUMMARY:Madeline's Play Cafe: We Fly
DESCRIPTION:Join us for this New Pop up class! Recommended for babies aged 9 Months- 3 yrs\, featuring Ms. Krysta’s Acoustic Guitar\, traditional folk music\, rhythm games\, and sensory elements like scarves\, bubbles\, puppets and so much more\, Sound healing instruments\, essential oils\, and various instruments for all to engage with! \nEvent Details: \n\nDate: May 30\nTime: 11:00 AM – 12:00 PM\nLocation: 36 Glen Street\, Glen Cove\, NY 11542\nFor more information visit: https://madelinesplaycafe.com/
URL:https://glencovedowntown.org/event/madelines-play-cafe-we-fly/
LOCATION:Madeline’s Play Cafe\, 36 Glen Street\, Glen Cove\, NY\, 11542\, United States
ATTACH;FMTTYPE=image/png:https://glencovedowntown.org/wp-content/uploads/2025/05/2.png
END:VEVENT
BEGIN:VEVENT
DTSTART;TZID=America/New_York:20250526T120000
DTEND;TZID=America/New_York:20250526T130000
DTSTAMP:20260424T065821
CREATED:20250515T201117Z
LAST-MODIFIED:20250515T201117Z
UID:7139-1748260800-1748264400@glencovedowntown.org
SUMMARY:City of GC: Memorial Day Parade
DESCRIPTION:Memorial Day Parade through downtown GC at 12 PM
URL:https://glencovedowntown.org/event/city-of-gc-memorial-day-parade/
ATTACH;FMTTYPE=image/png:https://glencovedowntown.org/wp-content/uploads/2025/05/15.png
END:VEVENT
BEGIN:VEVENT
DTSTART;TZID=America/New_York:20250524T160000
DTEND;TZID=America/New_York:20250524T190000
DTSTAMP:20260424T065821
CREATED:20250515T192625Z
LAST-MODIFIED:20250515T192625Z
UID:7121-1748102400-1748113200@glencovedowntown.org
SUMMARY:Otherside Wine Bar: Jazz on the Patio
DESCRIPTION:JAZZ on the PATIO feat. Frank Ferrara & Special Guests \nOutdoor show\, no reservations required \nEvent Details: \n\nDate: Saturday\, May 24th\nTime: 4:00 PM – 7:00 PM\nLocation: 149 Glen Street Suite 2\, Glen Cove\, NY 11542\n\nFor more information: https://otherside.wine/events
URL:https://glencovedowntown.org/event/otherside-wine-bar-jazz-on-the-patio/
LOCATION:Otherside Wine Bar\, 149 Glen Street\, Glen Cove\, NY\, 11542\, United States
ATTACH;FMTTYPE=image/png:https://glencovedowntown.org/wp-content/uploads/2025/05/4.png
END:VEVENT
BEGIN:VEVENT
DTSTART;TZID=America/New_York:20250522T183000
DTEND;TZID=America/New_York:20250522T203000
DTSTAMP:20260424T065821
CREATED:20250515T192122Z
LAST-MODIFIED:20250522T182649Z
UID:7118-1747938600-1747945800@glencovedowntown.org
SUMMARY:Otherside Wine Bar: Paint Your Partner
DESCRIPTION:PAINT YOUR PARTNER with Michelle Lee \nEvent Details: \n\nDate: Thursday May 22\nTime: 6:30 PM – 8:30 PM\nLocation: 149 Glen Street Suite 2\, Glen Cove\, NY 11542\nAdmission: $50 per person\n\nFor tickets: Otherside Wine Bar Restaurant – Glen Cove\, NY | OpenTable \nFor more information: https://otherside.wine/events
URL:https://glencovedowntown.org/event/otherside-wine-bar-paint-your-partner-2/
LOCATION:Otherside Wine Bar\, 149 Glen Street\, Glen Cove\, NY\, 11542\, United States
ATTACH;FMTTYPE=image/png:https://glencovedowntown.org/wp-content/uploads/2025/05/4.png
END:VEVENT
BEGIN:VEVENT
DTSTART;TZID=America/New_York:20250510T120000
DTEND;TZID=America/New_York:20250510T170000
DTSTAMP:20260424T065821
CREATED:20250425T180754Z
LAST-MODIFIED:20250425T180754Z
UID:7019-1746878400-1746896400@glencovedowntown.org
SUMMARY:FUSE: Mother's Day Brunch
DESCRIPTION:COME CELEBRATE BUBBLES & BLING MOTHER’S DAY WITH US! \nFOREVER JEWELRY\, SHOPPING & HAIR TINSEL \nCHAMPAGNE\, NON ALCOHOLIC BEVERAGES & LIGHT REFRESHMENTS WILL BE SERVED \nRESERVATIONS ARE HIGHLY SUGGESTED TO SECURE YOUR TIME SLOT \nEvent Details: \n\nDate: Saturday May 10\nTime: 12:00 PM – 5:00 PM\nLocation: 50 Glen Street 3rd floor\, Glen Cove\, NY 11542\nReservations: 516.838.7801
URL:https://glencovedowntown.org/event/fuse-mothers-day-brunch/
LOCATION:The Lash Queen\, 50 Glen Street Suite 305\, Glen Cove\, New York\, 11542\, United States
ATTACH;FMTTYPE=image/png:https://glencovedowntown.org/wp-content/uploads/2025/04/16.png
END:VEVENT
BEGIN:VEVENT
DTSTART;TZID=America/New_York:20250501T183000
DTEND;TZID=America/New_York:20250501T210000
DTSTAMP:20260424T065821
CREATED:20250425T180137Z
LAST-MODIFIED:20250425T180137Z
UID:7015-1746124200-1746133200@glencovedowntown.org
SUMMARY:Otherside Wine Bar: Jazz Night
DESCRIPTION:Jazz night at Otherside Wine Bar featuring JBB Organ Trio \nEvent Details: \n\nDate: Thursday\, May 1\nTime: 6:30 PM – 9:00 PM\nLocation: 149 Glen Street\, Glen Cove\, NY 11542\nAdmission: Free
URL:https://glencovedowntown.org/event/otherside-wine-bar-jazz-night-3/
LOCATION:Otherside Wine Bar\, 149 Glen Street\, Glen Cove\, NY\, 11542\, United States
ATTACH;FMTTYPE=image/png:https://glencovedowntown.org/wp-content/uploads/2025/04/18.png
END:VEVENT
BEGIN:VEVENT
DTSTART;TZID=America/New_York:20250501T120000
DTEND;TZID=America/New_York:20250501T133000
DTSTAMP:20260424T065821
CREATED:20250425T175240Z
LAST-MODIFIED:20250425T175240Z
UID:7013-1746100800-1746106200@glencovedowntown.org
SUMMARY:BID Board Meeting
DESCRIPTION:The BID Board of Directors will hold its monthly meeting at 12pm. Cost for lunch is $15. RSVP for meeting location.
URL:https://glencovedowntown.org/event/bid-board-meeting-6/
ATTACH;FMTTYPE=image/jpeg:https://glencovedowntown.org/wp-content/uploads/2025/02/BID-Board-2025.jpg
END:VEVENT
BEGIN:VEVENT
DTSTART;TZID=America/New_York:20250425T190000
DTEND;TZID=America/New_York:20250425T210000
DTSTAMP:20260424T065821
CREATED:20250407T170114Z
LAST-MODIFIED:20250407T170114Z
UID:6894-1745607600-1745614800@glencovedowntown.org
SUMMARY:Glen Cove Downtown BID Art Crawl
DESCRIPTION:When: Friday\, April 25 \nTime: 7-9 PM \nPlace: Downtown Glen Cove \nMeet the Artists at Opening Receptions throughout Downtown Glen cove \nVenues: \n\n\n\nMeritage Wine Bar\, 90 School St. \n\n\nArtist: Photographer Tony Tedeschi \n\n\n\n\nMad Chicken\, 5 School St. \n\n\nArtist: Sophi Photo Memoir \n\n\n\n\nPeter B. Holden Art Gallery\, 32 School St. \n\n\nOpen for the evening \n\n\n\n\nHair Above Salon\, 1 School St. \n\n\nArtist: Rita Broughton \n\n\n\n\nLong Island Academy of Fine Art\, 14 Glen St. \n\n\nArtist: Co-Director Steven Forster and LIAFA art students \n\n\n\n\nSoca Brazilian Jiu-Jitsu\, 20 Glen St. \n\n\nArtist: Various Artists \n\n\n\n\nGlen Floors\, 30 Glen St. \n\n\nArtist: Glen Cove High School Art Club \n\n\n\n\nOtherside Wine Bar\, 149 Glen St. \n\n\nArtist: Photographer Marino Carrabs \n\n\n\n\nThe Shoppe by Trubee Hill\, 100 Village Square \n\n\nSip & Shop \n\n\n\n 
URL:https://glencovedowntown.org/event/glen-cove-downtown-bid-art-crawl/
ATTACH;FMTTYPE=image/png:https://glencovedowntown.org/wp-content/uploads/2025/04/2025-Art-Crawl-Flyer-4.png
END:VEVENT
BEGIN:VEVENT
DTSTART;TZID=America/New_York:20250425T000000
DTEND;TZID=America/New_York:20250425T000000
DTSTAMP:20260424T065821
CREATED:20250425T182502Z
LAST-MODIFIED:20250425T182839Z
UID:7023-1745539200-1745539200@glencovedowntown.org
SUMMARY:North Shore Historical Museum: Exhibit Opening
DESCRIPTION:The North Shore Historical Museum presents: Revealing F. Edwin Church \nExhibition opening reception \n\nDate: Saturday\, April 26\nTime: 5:30 PM – 7:00 PM\nLocation: 140 Glen Street\, Glen Cove\, NY 11542\nAdmission: $20 cash donation suggested\nRSVP: Upcoming Events | NSHM\n\n\nJoin us for the exciting opening of an exhibition celebrating the life and art of American painter F. Edwin Church (1876–1975)! Best known for his distinctive portraits with a touch of Japanese influence\, Church’s artistic journey also explored the beauty of impressionist landscapes\, the mysteries of undersea scenes\, the delicate charm of floral still life\, and the tactile form of sculpture. \nThis exhibition\, presented with great pride by the F. Edwin Church Catalogue Raisonné Project\, offers a unique window into the world of an artist whose passion even influenced the design of his own Locust Valley home\, crafted in 1928 by Harrie T. Lindeberg and partially funded by his print collection. Be among the first to experience a curated selection of Church’s diverse works and gain insight into his fascinating life. \n\nAdmission to the exhibition opening is free\, but donations are welcome.
URL:https://glencovedowntown.org/event/north-shore-historical-museum-exhibit-opening/
ATTACH;FMTTYPE=image/jpeg:https://glencovedowntown.org/wp-content/uploads/2025/04/NSHM.jpg
END:VEVENT
BEGIN:VEVENT
DTSTART;TZID=America/New_York:20250424T183000
DTEND;TZID=America/New_York:20250424T203000
DTSTAMP:20260424T065821
CREATED:20250407T190216Z
LAST-MODIFIED:20250407T191409Z
UID:6900-1745519400-1745526600@glencovedowntown.org
SUMMARY:Otherside Wine Bar: Paint Your Partner
DESCRIPTION:Event Details: \n\nDate: April 24\nTime: 6:30 PM – 8:30 PM\nLocation: 149 Glen St.\, Glen Cove\, NY 11542\nAdmission: $60 per couple\n\nPurchase tickets here: OpenTable – Choose a time for your experience \nAbout the experience\nPLEASE NOTE\, TICKET PRICE INCLUDES 2 PEOPLE! (This is a partnered event.) \nWe’ll be seating 20 lucky guests across the table from one another in our Fireplace Lounge\, with two hours to do your best (or worst?) at capturing your partner’s likeness. \nALL MATERIALS WILL BE PROVIDED. \nOur host\, Michelle Lee\, will give a brief tutorial at 6:30\, and you will have two hours (plus a grace period) to wrap up your masterpiece. Please dress for a mess! You will very likely get paint on your clothes. \nThe ticket price includes on complimentary glass of wine or can of beer from our standard menu. Since it is Thursday\, you can also take advantage of our weekly special – 20% off all bottles! Should you prefer to explore our cellar with a bottle purchase\, we will gladly deduct $10 from your total bill at the end of the night. Our full kitchen menu will also be available for you to order before\, during\, or after the event.
URL:https://glencovedowntown.org/event/otherside-wine-bar-paint-your-partner/
LOCATION:Otherside Wine Bar\, 149 Glen Street\, Glen Cove\, NY\, 11542\, United States
ATTACH;FMTTYPE=image/png:https://glencovedowntown.org/wp-content/uploads/2025/04/5.png
END:VEVENT
BEGIN:VEVENT
DTSTART;TZID=America/New_York:20250405T180000
DTEND;TZID=America/New_York:20250405T210000
DTSTAMP:20260424T065821
CREATED:20250325T152954Z
LAST-MODIFIED:20250325T152954Z
UID:6883-1743876000-1743886800@glencovedowntown.org
SUMMARY:La Famiglia: Live Music
DESCRIPTION:Enjoy live music by The Liverpool 2 at La Famiglia. \nFor more information and to make a reservation call 516-759-7549 \nEvent Details: \n\nDate: Saturday\, April 5\nTime: 6:00 PM – 9:00 PM\nLocation: 5 School Street\, Glen Cove\, NY 11542
URL:https://glencovedowntown.org/event/la-famiglia-live-music-2/
LOCATION:La Famiglia\, 5 School Street\, Glen Cove\, NY\, 11542\, United States
ATTACH;FMTTYPE=image/png:https://glencovedowntown.org/wp-content/uploads/2025/03/15.png
END:VEVENT
BEGIN:VEVENT
DTSTART;TZID=America/New_York:20250402T190000
DTEND;TZID=America/New_York:20250402T210000
DTSTAMP:20260424T065821
CREATED:20250325T153556Z
LAST-MODIFIED:20250325T153556Z
UID:6886-1743620400-1743627600@glencovedowntown.org
SUMMARY:Loggia Glen Cove: Italian Citizenship Information Meeting
DESCRIPTION:MEMBERS AND NON-MEMBERS: please join us for more information on obtaining Italian Citizenship! \nEvent Details: \n\nDate: Wednesday\, April 2\, 2025\nTime: 7:00 PM\nLocation: 69 Glen Street\, Glen Cove\, NY 11542\n\nWith special guest speaker Lawyer Ulisse Antonio Pedace\, private attorney from Italy specializing in obtaining Italian citizenship
URL:https://glencovedowntown.org/event/loggia-glen-cove-italian-citizenship-information-meeting/
LOCATION:Loggia Glen Cove 1016\, 69 Glen Street\, Glen Cove\, NY\, 11542\, United States
ATTACH;FMTTYPE=image/png:https://glencovedowntown.org/wp-content/uploads/2025/03/19.png
END:VEVENT
BEGIN:VEVENT
DTSTART;TZID=America/New_York:20250329T180000
DTEND;TZID=America/New_York:20250329T210000
DTSTAMP:20260424T065821
CREATED:20250325T152245Z
LAST-MODIFIED:20250325T152245Z
UID:6876-1743271200-1743282000@glencovedowntown.org
SUMMARY:Otherside Wine Bar: Jazz Night
DESCRIPTION:JAZZ NIGHT w/ FRANK FERRARA & SPECIAL GUESTS \nEvent Details: \n\nDate: SATURDAY\, 3/29\nTime: 6:00 PM – 9:00 PM\nLocation: Otherside Wine Bar 149 Glen St. Suite 2\, Glen Cove\, NY 11542
URL:https://glencovedowntown.org/event/otherside-wine-bar-jazz-night-2/
LOCATION:Otherside Wine Bar\, 149 Glen Street\, Glen Cove\, NY\, 11542\, United States
ATTACH;FMTTYPE=image/png:https://glencovedowntown.org/wp-content/uploads/2025/03/16.png
END:VEVENT
BEGIN:VEVENT
DTSTART;TZID=America/New_York:20250329T180000
DTEND;TZID=America/New_York:20250329T210000
DTSTAMP:20260424T065821
CREATED:20250304T175359Z
LAST-MODIFIED:20250304T175359Z
UID:6851-1743271200-1743282000@glencovedowntown.org
SUMMARY:Otherside Wine Bar: Jazz Night
DESCRIPTION:Saturday\, March 29\n\n🎷 Jazz Night with Frank Ferrara & Special Guests \n\nLive jazz from 6-9 PM.\n\n$10 per person table fee.\n\nReserve your spot\n\nLocation: 149 Glen St. Suite 2\, Glen Cove\, NY 11542
URL:https://glencovedowntown.org/event/otherside-wine-bar-jazz-night/
LOCATION:Otherside Wine Bar\, 149 Glen Street\, Glen Cove\, NY\, 11542\, United States
END:VEVENT
BEGIN:VEVENT
DTSTART;VALUE=DATE:20250327
DTEND;VALUE=DATE:20250328
DTSTAMP:20260424T065821
CREATED:20250325T152554Z
LAST-MODIFIED:20250325T152554Z
UID:6879-1743033600-1743119999@glencovedowntown.org
SUMMARY:Dunkin' Grand Re-Opening
DESCRIPTION:Event Details: \n\nDate: Thursday\, March 27\nLocation: 5 Brewster Street\, Glen Cove\, NY 11542
URL:https://glencovedowntown.org/event/dunkin-grand-re-opening/
LOCATION:Dunkin’\, 5 Brewster Street\, Glen Cove\, NY\, 11542\, United States
ATTACH;FMTTYPE=image/png:https://glencovedowntown.org/wp-content/uploads/2025/03/18.png
END:VEVENT
END:VCALENDAR