BEGIN:VCALENDAR
VERSION:2.0
PRODID:-//GCBID - ECPv6.15.20//NONSGML v1.0//EN
CALSCALE:GREGORIAN
METHOD:PUBLISH
X-WR-CALNAME:GCBID
X-ORIGINAL-URL:https://glencovedowntown.org
X-WR-CALDESC:Events for GCBID
REFRESH-INTERVAL;VALUE=DURATION:PT1H
X-Robots-Tag:noindex
X-PUBLISHED-TTL:PT1H
BEGIN:VTIMEZONE
TZID:America/New_York
BEGIN:DAYLIGHT
TZOFFSETFROM:-0500
TZOFFSETTO:-0400
TZNAME:EDT
DTSTART:20240310T070000
END:DAYLIGHT
BEGIN:STANDARD
TZOFFSETFROM:-0400
TZOFFSETTO:-0500
TZNAME:EST
DTSTART:20241103T060000
END:STANDARD
BEGIN:DAYLIGHT
TZOFFSETFROM:-0500
TZOFFSETTO:-0400
TZNAME:EDT
DTSTART:20250309T070000
END:DAYLIGHT
BEGIN:STANDARD
TZOFFSETFROM:-0400
TZOFFSETTO:-0500
TZNAME:EST
DTSTART:20251102T060000
END:STANDARD
BEGIN:DAYLIGHT
TZOFFSETFROM:-0500
TZOFFSETTO:-0400
TZNAME:EDT
DTSTART:20260308T070000
END:DAYLIGHT
BEGIN:STANDARD
TZOFFSETFROM:-0400
TZOFFSETTO:-0500
TZNAME:EST
DTSTART:20261101T060000
END:STANDARD
END:VTIMEZONE
BEGIN:VEVENT
DTSTART;TZID=America/New_York:20251009T170000
DTEND;TZID=America/New_York:20251009T200000
DTSTAMP:20260424T022217
CREATED:20251007T162604Z
LAST-MODIFIED:20251007T162706Z
UID:7847-1760029200-1760040000@glencovedowntown.org
SUMMARY:Trubee Hill: Sip & Shop
DESCRIPTION:Event Details: \n\nDate: Thursday\, Oct. 9\nTime: 5:00 PM – 8:00 PM\nLocation: 100 Village Square\, Glen Cove\, NY 11542\nAdmission: Free\nParking: Free parking available in the Brewster Street and Pulaski Street parking garages
URL:https://glencovedowntown.org/event/trubee-hill-sip-shop/
LOCATION:The Shoppe by Trubee Hill\, 100 Village Square\, Glen Cove\, 11542\, United States
ATTACH;FMTTYPE=image/png:https://glencovedowntown.org/wp-content/uploads/2025/10/2.png
END:VEVENT
BEGIN:VEVENT
DTSTART;TZID=America/New_York:20251009T120000
DTEND;TZID=America/New_York:20251009T133000
DTSTAMP:20260424T022217
CREATED:20250919T154825Z
LAST-MODIFIED:20250919T154825Z
UID:7804-1760011200-1760016600@glencovedowntown.org
SUMMARY:BID Board Meeting
DESCRIPTION:The BID Board of Directors will hold its monthly meeting at 12pm. Cost for lunch is $15. RSVP to admin@glencovedowntown.org for meeting location.
URL:https://glencovedowntown.org/event/bid-board-meeting-7/
LOCATION:NY
ATTACH;FMTTYPE=image/jpeg:https://glencovedowntown.org/wp-content/uploads/2025/02/BID-Board-2025.jpg
END:VEVENT
BEGIN:VEVENT
DTSTART;TZID=America/New_York:20251004T110000
DTEND;TZID=America/New_York:20251004T160000
DTSTAMP:20260424T022217
CREATED:20250908T154310Z
LAST-MODIFIED:20250908T154310Z
UID:7760-1759575600-1759593600@glencovedowntown.org
SUMMARY:Trubee Hill: Oktoberfest
DESCRIPTION:Please join us for shopping\, specials deals\, complimentary soft pretzels\, hard and soft cider & beer \nAll shoppers that day will be entered into a $75 gift card raffle \nEvent Details: \n\nDate: Saturday\, October 4\nTime: 11:00 AM – 4:00 PM\nLocation: 100 Village Square\, Glen Cove\, NY 11542\nAdmission: Free\nParking: Free parking available in the Brewster Street and Pulaski Street parking garages
URL:https://glencovedowntown.org/event/trubee-hill-oktoberfest/
LOCATION:The Shoppe by Trubee Hill\, 100 Village Square\, Glen Cove\, 11542\, United States
ATTACH;FMTTYPE=image/png:https://glencovedowntown.org/wp-content/uploads/2025/09/5.png
END:VEVENT
BEGIN:VEVENT
DTSTART;TZID=America/New_York:20251002T190000
DTEND;TZID=America/New_York:20251002T210000
DTSTAMP:20260424T022217
CREATED:20250917T162249Z
LAST-MODIFIED:20250917T171902Z
UID:7784-1759431600-1759438800@glencovedowntown.org
SUMMARY:50 Glen St.: Craft Night
DESCRIPTION:For tickets and more information about the event: https://www.eventbrite.com/e/glen-cove-craft-night-sea-glass-pumpkin-tickets-1681010109489?aff=oddtdtcreator \nJoin us for a fun night of crafting where we will be making beautiful sea glass pumpkins! No experience necessary\, just bring your creativity. This in-person event will be held at 50 Glen St. All materials will be provided\, so just come ready to have a great time. Don’t miss out on this opportunity to create a unique piece of decor for your home! \nEvent Details: \n\nDate: Thursday\, October 2\nTime: 7:00 PM – 9:00 PM\n\nDoors open 6:45 PM\n\n\nLocation: 3rd floor 50 Glen St.\, Glen Cove\, NY 11542\nAdmission: $65\nParking: Free parking available in the Brewster Street and Pulaski Street parking garages
URL:https://glencovedowntown.org/event/50-glen-st-craft-night/
LOCATION:The Lash Queen\, 50 Glen Street Suite 305\, Glen Cove\, New York\, 11542\, United States
ATTACH;FMTTYPE=image/png:https://glencovedowntown.org/wp-content/uploads/2025/09/l.png
END:VEVENT
BEGIN:VEVENT
DTSTART;TZID=America/New_York:20250927T080000
DTEND;TZID=America/New_York:20250927T170000
DTSTAMP:20260424T022217
CREATED:20250917T164630Z
LAST-MODIFIED:20250917T164630Z
UID:7798-1758960000-1758992400@glencovedowntown.org
SUMMARY:Loggia: Outdoor Movie Night
DESCRIPTION:Watch Cabrini! \nBring your favorite chair. Light refreshments\, popcorn and soft drinks will be available for purchase. \nEvent Details: \n\nDate: Saturday\, Sept. 27\nTime: 7:00 PM – 9:00 PM\n\nPlease be seated by 6:45 PM\n\n\nLocation: Municipal parking lot\n\nAdjacent to 69 Glen St.\, Glen Cove\, NY 11542\n\n\nAdmission: Free\nParking: Free parking available in the Brewster Street and Pulaski Street parking garages
URL:https://glencovedowntown.org/event/loggia-outdoor-movie-night/
LOCATION:NY
ATTACH;FMTTYPE=image/png:https://glencovedowntown.org/wp-content/uploads/2025/09/9-1.png
END:VEVENT
BEGIN:VEVENT
DTSTART;TZID=America/New_York:20250920T100000
DTEND;TZID=America/New_York:20250920T170000
DTSTAMP:20260424T022217
CREATED:20250908T154542Z
LAST-MODIFIED:20250908T154542Z
UID:7763-1758362400-1758387600@glencovedowntown.org
SUMMARY:Looks 2 Love By Lis: Wellness Day
DESCRIPTION:Event Details: \n\nDate: Saturday\, September 20\nTime: 10:00 AM – 5:00 PM\nLocation: 3 School St. LL1\, Glen Cove\, NY 11542\nParking: Free parking available in the Brewster Street and Pulaski Street parking garages\n\nFor details or questions call 516-801-0012
URL:https://glencovedowntown.org/event/looks-2-love-by-lis-wellness-day/
LOCATION:Looks 2 Love by Lis\, 3 School Street\, LL1\, Glen Cove\, NY\, 11542\, United States
ATTACH;FMTTYPE=image/png:https://glencovedowntown.org/wp-content/uploads/2025/09/7.png
END:VEVENT
BEGIN:VEVENT
DTSTART;TZID=America/New_York:20250920T093000
DTEND;TZID=America/New_York:20250920T220000
DTSTAMP:20260424T022217
CREATED:20250908T153421Z
LAST-MODIFIED:20250909T181032Z
UID:7754-1758360600-1758405600@glencovedowntown.org
SUMMARY:Level Up Glen Cove: Pilates Workshop
DESCRIPTION:Saturday\, Sept 20 | 9:30 AM\nLevel Up Glen Cove studio \, 10 School Street\, Glen Cove\n\n\nRegister here: https://bit.ly/Coreworkshop\n\n\nRegistration required. Limited spots available — don’t miss this special one-time free workshop!\n\n\n\nIn 60 minutes\, you’ll:\n Clear up movement myths + core confusions (why crunches + planks often backfire).\n Learn how to connect to your true core for stability + strength.\n Walk away with two simple drills you can use anytime.\n\n\n Perfect for lifters\, runners\, yogis\, and desk-sitters who want a core that feels strong\, organized\, and pain-free.\n\n\n\nAbout your instructor: Leah Bush Pilates is a dual-certified Pilates teacher and Corrective Exercise Specialist\, based in Glen Cove. After rewiring her own chronic pain\, she created the 3C Reset Method™ to help active adults move with confidence\, connection\, and control.\n\n\n\n Join us at Level Up and experience the reset for yourself!\n\n\nOther upcoming Level Up events: https://www.levelupglencove.com/event-list
URL:https://glencovedowntown.org/event/level-up-glen-cove-pilates-workshop/
LOCATION:Level Up\, 10 School Street\, Glen Cove\, NY\, 11542
ATTACH;FMTTYPE=image/png:https://glencovedowntown.org/wp-content/uploads/2025/09/9.png
END:VEVENT
BEGIN:VEVENT
DTSTART;TZID=America/New_York:20250920T090000
DTEND;TZID=America/New_York:20250920T230000
DTSTAMP:20260424T022217
CREATED:20250917T163311Z
LAST-MODIFIED:20250917T163311Z
UID:7790-1758358800-1758409200@glencovedowntown.org
SUMMARY:Level Up: Community Wellness Day
DESCRIPTION:Event Details: \n\nDate: Saturday\, September 20\nTime: 9:00 AM\nLocation: 10 School St.\, Glen Cove\, NY 11542\nAdmission: Free\nParking: Free parking available in the Brewster Street and Pulaski Street parking garages\n\n\n\n\n  \n9:00 AM Joanne Accolla from Healing Headbands presents Laughter Yoga \n\n\n9:30 AM Leah Bush presents Core & Control Pilates Workshop \n\n\n\n\nPost-Event Treat \n\n\n\n\nEnjoy a sample of healthy drinks from Green Eats \n\n\n\n\nCommunity Give-Back \n\n\nBook collection for Friends of the Glen Cove Library \n\n\n\n\nFREE ADMISSION – ALL ARE WELCOME!
URL:https://glencovedowntown.org/event/level-up-community-wellness-day/
LOCATION:Level Up\, 10 School Street\, Glen Cove\, NY\, 11542
ATTACH;FMTTYPE=image/png:https://glencovedowntown.org/wp-content/uploads/2025/09/3.png
END:VEVENT
BEGIN:VEVENT
DTSTART;TZID=America/New_York:20250919T130000
DTEND;TZID=America/New_York:20250919T200000
DTSTAMP:20260424T022217
CREATED:20250917T162758Z
LAST-MODIFIED:20250917T162758Z
UID:7787-1758286800-1758312000@glencovedowntown.org
SUMMARY:Noble Savage: Cousins Maine Lobster Truck
DESCRIPTION:Join us this Friday\, September 19th from 1-8 PM for lobster and beer with Cousins Maine Lobster\n\n\nFresh lobster rolls\, cold craft beer\, and good vibes all day long — you don’t want to miss this! Bring your friends\, bring your appetite.\n\n\n\n***A huge thank you to Cousins Maine Lobster for obtaining the Glen Cove Food Truck Permit. They are one of only a handful of food trucks currently permitted in Glen Cove and we couldn’t be more thankful for them showing up. Please come by and show your support\n\n\n\n***Cousins Maine will be parked behind the brewery as requested by the City of Glen Cove. We will provide signage directing you to the rear of the building.\n\n\nEvent Details: \n\nDate: Friday\, September 19\nTime: 1:00 PM – 8:00 PM\nLocation: 27 Glen St\, Glen Cove\, NY 11542\nParking: Free parking available in the Brewster Street and Pulaski Street parking garages
URL:https://glencovedowntown.org/event/noble-savage-cousins-maine-lobster-truck/
LOCATION:Noble Savage Brewing Company\, 27 Glen Street\, Glen Cove\, NY\, 11542\, United States
ATTACH;FMTTYPE=image/png:https://glencovedowntown.org/wp-content/uploads/2025/09/2-1.png
END:VEVENT
BEGIN:VEVENT
DTSTART;TZID=America/New_York:20250913T100000
DTEND;TZID=America/New_York:20250913T170000
DTSTAMP:20260424T022217
CREATED:20250908T152908Z
LAST-MODIFIED:20250908T152908Z
UID:7751-1757757600-1757782800@glencovedowntown.org
SUMMARY:The Annual Glen Cove Street Fair
DESCRIPTION:Food\, vendors\, live music and entertainment! Put on by the City of Glen Cove\, for any questions please reach out to City Hall. \nEvent Details: \n\nDate: Saturday\, September 13\nTime: 10:00 AM – 5:00 PM\nLocation: Glen Street and School Street\, Glen Cove\, NY 11542\nAdmission: Free\nParking: Free parking available in the Brewster Street and Pulaski Street parking garages\n\n 
URL:https://glencovedowntown.org/event/the-annual-glen-cove-street-fair/
LOCATION:Downtown Glen Cove
ATTACH;FMTTYPE=image/png:https://glencovedowntown.org/wp-content/uploads/2025/09/4.png
END:VEVENT
BEGIN:VEVENT
DTSTART;TZID=America/New_York:20250829T193000
DTEND;TZID=America/New_York:20250829T213000
DTSTAMP:20260424T022217
CREATED:20250602T185925Z
LAST-MODIFIED:20250707T181025Z
UID:7210-1756495800-1756503000@glencovedowntown.org
SUMMARY:Downtown Sounds: Dr. K’s Motown Revue
DESCRIPTION:Date: Friday\, August 29 \nTime: 7:30 – 9:30pm \nLocation: 100 Village Square\, Glen Cove\, NY 11542 \nFree parking is available in the Brewster Street parking garage.
URL:https://glencovedowntown.org/event/downtown-sounds-dr-ks-motown-revue/
LOCATION:Village Square\, Glen Cove\, NY\, 11542\, United States
ATTACH;FMTTYPE=image/jpeg:https://glencovedowntown.org/wp-content/uploads/2025/05/Dr.-Ks-Motown-Revue-Promo-Picture-High-Res-Main--scaled.jpg
END:VEVENT
BEGIN:VEVENT
DTSTART;TZID=America/New_York:20250822T193000
DTEND;TZID=America/New_York:20250822T213000
DTSTAMP:20260424T022217
CREATED:20250602T185846Z
LAST-MODIFIED:20250707T181550Z
UID:7208-1755891000-1755898200@glencovedowntown.org
SUMMARY:Downtown Sounds: Vinyl Revival
DESCRIPTION:Date: Friday\, August 22 \nTime: 7:30 – 9:30pm \nLocation: 100 Village Square\, Glen Cove\, NY 11542 \nFree parking is available in the Brewster Street parking garage.
URL:https://glencovedowntown.org/event/downtown-sounds-vinyl-revival/
LOCATION:Village Square\, Glen Cove\, NY\, 11542\, United States
ATTACH;FMTTYPE=image/jpeg:https://glencovedowntown.org/wp-content/uploads/2025/06/Aug.-22-Vinyl-Revival.jpg
END:VEVENT
BEGIN:VEVENT
DTSTART;TZID=America/New_York:20250822T190000
DTEND;TZID=America/New_York:20250822T193000
DTSTAMP:20260424T022217
CREATED:20250729T162151Z
LAST-MODIFIED:20250729T162151Z
UID:7456-1755889200-1755891000@glencovedowntown.org
SUMMARY:Downtown Sounds Opener: Amelia Milo
DESCRIPTION:As a special treat\, professional singer\, actress and songwriter Amelia Milo will open this week’s Downtown Sounds concert. Amelia Milo starred as Christine in a production of “The Phantom of the Opera” in Italy last year and has performed with Andrea Bocelli on numerous occasions in the United States and Europe. She will be performing with him again in Tuscany this September. Amelia Milo grew up on Long Island and is a recent graduate of Brown University.
URL:https://glencovedowntown.org/event/downtown-sounds-opener-amelia-milo/
LOCATION:Downtown Glen Cove
ATTACH;FMTTYPE=image/jpeg:https://glencovedowntown.org/wp-content/uploads/2025/07/amelia-1.jpg
END:VEVENT
BEGIN:VEVENT
DTSTART;TZID=America/New_York:20250815T193000
DTEND;TZID=America/New_York:20250815T213000
DTSTAMP:20260424T022217
CREATED:20250602T185802Z
LAST-MODIFIED:20250707T181523Z
UID:7206-1755286200-1755293400@glencovedowntown.org
SUMMARY:Downtown Sounds: JD Leonard’s Decades of Country
DESCRIPTION:Date: Friday\, August 15 \nTime: 7:30 – 9:30pm \nLocation: 100 Village Square\, Glen Cove\, NY 11542 \nFree parking is available in the Brewster Street parking garage.
URL:https://glencovedowntown.org/event/downtown-sounds-jd-leonards-decades-of-country/
LOCATION:Village Square\, Glen Cove\, NY\, 11542\, United States
ATTACH;FMTTYPE=image/jpeg:https://glencovedowntown.org/wp-content/uploads/2025/05/0691C550-00B3-45A6-A4E7-03B76433693D-scaled.jpg
END:VEVENT
BEGIN:VEVENT
DTSTART;TZID=America/New_York:20250808T193000
DTEND;TZID=America/New_York:20250808T213000
DTSTAMP:20260424T022217
CREATED:20250602T185721Z
LAST-MODIFIED:20250707T181432Z
UID:7204-1754681400-1754688600@glencovedowntown.org
SUMMARY:Downtown Sounds: SonMilanes
DESCRIPTION:Date: Friday\, August 8 \nTime: 7:30 – 9:30pm \nLocation: 100 Village Square\, Glen Cove\, NY 11542 \nFree parking is available in the Brewster Street parking garage.
URL:https://glencovedowntown.org/event/downtown-sounds-sonmilanes/
LOCATION:Village Square\, Glen Cove\, NY\, 11542\, United States
ATTACH;FMTTYPE=image/jpeg:https://glencovedowntown.org/wp-content/uploads/2025/05/SonMilanes-Photo.jpg
END:VEVENT
BEGIN:VEVENT
DTSTART;TZID=America/New_York:20250808T190000
DTEND;TZID=America/New_York:20250808T193000
DTSTAMP:20260424T022217
CREATED:20250623T182814Z
LAST-MODIFIED:20250715T154152Z
UID:7271-1754679600-1754681400@glencovedowntown.org
SUMMARY:Teen Showcase: Jazz Hands Children's Theatre
DESCRIPTION:The Teen Showcase will begin at 7pm before the Downtown Sounds concerts \nCast members from the Jazz Hands Children’s Theatre will perform a selection of songs from an upcoming performance of “Grease.” \nThe Teen Showcase highlights local teens and their varied talents in the arts. Teens perform as opening acts to the Downtown Sounds concert performers. \nThe Teen Showcase does not happen every Friday and is subject to change. Please check our social media and website for the performer week to week. \nIf you have suggestions or interest in performing in our Teen Showcase please email us at downtownsoundsteenidol@gmail.com
URL:https://glencovedowntown.org/event/teen-showcase-jazz-hands-childrens-theatre/
LOCATION:Village Square\, Glen Cove\, NY\, 11542\, United States
ATTACH;FMTTYPE=image/png:https://glencovedowntown.org/wp-content/uploads/2025/06/DTS-2025-Program2.png
END:VEVENT
BEGIN:VEVENT
DTSTART;TZID=America/New_York:20250805T180000
DTEND;TZID=America/New_York:20250805T203000
DTSTAMP:20260424T022217
CREATED:20250610T161530Z
LAST-MODIFIED:20250610T161654Z
UID:7244-1754416800-1754425800@glencovedowntown.org
SUMMARY:National Night Out
DESCRIPTION:Event Details: \n\nDate: August 5\nTime: 6:00 PM – 8:30 PM\nLocation: Bridge Street\, Glen Cove\, NY 11542\nAdmission: Free\nParking: Free parking available in the Brewster Street and Pulaski Street parking garages
URL:https://glencovedowntown.org/event/national-night-out-3/
LOCATION:Downtown Glen Cove
ATTACH;FMTTYPE=image/jpeg:https://glencovedowntown.org/wp-content/uploads/2025/06/2025-NNO-Flyer-scaled.jpg
END:VEVENT
BEGIN:VEVENT
DTSTART;TZID=America/New_York:20250801T193000
DTEND;TZID=America/New_York:20250801T213000
DTSTAMP:20260424T022217
CREATED:20250602T185630Z
LAST-MODIFIED:20250707T181407Z
UID:7202-1754076600-1754083800@glencovedowntown.org
SUMMARY:Downtown Sounds: Lovesong
DESCRIPTION:Date: Friday\, August 1 \nTime: 7:30 – 9:30pm \nLocation: 100 Village Square\, Glen Cove\, NY 11542 \nFree parking is available in the Brewster Street parking garage.
URL:https://glencovedowntown.org/event/downtown-sounds-lovesong/
LOCATION:Village Square\, Glen Cove\, NY\, 11542\, United States
ATTACH;FMTTYPE=image/jpeg:https://glencovedowntown.org/wp-content/uploads/2023/05/Lovesong-e1684267998182.jpeg
END:VEVENT
BEGIN:VEVENT
DTSTART;TZID=America/New_York:20250801T190000
DTEND;TZID=America/New_York:20250801T193000
DTSTAMP:20260424T022217
CREATED:20250729T155849Z
LAST-MODIFIED:20250729T160154Z
UID:7452-1754074800-1754076600@glencovedowntown.org
SUMMARY:Teen Showcase: Teen Soloists
DESCRIPTION:This week’s Downtown Sounds Teen Showcase features Glen Cove residents Elena Quinones\, a 2025 graduate of Sacred Heart Academy\, and Milania Quinones\, a rising 8th-grader at St. Dominic\, singing a selection of songs ahead of the Downtown Sounds concert.
URL:https://glencovedowntown.org/event/teen-showcase-teen-soloists-2/
LOCATION:Downtown Glen Cove
END:VEVENT
BEGIN:VEVENT
DTSTART;TZID=America/New_York:20250725T193000
DTEND;TZID=America/New_York:20250725T213000
DTSTAMP:20260424T022217
CREATED:20250602T175807Z
LAST-MODIFIED:20250707T181140Z
UID:7200-1753471800-1753479000@glencovedowntown.org
SUMMARY:Downtown Sounds: Unforgettable Fire
DESCRIPTION:Date: Friday\, July 25 \nTime: 7:30 – 9:30pm \nLocation: 100 Village Square\, Glen Cove\, NY 11542 \nFree parking is available in the Brewster Street parking garage.
URL:https://glencovedowntown.org/event/downtown-sounds-unforgettable-fire/
LOCATION:Village Square\, Glen Cove\, NY\, 11542\, United States
ATTACH;FMTTYPE=image/jpeg:https://glencovedowntown.org/wp-content/uploads/2025/05/UF-PIC10.jpg
END:VEVENT
BEGIN:VEVENT
DTSTART;TZID=America/New_York:20250725T190000
DTEND;TZID=America/New_York:20250725T193000
DTSTAMP:20260424T022217
CREATED:20250623T182552Z
LAST-MODIFIED:20250715T154504Z
UID:7269-1753470000-1753471800@glencovedowntown.org
SUMMARY:Teen Showcase: Broadway on the Beach Performers
DESCRIPTION:The Teen Showcase will begin at 7pm before the Downtown Sounds concerts \nPerformance by the Broadway on the Beach performing selections of your favorite Broadway tunes. \nThe Teen Showcase highlights local teens and their varied talents in the arts. Teens perform as opening acts to the Downtown Sounds concert performers. \nThe Teen Showcase does not happen every Friday and is subject to change. Please check our social media and website for the performer week to week. \nIf you have suggestions or interest in performing in our Teen Showcase please email us at downtownsoundsteenidol@gmail.com
URL:https://glencovedowntown.org/event/teen-showcase-broadway-on-the-beach-performers/
LOCATION:Village Square\, Glen Cove\, NY\, 11542\, United States
ATTACH;FMTTYPE=image/png:https://glencovedowntown.org/wp-content/uploads/2025/06/DTS-2025-Program2.png
END:VEVENT
BEGIN:VEVENT
DTSTART;TZID=America/New_York:20250718T193000
DTEND;TZID=America/New_York:20250718T213000
DTSTAMP:20260424T022217
CREATED:20250602T175711Z
LAST-MODIFIED:20250707T181118Z
UID:7198-1752867000-1752874200@glencovedowntown.org
SUMMARY:Downtown Sounds: The Seismatics
DESCRIPTION:Date: Friday\, July 18 \nTime: 7:30 – 9:30pm \nLocation: 100 Village Square\, Glen Cove\, NY 11542 \nFree parking is available in the Brewster Street parking garage.
URL:https://glencovedowntown.org/event/downtown-sounds-the-seismatics/
LOCATION:Village Square\, Glen Cove\, NY\, 11542\, United States
ATTACH;FMTTYPE=image/png:https://glencovedowntown.org/wp-content/uploads/2025/05/THE-SEISMATICS-2025BP-BW-insta-1080-e1748627324513.png
END:VEVENT
BEGIN:VEVENT
DTSTART;TZID=America/New_York:20250718T190000
DTEND;TZID=America/New_York:20250718T193000
DTSTAMP:20260424T022217
CREATED:20250623T182434Z
LAST-MODIFIED:20250715T153852Z
UID:7267-1752865200-1752867000@glencovedowntown.org
SUMMARY:Teen Showcase: Jazz Hands Children's Theatre "High School Musical”
DESCRIPTION:The Teen Showcase will begin at 7pm before the Downtown Sounds concerts \nCast members from Jazz Hands Children’s Theatre will perform a selection of songs from an upcoming performance of “High School Musical” \nThe Teen Showcase highlights local teens and their varied talents in the arts. Teens perform as opening acts to the Downtown Sounds concert performers. \nThe Teen Showcase does not happen every Friday and is subject to change. Please check our social media and website for the performer week to week. \nThis year’s Teen Showcase will feature song performances from cast members of local theater productions \nIf you have suggestions or interest in performing in our Teen Showcase please email us at downtownsoundsteenidol@gmail.com
URL:https://glencovedowntown.org/event/teen-showcase-robert-finley-middle-school-the-addams-family/
LOCATION:Village Square\, Glen Cove\, NY\, 11542\, United States
ATTACH;FMTTYPE=image/png:https://glencovedowntown.org/wp-content/uploads/2025/06/DTS-2025-Program2.png
END:VEVENT
BEGIN:VEVENT
DTSTART;TZID=America/New_York:20250711T193000
DTEND;TZID=America/New_York:20250711T213000
DTSTAMP:20260424T022217
CREATED:20250602T175553Z
LAST-MODIFIED:20250707T181053Z
UID:7196-1752262200-1752269400@glencovedowntown.org
SUMMARY:Downtown Sounds: The 80s vs 90s Show
DESCRIPTION:Date: Friday\, July 11 \nTime: 7:30 – 9:30pm \nLocation: 100 Village Square\, Glen Cove\, NY 11542 \nFree parking is available in the Brewster Street parking garage.
URL:https://glencovedowntown.org/event/downtown-sounds-the-80s-vs-90s-show/
LOCATION:Village Square\, Glen Cove\, NY\, 11542\, United States
ATTACH;FMTTYPE=image/jpeg:https://glencovedowntown.org/wp-content/uploads/2025/05/80s90sPromoShot-3-scaled.jpg
END:VEVENT
BEGIN:VEVENT
DTSTART;TZID=America/New_York:20250711T190000
DTEND;TZID=America/New_York:20250711T193000
DTSTAMP:20260424T022217
CREATED:20250623T182221Z
LAST-MODIFIED:20250623T182221Z
UID:7264-1752260400-1752262200@glencovedowntown.org
SUMMARY:Teen Showcase: Glen Cove High School "Chicago"
DESCRIPTION:The Teen Showcase will begin at 7pm before the Downtown Sounds concerts \nCast members from the Glen Cove High School Masquers will perform a selection of songs from this year’s performance of “Chicago” \nThe Teen Showcase highlights local teens and their varied talents in the arts. Teens perform as opening acts to the Downtown Sounds concert performers. \nThe Teen Showcase does not happen every Friday and is subject to change. Please check our social media and website for the performer week to week. \nThis year’s Teen Showcase will feature song performances from cast members of local theater productions \nIf you have suggestions or interest in performing in our Teen Showcase please email us at downtownsoundsteenidol@gmail.com
URL:https://glencovedowntown.org/event/teen-showcase-glen-cove-high-school-chicago/
LOCATION:Village Square\, Glen Cove\, NY\, 11542\, United States
END:VEVENT
BEGIN:VEVENT
DTSTART;TZID=America/New_York:20250628T120000
DTEND;TZID=America/New_York:20250628T160000
DTSTAMP:20260424T022217
CREATED:20250610T161137Z
LAST-MODIFIED:20250610T161137Z
UID:7241-1751112000-1751126400@glencovedowntown.org
SUMMARY:The Shoppe by Trubee Hill: Three Year Anniversary
DESCRIPTION:Stop by to celebrate!  \nEvent Details: \n\nDate: Saturday\, June 28\nTime: 12:00 PM – 4:00 PM\nLocation: 100 Village Square\, Glen Cove\, NY 11542\nAdmission: Free
URL:https://glencovedowntown.org/event/the-shoppe-by-trubee-hill-three-year-anniversary/
LOCATION:The Shoppe by Trubee Hill\, 100 Village Square\, Glen Cove\, 11542\, United States
ATTACH;FMTTYPE=image/png:https://glencovedowntown.org/wp-content/uploads/2025/06/69-615-2025-Instagram-Posts-1.png
END:VEVENT
BEGIN:VEVENT
DTSTART;TZID=America/New_York:20250628T110000
DTEND;TZID=America/New_York:20250628T120000
DTSTAMP:20260424T022217
CREATED:20250613T184920Z
LAST-MODIFIED:20250613T184920Z
UID:7248-1751108400-1751112000@glencovedowntown.org
SUMMARY:Ribbon Cutting: Kelly Music Center
DESCRIPTION:Join us as we welcome Kelly Music Center \nDate: Saturday\, June 28 \nTime: 11:00 am \nLocation: 62 School Street\, Glen Cove\, NY 11542 \nParking: Free parking available in the Brewster Street and Pulaski Street parking garages
URL:https://glencovedowntown.org/event/ribbon-cutting-kelly-music-center/
LOCATION:Kelly Music Center\, 62 School St\, Glen Cove\, NY\, 11542\, United States
ATTACH;FMTTYPE=image/png:https://glencovedowntown.org/wp-content/uploads/2025/06/23.png
END:VEVENT
BEGIN:VEVENT
DTSTART;TZID=America/New_York:20250627T140000
DTEND;TZID=America/New_York:20250627T160000
DTSTAMP:20260424T022217
CREATED:20250613T185212Z
LAST-MODIFIED:20250613T185221Z
UID:7252-1751032800-1751040000@glencovedowntown.org
SUMMARY:Ribbon Cutting: Celebrating Mary Stanco's 20 Years of Real Estate
DESCRIPTION:Event Details: \n\nDate: Friday\, June 27\nTime: 2:00 PM\nLocation: 50 School St\, Suite 2\, Glen Cove\, NY 11542\nParking: Free parking available in the Brewster Street and Pulaski Street parking garages
URL:https://glencovedowntown.org/event/ribbon-cutting-celebrating-mary-stancos-20-years-of-real-estate/
LOCATION:NY
ATTACH;FMTTYPE=image/png:https://glencovedowntown.org/wp-content/uploads/2025/06/21.png
END:VEVENT
BEGIN:VEVENT
DTSTART;TZID=America/New_York:20250621T160000
DTEND;TZID=America/New_York:20250621T190000
DTSTAMP:20260424T022217
CREATED:20250515T194207Z
LAST-MODIFIED:20250515T194207Z
UID:7132-1750521600-1750532400@glencovedowntown.org
SUMMARY:Otherside Wine Bar: Jazz on the Patio
DESCRIPTION:JAZZ on the PATIO feat. Frank Ferrara & Special Guests \nOutdoor show \nNo reservations required \nEvent Details: \n\nDate: Saturday\, June 21st\nTime: 4:00 PM – 7:00 PM\nLocation: 149 Glen Street Suite 2\, Glen Cove\, NY 11542\n\nFor more information: https://otherside.wine/events
URL:https://glencovedowntown.org/event/otherside-wine-bar-jazz-on-the-patio-2/
LOCATION:Otherside Wine Bar\, 149 Glen Street\, Glen Cove\, NY\, 11542\, United States
ATTACH;FMTTYPE=image/png:https://glencovedowntown.org/wp-content/uploads/2025/05/4.png
END:VEVENT
BEGIN:VEVENT
DTSTART;TZID=America/New_York:20250619T183000
DTEND;TZID=America/New_York:20250619T203000
DTSTAMP:20260424T022217
CREATED:20250515T194725Z
LAST-MODIFIED:20250522T182815Z
UID:7134-1750357800-1750365000@glencovedowntown.org
SUMMARY:Otherside Wine Bar: Paint Your Partner
DESCRIPTION:PAINT YOUR PARTNER with Michelle Lee \nEvent Details: \n\nDate: Thursday\, June 19th\nTime: 6:30 PM – 8:30 PM\nLocation: 149 Glen Street Suite 2\, Glen Cove\, NY 11542\nAdmission: $50 per person\n\nFor tickets: Otherside Wine Bar Restaurant – Glen Cove\, NY | OpenTable \nFor more information: https://otherside.wine/events
URL:https://glencovedowntown.org/event/otherside-wine-bar-paint-your-partner-3/
LOCATION:Otherside Wine Bar\, 149 Glen Street\, Glen Cove\, NY\, 11542\, United States
ATTACH;FMTTYPE=image/png:https://glencovedowntown.org/wp-content/uploads/2025/05/4.png
END:VEVENT
END:VCALENDAR