BEGIN:VCALENDAR
VERSION:2.0
PRODID:-//GCBID - ECPv6.15.20//NONSGML v1.0//EN
CALSCALE:GREGORIAN
METHOD:PUBLISH
X-WR-CALNAME:GCBID
X-ORIGINAL-URL:https://glencovedowntown.org
X-WR-CALDESC:Events for GCBID
REFRESH-INTERVAL;VALUE=DURATION:PT1H
X-Robots-Tag:noindex
X-PUBLISHED-TTL:PT1H
BEGIN:VTIMEZONE
TZID:America/New_York
BEGIN:DAYLIGHT
TZOFFSETFROM:-0500
TZOFFSETTO:-0400
TZNAME:EDT
DTSTART:20210314T070000
END:DAYLIGHT
BEGIN:STANDARD
TZOFFSETFROM:-0400
TZOFFSETTO:-0500
TZNAME:EST
DTSTART:20211107T060000
END:STANDARD
BEGIN:DAYLIGHT
TZOFFSETFROM:-0500
TZOFFSETTO:-0400
TZNAME:EDT
DTSTART:20220313T070000
END:DAYLIGHT
BEGIN:STANDARD
TZOFFSETFROM:-0400
TZOFFSETTO:-0500
TZNAME:EST
DTSTART:20221106T060000
END:STANDARD
BEGIN:DAYLIGHT
TZOFFSETFROM:-0500
TZOFFSETTO:-0400
TZNAME:EDT
DTSTART:20230312T070000
END:DAYLIGHT
BEGIN:STANDARD
TZOFFSETFROM:-0400
TZOFFSETTO:-0500
TZNAME:EST
DTSTART:20231105T060000
END:STANDARD
BEGIN:DAYLIGHT
TZOFFSETFROM:-0500
TZOFFSETTO:-0400
TZNAME:EDT
DTSTART:20240310T070000
END:DAYLIGHT
BEGIN:STANDARD
TZOFFSETFROM:-0400
TZOFFSETTO:-0500
TZNAME:EST
DTSTART:20241103T060000
END:STANDARD
END:VTIMEZONE
BEGIN:VEVENT
DTSTART;TZID=America/New_York:20230420T100000
DTEND;TZID=America/New_York:20230420T110000
DTSTAMP:20260425T114216
CREATED:20230406T154051Z
LAST-MODIFIED:20230406T154051Z
UID:3324-1681984800-1681988400@glencovedowntown.org
SUMMARY:Library Walking Club
DESCRIPTION:Join the library group for something new: an at-your-own-pace hour walk every Thursday morning at 10:00am. The group will meet at the Glen Cove Public Library. All fitness levels are welcome\, and everyone is encouraged to go at their own pace. The goal is to meet people\, keep moving and see sights in Glen Cove.
URL:https://glencovedowntown.org/event/library-walking-club/
LOCATION:Glen Cove Library\, 4 Glen Cove Avenue\, Glen Cove\, NY\, 11542\, United States
END:VEVENT
BEGIN:VEVENT
DTSTART;TZID=America/New_York:20230419T190000
DTEND;TZID=America/New_York:20230419T200000
DTSTAMP:20260425T114216
CREATED:20230407T152029Z
LAST-MODIFIED:20230407T152029Z
UID:3338-1681930800-1681934400@glencovedowntown.org
SUMMARY:Nature Nurtures: A Photographic Exploration of the North Shore
DESCRIPTION:Opening reception for Nature Nurtures. Amateur photographer and Glen Cove resident Jan Guga showcases over 10 years of local nature photography at the North Shore Historical Museum. Free. Refreshments served.
URL:https://glencovedowntown.org/event/nature-nurtures-a-photographic-exploration-of-the-north-shore/
LOCATION:North Shore Historical Museum\, 140 Glen Street\, Glen Cove\, NY\, 11542\, United States
END:VEVENT
BEGIN:VEVENT
DTSTART;TZID=America/New_York:20230413T140000
DTEND;TZID=America/New_York:20230413T150000
DTSTAMP:20260425T114216
CREATED:20230406T151332Z
LAST-MODIFIED:20230406T151332Z
UID:3320-1681394400-1681398000@glencovedowntown.org
SUMMARY:Family Puppet Show
DESCRIPTION:Families with children ages 3-10 can enjoy a puppet show at the Glen Cove Library with Steve Petra of Petra Puppets. Registration required; for Glen Cove Library cardholders only.
URL:https://glencovedowntown.org/event/family-puppet-show/
LOCATION:Glen Cove Library\, 4 Glen Cove Avenue\, Glen Cove\, NY\, 11542\, United States
END:VEVENT
BEGIN:VEVENT
DTSTART;TZID=America/New_York:20230412T090000
DTEND;TZID=America/New_York:20230412T140000
DTSTAMP:20260425T114216
CREATED:20230406T151641Z
LAST-MODIFIED:20230406T151641Z
UID:3322-1681290000-1681308000@glencovedowntown.org
SUMMARY:AARP Tax Assistance at the Library
DESCRIPTION:Get in-person tax assistance at the Glen Cove Library. This is the final date before taxes are due.
URL:https://glencovedowntown.org/event/aarp-tax-assistance-at-the-library-2/
LOCATION:Glen Cove Library\, 4 Glen Cove Avenue\, Glen Cove\, NY\, 11542\, United States
END:VEVENT
BEGIN:VEVENT
DTSTART;TZID=America/New_York:20230406T120000
DTEND;TZID=America/New_York:20230406T130000
DTSTAMP:20260425T114216
CREATED:20230316T200759Z
LAST-MODIFIED:20230329T153621Z
UID:3200-1680782400-1680786000@glencovedowntown.org
SUMMARY:BID Monthly Meeting
DESCRIPTION:The BID Board of Directors will hold its monthly meeting at noon at Asian Fusion. Cost for lunch is $15. Call (516) 759-6970 to RSVP.
URL:https://glencovedowntown.org/event/bid-monthly-meeting/
LOCATION:Asian Fusion\, 66 School St.\, Glen Cove\, NY\, 11542\, United States
END:VEVENT
BEGIN:VEVENT
DTSTART;TZID=America/New_York:20230330T183000
DTEND;TZID=America/New_York:20230330T203000
DTSTAMP:20260425T114216
CREATED:20230317T160823Z
LAST-MODIFIED:20230317T160823Z
UID:3211-1680201000-1680208200@glencovedowntown.org
SUMMARY:Pressed Flower Fox for Teens
DESCRIPTION:Pressed flower art is the latest craze in the craft world! Teens can learn this technique using dried flowers\, a simple collage method\, and watercolor paints. Pre-made templates will be supplied\, or use your creativity to make your own design. Have some fun and then go home with a beautiful piece of artwork to frame! At the Glen Cove Library.
URL:https://glencovedowntown.org/event/pressed-flower-fox-for-teens/
LOCATION:Glen Cove Library\, 4 Glen Cove Avenue\, Glen Cove\, NY\, 11542\, United States
END:VEVENT
BEGIN:VEVENT
DTSTART;TZID=America/New_York:20230329T140000
DTEND;TZID=America/New_York:20230329T150000
DTSTAMP:20260425T114216
CREATED:20230317T160337Z
LAST-MODIFIED:20230317T160337Z
UID:3209-1680098400-1680102000@glencovedowntown.org
SUMMARY:Book Discussion
DESCRIPTION:Head to the Glen Cove Library for a discussion of The Love of My Life\, a love story shrouded in a mystery. It explores important questions about trust\, betrayal\, trauma\, and when it’s acceptable to keep secrets from one’s spouse. The book discussion takes place in the History Room.
URL:https://glencovedowntown.org/event/book-discussion/
LOCATION:Glen Cove Library\, 4 Glen Cove Avenue\, Glen Cove\, NY\, 11542\, United States
END:VEVENT
BEGIN:VEVENT
DTSTART;TZID=America/New_York:20230325T140000
DTEND;TZID=America/New_York:20230325T160000
DTSTAMP:20260425T114216
CREATED:20230215T172842Z
LAST-MODIFIED:20230215T172842Z
UID:2975-1679752800-1679760000@glencovedowntown.org
SUMMARY:Tara Rider: The swashbuckling history of women in piracy
DESCRIPTION:In the predominantly male world of seafaring\, metaphors about mysterious and destructive femininity have been consistently link to the sea. Yet flesh and blood women sailed on ships\, steered them\, commanded them\, commandeered them\, and sank with them. Spanning the globe and centuries\, female pirates have sailed the seas\, captivating audiences\, both in their own times and today. Head to the North Shore Historical Museum to explore the history of the notorious female pirates and decide whether they were rogues\, she-devils\, or trailblazers?
URL:https://glencovedowntown.org/event/tara-rider-the-swashbuckling-history-of-women-in-piracy/
LOCATION:North Shore Historical Museum\, 140 Glen Street\, Glen Cove\, NY\, 11542\, United States
ATTACH;FMTTYPE=image/webp:https://glencovedowntown.org/wp-content/uploads/2023/02/FemalePirates.webp
END:VEVENT
BEGIN:VEVENT
DTSTART;TZID=America/New_York:20230321T190000
DTEND;TZID=America/New_York:20230321T200000
DTSTAMP:20260425T114216
CREATED:20230317T160003Z
LAST-MODIFIED:20230317T160003Z
UID:3207-1679425200-1679428800@glencovedowntown.org
SUMMARY:Library Budget Hearing/Meet the Candidates
DESCRIPTION:A hearing on the Glen Cove Library budget and a chance to meet the trustee candidates will be held in the History Room.  The Glen Cove Public Library will present its annual budget to the residents of Glen Cove for a vote on Tuesday\, April 4\, 2023. Polls will be open from 9am to 9pm.  The public will be asked to vote for one member of the five-member Library Board of Trustees for a five-year term. \n\n 
URL:https://glencovedowntown.org/event/library-budget-hearing-meet-the-candidates/
LOCATION:Glen Cove Library\, 4 Glen Cove Avenue\, Glen Cove\, NY\, 11542\, United States
END:VEVENT
BEGIN:VEVENT
DTSTART;TZID=America/New_York:20230319T130000
DTEND;TZID=America/New_York:20230319T143000
DTSTAMP:20260425T114216
CREATED:20230308T205554Z
LAST-MODIFIED:20230308T205554Z
UID:3181-1679230800-1679236200@glencovedowntown.org
SUMMARY:St. Patrick's Day Parade
DESCRIPTION:The annual St. Patrick’s Day Parade kicks off at Finley Middle School at 1pm then continues down School Street to Glen Street. This year\, the viewing stand is at Village Square. The excitement continues with the annual St. Baldricks head shaving event at The Downtown Cafe in support of childhood cancer research.
URL:https://glencovedowntown.org/event/st-patricks-day-parade/
LOCATION:Village Square\, Glen Cove\, NY\, 11542\, United States
END:VEVENT
BEGIN:VEVENT
DTSTART;TZID=America/New_York:20230309T180000
DTEND;TZID=America/New_York:20230309T200000
DTSTAMP:20260425T114216
CREATED:20230210T212132Z
LAST-MODIFIED:20230210T212152Z
UID:2967-1678384800-1678392000@glencovedowntown.org
SUMMARY:BID Annual Meeting
DESCRIPTION:The Glen Cove Downtown BID will hold its Annual Meeting at 6pm. View a presentation of all of the events\, programs and improvements the BID did for downtown businesses and the community in 2022 and learn how it can help your business achieve greater success. RSVP required: (516) 759-6970
URL:https://glencovedowntown.org/event/bid-annual-meeting/
LOCATION:Looks 2 Love by Lis\, 3 School Street\, LL1\, Glen Cove\, NY\, 11542\, United States
ATTACH;FMTTYPE=image/png:https://glencovedowntown.org/wp-content/uploads/2023/02/MeetingInvite.png
END:VEVENT
BEGIN:VEVENT
DTSTART;TZID=America/New_York:20230222T183000
DTEND;TZID=America/New_York:20230222T220000
DTSTAMP:20260425T114216
CREATED:20230215T174613Z
LAST-MODIFIED:20230215T174613Z
UID:2982-1677090600-1677103200@glencovedowntown.org
SUMMARY:Motown Night at La Bussola
DESCRIPTION:Have dinner with a live show featuring MOJO. Dinner starts at 6:30pm\, with the show at 7pm. Cost for the three-course dinner and live show is $69 plus tax and gratuity. \nCall for reservations: 516-671-2100. Please call the restaurant for dinner menu information this event
URL:https://glencovedowntown.org/event/motown-night-at-la-bussola/
LOCATION:La Bussola Ristorante\, 40 School Street\, Glen Cove\, NY\, 11542\, United States
END:VEVENT
BEGIN:VEVENT
DTSTART;TZID=America/New_York:20230221T140000
DTEND;TZID=America/New_York:20230221T150000
DTSTAMP:20260425T114216
CREATED:20230215T173123Z
LAST-MODIFIED:20230215T173123Z
UID:2980-1676988000-1676991600@glencovedowntown.org
SUMMARY:Family Magic Show
DESCRIPTION:Experience the Family Magic Show with David Funn at the Glen Cove Library. Families of all ages will be treated to a special show.
URL:https://glencovedowntown.org/event/family-magic-show/
LOCATION:Glen Cove Library\, 4 Glen Cove Avenue\, Glen Cove\, NY\, 11542\, United States
END:VEVENT
BEGIN:VEVENT
DTSTART;TZID=America/New_York:20230211T120000
DTEND;TZID=America/New_York:20230211T170000
DTSTAMP:20260425T114216
CREATED:20230202T155345Z
LAST-MODIFIED:20230202T155345Z
UID:2816-1676116800-1676134800@glencovedowntown.org
SUMMARY:Basic Makeup 101
DESCRIPTION:Learns the basics of makeup and get a first peak at the new beauty boutique Looks 2 Love by Lis on Feb. 11\, from 12-5pm. Class includes a goodie bag\, a makeup guide\, a Valentine’s gift\, mimosas and a certificate of completion.
URL:https://glencovedowntown.org/event/basic-makeup-101/
LOCATION:Looks 2 Love by Lis\, 3 School Street\, LL1\, Glen Cove\, NY\, 11542\, United States
ATTACH;FMTTYPE=image/jpeg:https://glencovedowntown.org/wp-content/uploads/2023/02/MakeUpLessonFlyer.jpeg
END:VEVENT
BEGIN:VEVENT
DTSTART;TZID=America/New_York:20230210T153000
DTEND;TZID=America/New_York:20230210T163000
DTSTAMP:20260425T114216
CREATED:20230202T212001Z
LAST-MODIFIED:20230202T212001Z
UID:2850-1676043000-1676046600@glencovedowntown.org
SUMMARY:Ribbon Cutting\, Yoga TwoPointOm
DESCRIPTION:Join TwoPointOm yoga studio for a ribbon cutting on Friday\, Feb. 10\, at 3:30pm\, 50 Glen Street.
URL:https://glencovedowntown.org/event/ribbon-cutting-yoga-twopointom/
LOCATION:TwoPointOm yoga studio\, 50 Glen Street\, Glen Cove\, NY\, 11542
END:VEVENT
BEGIN:VEVENT
DTSTART;TZID=America/New_York:20230202T120000
DTEND;TZID=America/New_York:20230202T133000
DTSTAMP:20260425T114216
CREATED:20230109T151348Z
LAST-MODIFIED:20230112T214400Z
UID:2611-1675339200-1675344600@glencovedowntown.org
SUMMARY:BID Board of Directors Meeting
DESCRIPTION:The BID Board of Directors will hold its monthly meeting at noon at Downtown Cafe. Cost for lunch is $15. Call (516) 759-6970 to RSVP.
URL:https://glencovedowntown.org/event/bid-board-of-directors-meeting-6/
LOCATION:Downtown Cafe\, Glen Cove\, NY\, 11542\, United States
END:VEVENT
BEGIN:VEVENT
DTSTART;TZID=America/New_York:20230201T093000
DTEND;TZID=America/New_York:20230201T133000
DTSTAMP:20260425T114216
CREATED:20230109T150421Z
LAST-MODIFIED:20230109T150421Z
UID:2607-1675243800-1675258200@glencovedowntown.org
SUMMARY:AARP Tax Assistance at the Library
DESCRIPTION:Free tax help is available to individuals of all ages and provided by AARP trained volunteers on a first-come\, first-served basis.  Be sure to bring your tax package\, W-2 forms\, your real estate property tax bill\, a copy of your 2021 tax return and any other information that might be helpful in correctly filing your tax return. Both spouses must be present for married couples filing joint tax returns.  Call the Glen Cove Library’s Information desk to schedule your appointment.  Please note: Masks are required to be worn at all times while receiving tax assistance regardless of vaccination status.
URL:https://glencovedowntown.org/event/aarp-tax-assistance-at-the-library/
LOCATION:Glen Cove Library\, 4 Glen Cove Avenue\, Glen Cove\, NY\, 11542\, United States
END:VEVENT
BEGIN:VEVENT
DTSTART;TZID=America/New_York:20230125T190000
DTEND;TZID=America/New_York:20230125T220000
DTSTAMP:20260425T114216
CREATED:20230106T183648Z
LAST-MODIFIED:20230106T183648Z
UID:2604-1674673200-1674684000@glencovedowntown.org
SUMMARY:Motown Tribute at La Bussola
DESCRIPTION:See Mojo at La Bussola Ristorante on Jan. 25. Tickets are $69 for a three-course dinner and the live show. Seating is limited; call (516) 671-2100 for reservations.
URL:https://glencovedowntown.org/event/motown-tribute-at-la-bussola/
LOCATION:La Bussola Ristorante\, 40 School Street\, Glen Cove\, NY\, 11542\, United States
END:VEVENT
BEGIN:VEVENT
DTSTART;TZID=America/New_York:20230124T190000
DTEND;TZID=America/New_York:20230124T220000
DTSTAMP:20260425T114216
CREATED:20230105T150311Z
LAST-MODIFIED:20230105T151814Z
UID:2601-1674586800-1674597600@glencovedowntown.org
SUMMARY:Burns Night at the Museum
DESCRIPTION:A celebration of the famous Bard of Scotland and all things Scottish will take place at the North Shore Historical Museum\, 140 Glen Street\, at 7 p.m. on Tuesday\, Jan. 24. The evening will include poetry\, music\, food\, Scotch whiskey\, and the Tribute to the Haggis recited by Scotsman David McCormick. Other performers include Calum Pasqua\, Gaitley Stevenson-Mathews and Jim Stevenson-Mathews. Tickets are $25. Go to www.northshorehistoricalmuseum.org to purchase tickets and for more information.
URL:https://glencovedowntown.org/event/burns-night-at-the-museum/
LOCATION:NY
ATTACH;FMTTYPE=image/jpeg:https://glencovedowntown.org/wp-content/uploads/2023/01/Burns-night-pano.jpg
END:VEVENT
BEGIN:VEVENT
DTSTART;TZID=America/New_York:20230105T120000
DTEND;TZID=America/New_York:20230105T133000
DTSTAMP:20260425T114216
CREATED:20230103T200115Z
LAST-MODIFIED:20230103T200115Z
UID:2599-1672920000-1672925400@glencovedowntown.org
SUMMARY:BID Board of Directors Meeting
DESCRIPTION:
URL:https://glencovedowntown.org/event/bid-board-of-directors-meeting-5/
LOCATION:NY
END:VEVENT
BEGIN:VEVENT
DTSTART;TZID=America/New_York:20230101T193000
DTEND;TZID=America/New_York:20230101T213000
DTSTAMP:20260425T114216
CREATED:20221230T194123Z
LAST-MODIFIED:20230103T194623Z
UID:2593-1672601400-1672608600@glencovedowntown.org
SUMMARY:Downtown Sounds New Year's Eve Concert
DESCRIPTION:
URL:https://glencovedowntown.org/event/downtown-sounds-new-years-eve-concert/
LOCATION:Village Square\, Glen Cove\, NY\, 11542\, United States
ATTACH;FMTTYPE=image/png:https://glencovedowntown.org/wp-content/uploads/2023/01/Happy-New-Year6.png
END:VEVENT
BEGIN:VEVENT
DTSTART;TZID=America/New_York:20221203T133000
DTEND;TZID=America/New_York:20221203T163000
DTSTAMP:20260425T114216
CREATED:20221014T141242Z
LAST-MODIFIED:20221116T210357Z
UID:2303-1670074200-1670085000@glencovedowntown.org
SUMMARY:Holiday Festival in Village Square
DESCRIPTION:The free event goes from 1:30 to 4:45pm in Village Square\, with Horse & Carriage Rides\, all-day entertainment\, photos with Santa\, train rides\, a stocking decorating station and a hot cocoa bar. Followed by the City of Glen Cove’s tree-lighting ceremony at 4:45pm.
URL:https://glencovedowntown.org/event/holiday-festival-in-village-square/
LOCATION:NY
ATTACH;FMTTYPE=image/png:https://glencovedowntown.org/wp-content/uploads/2022/10/Glen-Cove-Downtown-B.I.D.-Holiday-Festival.png
END:VEVENT
BEGIN:VEVENT
DTSTART;TZID=America/New_York:20221201T120000
DTEND;TZID=America/New_York:20221201T133000
DTSTAMP:20260425T114216
CREATED:20221116T210623Z
LAST-MODIFIED:20221116T210623Z
UID:2510-1669896000-1669901400@glencovedowntown.org
SUMMARY:BID Board of Directors Meeting
DESCRIPTION:The Glen Cove Downtown BID will hold its monthly Board of Directors meeting at Tava Fine Indian Cuisine\, 61 Glen Street\, at 12pm. Cost for lunch is $15. RSVP to (516) 759-6970.
URL:https://glencovedowntown.org/event/bid-board-of-directors-meeting-4/
LOCATION:NY
END:VEVENT
BEGIN:VEVENT
DTSTART;TZID=America/New_York:20221117T140000
DTEND;TZID=America/New_York:20221117T143000
DTSTAMP:20260425T114216
CREATED:20221116T211137Z
LAST-MODIFIED:20221116T211137Z
UID:2513-1668693600-1668695400@glencovedowntown.org
SUMMARY:Threading & Beauty Lounge Ribbon Cutting
DESCRIPTION:Celebrate the grand opening of Glen Cove’s newest downtown business\, Threading & Beauty Lounge at 34 Glen Street. at 2pm.
URL:https://glencovedowntown.org/event/threading-beauty-lounge-ribbon-cutting/
LOCATION:NY
END:VEVENT
BEGIN:VEVENT
DTSTART;TZID=America/New_York:20221103T120000
DTEND;TZID=America/New_York:20221103T130000
DTSTAMP:20260425T114216
CREATED:20221014T141024Z
LAST-MODIFIED:20221014T141050Z
UID:2300-1667476800-1667480400@glencovedowntown.org
SUMMARY:BID Board of Directors Meeting
DESCRIPTION:Thursday\, Nov. 3: BID Board of Directors Meeting\, at 12pm\, location TBD. Cost for lunch is $15. \nCall (516) 759-6970 to RSVP.
URL:https://glencovedowntown.org/event/bid-board-of-directors-meeting-3/
LOCATION:NY
END:VEVENT
BEGIN:VEVENT
DTSTART;TZID=America/New_York:20221029T193000
DTEND;TZID=America/New_York:20221029T213000
DTSTAMP:20260425T114216
CREATED:20221018T154149Z
LAST-MODIFIED:20221018T154149Z
UID:2318-1667071800-1667079000@glencovedowntown.org
SUMMARY:Halloween After Dark
DESCRIPTION:
URL:https://glencovedowntown.org/event/halloween-after-dark/
LOCATION:Village Square\, Glen Cove\, NY\, 11542\, United States
ATTACH;FMTTYPE=image/png:https://glencovedowntown.org/wp-content/uploads/2022/10/halloween-party.png
END:VEVENT
BEGIN:VEVENT
DTSTART;TZID=America/New_York:20221029T133000
DTEND;TZID=America/New_York:20221029T153000
DTSTAMP:20260425T114216
CREATED:20221004T174903Z
LAST-MODIFIED:20221018T153311Z
UID:2005-1667050200-1667057400@glencovedowntown.org
SUMMARY:Halloween Parade and Festival
DESCRIPTION:
URL:https://glencovedowntown.org/event/halloween-parade-and-festival/
LOCATION:Village Square\, Glen Cove\, NY\, 11542\, United States
ATTACH;FMTTYPE=image/png:https://glencovedowntown.org/wp-content/uploads/2022/10/Childrens-Annual-Halloween-Parade-Festival.png
END:VEVENT
BEGIN:VEVENT
DTSTART;TZID=America/New_York:20221006T120000
DTEND;TZID=America/New_York:20221006T133000
DTSTAMP:20260425T114216
CREATED:20221004T174123Z
LAST-MODIFIED:20221004T174123Z
UID:2002-1665057600-1665063000@glencovedowntown.org
SUMMARY:BID Board of Directors
DESCRIPTION:
URL:https://glencovedowntown.org/event/bid-board-of-directors/
LOCATION:La Famiglia\, 5 School Street\, Glen Cove\, NY\, 11542\, United States
END:VEVENT
BEGIN:VEVENT
DTSTART;TZID=America/New_York:20220727T193000
DTEND;TZID=America/New_York:20220727T213000
DTSTAMP:20260425T114216
CREATED:20220727T162950Z
LAST-MODIFIED:20220727T163003Z
UID:1591-1658950200-1658957400@glencovedowntown.org
SUMMARY:Strawberry Fields Tribute to the Beatles
DESCRIPTION:On Friday July 29 Strawberry Fields will perform a tribute to the Beatles at Downtown Sounds.
URL:https://glencovedowntown.org/event/strawberry-fields-tribute-to-the-beatles/
LOCATION:Downtown Sounds
END:VEVENT
BEGIN:VEVENT
DTSTART;TZID=America/New_York:20220707T120000
DTEND;TZID=America/New_York:20220707T130000
DTSTAMP:20260425T114216
CREATED:20220629T192010Z
LAST-MODIFIED:20220629T192010Z
UID:1484-1657195200-1657198800@glencovedowntown.org
SUMMARY:BID Board of Directors Meeting
DESCRIPTION:The meeting begins at 12:00. The cost for lunch is $12.00 Please call 516-759-6970 to RSVP.
URL:https://glencovedowntown.org/event/bid-board-of-directors-meeting-2/
LOCATION:Downtown Cafe\, Glen Cove\, NY\, 11542\, United States
END:VEVENT
END:VCALENDAR