BEGIN:VCALENDAR
VERSION:2.0
PRODID:-//GCBID - ECPv6.15.20//NONSGML v1.0//EN
CALSCALE:GREGORIAN
METHOD:PUBLISH
X-WR-CALNAME:GCBID
X-ORIGINAL-URL:https://glencovedowntown.org
X-WR-CALDESC:Events for GCBID
REFRESH-INTERVAL;VALUE=DURATION:PT1H
X-Robots-Tag:noindex
X-PUBLISHED-TTL:PT1H
BEGIN:VTIMEZONE
TZID:America/New_York
BEGIN:DAYLIGHT
TZOFFSETFROM:-0500
TZOFFSETTO:-0400
TZNAME:EDT
DTSTART:20220313T070000
END:DAYLIGHT
BEGIN:STANDARD
TZOFFSETFROM:-0400
TZOFFSETTO:-0500
TZNAME:EST
DTSTART:20221106T060000
END:STANDARD
BEGIN:DAYLIGHT
TZOFFSETFROM:-0500
TZOFFSETTO:-0400
TZNAME:EDT
DTSTART:20230312T070000
END:DAYLIGHT
BEGIN:STANDARD
TZOFFSETFROM:-0400
TZOFFSETTO:-0500
TZNAME:EST
DTSTART:20231105T060000
END:STANDARD
BEGIN:DAYLIGHT
TZOFFSETFROM:-0500
TZOFFSETTO:-0400
TZNAME:EDT
DTSTART:20240310T070000
END:DAYLIGHT
BEGIN:STANDARD
TZOFFSETFROM:-0400
TZOFFSETTO:-0500
TZNAME:EST
DTSTART:20241103T060000
END:STANDARD
END:VTIMEZONE
BEGIN:VEVENT
DTSTART;TZID=America/New_York:20230728T193000
DTEND;TZID=America/New_York:20230728T213000
DTSTAMP:20260425T075124
CREATED:20230424T203332Z
LAST-MODIFIED:20230620T140231Z
UID:3400-1690572600-1690579800@glencovedowntown.org
SUMMARY:Downtown Sounds: Paradigm
DESCRIPTION:An 11-Piece Powerhouse Band
URL:https://glencovedowntown.org/event/downtown-sounds-outdoor-concert-series/
LOCATION:Village Square\, Glen Cove\, NY\, 11542\, United States
ATTACH;FMTTYPE=image/jpeg:https://glencovedowntown.org/wp-content/uploads/2023/05/Paradigm-Downtown-Sounds.jpeg
END:VEVENT
BEGIN:VEVENT
DTSTART;TZID=America/New_York:20230728T190000
DTEND;TZID=America/New_York:20230728T193000
DTSTAMP:20260425T075124
CREATED:20230620T141159Z
LAST-MODIFIED:20230620T141159Z
UID:3601-1690570800-1690572600@glencovedowntown.org
SUMMARY:Teen Idol Contest
DESCRIPTION:Open to Gold Coast residents ages 13 to 18\, Downtown Sounds Teen Idol showcases local emerging talent\, and the top finalists will perform live during the Downtown Sounds 2023 concert series.
URL:https://glencovedowntown.org/event/teen-idol-contest-4/
LOCATION:NY
ATTACH;FMTTYPE=image/jpeg:https://glencovedowntown.org/wp-content/uploads/2023/06/Downtown-Sounds-Teen-Idol-2023.jpg
END:VEVENT
BEGIN:VEVENT
DTSTART;TZID=America/New_York:20230721T193000
DTEND;TZID=America/New_York:20230721T213000
DTSTAMP:20260425T075124
CREATED:20230424T203237Z
LAST-MODIFIED:20230620T140254Z
UID:3398-1689967800-1689975000@glencovedowntown.org
SUMMARY:Downtown Sounds: Lovesong
DESCRIPTION:An ’80s New Wave Tribute Band
URL:https://glencovedowntown.org/event/downtown-sounds-3/
LOCATION:Village Square\, Glen Cove\, NY\, 11542\, United States
ATTACH;FMTTYPE=image/jpeg:https://glencovedowntown.org/wp-content/uploads/2023/05/Lovesong-e1684267998182.jpeg
END:VEVENT
BEGIN:VEVENT
DTSTART;TZID=America/New_York:20230721T190000
DTEND;TZID=America/New_York:20230721T193000
DTSTAMP:20260425T075124
CREATED:20230620T141127Z
LAST-MODIFIED:20230620T141127Z
UID:3599-1689966000-1689967800@glencovedowntown.org
SUMMARY:Teen Idol Contest
DESCRIPTION:Open to Gold Coast residents ages 13 to 18\, Downtown Sounds Teen Idol showcases local emerging talent\, and the top finalists will perform live during the Downtown Sounds 2023 concert series.
URL:https://glencovedowntown.org/event/teen-idol-contest-3/
LOCATION:NY
ATTACH;FMTTYPE=image/jpeg:https://glencovedowntown.org/wp-content/uploads/2023/06/Downtown-Sounds-Teen-Idol-2023.jpg
END:VEVENT
BEGIN:VEVENT
DTSTART;TZID=America/New_York:20230720T140000
DTEND;TZID=America/New_York:20230720T150000
DTSTAMP:20260425T075124
CREATED:20230801T184622Z
LAST-MODIFIED:20230801T184622Z
UID:3830-1689861600-1689865200@glencovedowntown.org
SUMMARY:Rumble Boxing Grand Opening
DESCRIPTION:
URL:https://glencovedowntown.org/event/rumble-boxing-grand-opening/
LOCATION:Rumble Boxing\, 100 Village Square\, Glen Cove\, NY\, 11542\, United States
ATTACH;FMTTYPE=image/png:https://glencovedowntown.org/wp-content/uploads/2023/07/731-86-2023-Instagram-Posts-e1703621007481.png
END:VEVENT
BEGIN:VEVENT
DTSTART;TZID=America/New_York:20230714T193000
DTEND;TZID=America/New_York:20230714T213000
DTSTAMP:20260425T075124
CREATED:20230424T203136Z
LAST-MODIFIED:20230620T140311Z
UID:3396-1689363000-1689370200@glencovedowntown.org
SUMMARY:Downtown Sounds: Best Shot
DESCRIPTION:A Tribute to Pat Benatar
URL:https://glencovedowntown.org/event/downtown-sounds-2/
LOCATION:Village Square\, Glen Cove\, NY\, 11542\, United States
ATTACH;FMTTYPE=image/jpeg:https://glencovedowntown.org/wp-content/uploads/2023/05/CKP_6939wLogo-scaled-e1684268213467.jpeg
END:VEVENT
BEGIN:VEVENT
DTSTART;TZID=America/New_York:20230714T190000
DTEND;TZID=America/New_York:20230714T193000
DTSTAMP:20260425T075124
CREATED:20230620T141054Z
LAST-MODIFIED:20230620T141054Z
UID:3597-1689361200-1689363000@glencovedowntown.org
SUMMARY:Teen Idol Contest
DESCRIPTION:Open to Gold Coast residents ages 13 to 18\, Downtown Sounds Teen Idol showcases local emerging talent\, and the top finalists will perform live during the Downtown Sounds 2023 concert series.
URL:https://glencovedowntown.org/event/teen-idol-contest-2/
LOCATION:NY
ATTACH;FMTTYPE=image/jpeg:https://glencovedowntown.org/wp-content/uploads/2023/06/Downtown-Sounds-Teen-Idol-2023.jpg
END:VEVENT
BEGIN:VEVENT
DTSTART;TZID=America/New_York:20230707T193000
DTEND;TZID=America/New_York:20230707T213000
DTSTAMP:20260425T075124
CREATED:20230424T203010Z
LAST-MODIFIED:20230620T135616Z
UID:3394-1688758200-1688765400@glencovedowntown.org
SUMMARY:Downtown Sounds: Sir Duke
DESCRIPTION:A Tribute to Stevie Wonder
URL:https://glencovedowntown.org/event/downtown-sounds/
LOCATION:Village Square\, Glen Cove\, NY\, 11542\, United States
ATTACH;FMTTYPE=image/jpeg:https://glencovedowntown.org/wp-content/uploads/2023/05/SirDuke_1200x1200.jpg
END:VEVENT
BEGIN:VEVENT
DTSTART;TZID=America/New_York:20230707T190000
DTEND;TZID=America/New_York:20230707T193000
DTSTAMP:20260425T075124
CREATED:20230620T140840Z
LAST-MODIFIED:20230620T140919Z
UID:3593-1688756400-1688758200@glencovedowntown.org
SUMMARY:Teen Idol Contest
DESCRIPTION:Open to Gold Coast residents ages 13 to 18\, Downtown Sounds Teen Idol showcases local emerging talent\, and the top finalists will perform live during the Downtown Sounds 2023 concert series.
URL:https://glencovedowntown.org/event/teen-idol-contest/
LOCATION:NY
ATTACH;FMTTYPE=image/jpeg:https://glencovedowntown.org/wp-content/uploads/2023/06/Downtown-Sounds-Teen-Idol-2023.jpg
END:VEVENT
BEGIN:VEVENT
DTSTART;TZID=America/New_York:20230706T120000
DTEND;TZID=America/New_York:20230706T130000
DTSTAMP:20260425T075124
CREATED:20230518T163307Z
LAST-MODIFIED:20230518T163307Z
UID:3534-1688644800-1688648400@glencovedowntown.org
SUMMARY:BID Board of Directors Meeting
DESCRIPTION:The BID Board of Directors will hold its monthly meeting at noon\, location TBD.
URL:https://glencovedowntown.org/event/bid-board-of-directors-meeting-8/
LOCATION:NY
END:VEVENT
BEGIN:VEVENT
DTSTART;TZID=America/New_York:20230620T140000
DTEND;TZID=America/New_York:20230620T150000
DTSTAMP:20260425T075124
CREATED:20230620T135748Z
LAST-MODIFIED:20230620T135748Z
UID:3578-1687269600-1687273200@glencovedowntown.org
SUMMARY:The Regency 30th Anniversary Ribbon Cutting
DESCRIPTION:
URL:https://glencovedowntown.org/event/the-regency-30th-anniversary-ribbon-cutting/
LOCATION:NY
ATTACH;FMTTYPE=application/pdf:https://glencovedowntown.org/wp-content/uploads/2023/06/Regency-RibbonCutting-flyer-5.2.23.pdf
END:VEVENT
BEGIN:VEVENT
DTSTART;TZID=America/New_York:20230615T180000
DTEND;TZID=America/New_York:20230615T210000
DTSTAMP:20260425T075124
CREATED:20230609T152604Z
LAST-MODIFIED:20230609T152604Z
UID:3558-1686852000-1686862800@glencovedowntown.org
SUMMARY:Autostrade
DESCRIPTION:First City Project will host Autostrade after a seven-year hiatus. Head downtown from 6-9pm to view the collection of luxury cars. The event will be on School\, Glen and Bridge Streets downtown Glen Cove.
URL:https://glencovedowntown.org/event/autostrade/
LOCATION:NY
END:VEVENT
BEGIN:VEVENT
DTSTART;TZID=America/New_York:20230610T090000
DTEND;TZID=America/New_York:20230610T130000
DTSTAMP:20260425T075124
CREATED:20230609T152830Z
LAST-MODIFIED:20230609T152830Z
UID:3560-1686387600-1686402000@glencovedowntown.org
SUMMARY:Deep Roots Farmers Market in Village Square
DESCRIPTION:Deep Roots Farmers Market will take place in Village Square on Saturday\, June 10\, from 9am to 1pm.
URL:https://glencovedowntown.org/event/deep-roots-farmers-market-in-village-square/
LOCATION:Village Square\, Glen Cove\, NY\, 11542\, United States
ATTACH;FMTTYPE=image/jpeg:https://glencovedowntown.org/wp-content/uploads/2023/06/352796954_179704865069151_3118981254609603179_n.jpg
END:VEVENT
BEGIN:VEVENT
DTSTART;TZID=America/New_York:20230601T120000
DTEND;TZID=America/New_York:20230601T130000
DTSTAMP:20260425T075124
CREATED:20230518T163118Z
LAST-MODIFIED:20230518T163118Z
UID:3532-1685620800-1685624400@glencovedowntown.org
SUMMARY:BID Board of Director's Meeting
DESCRIPTION:The Glen Cove Downtown Business Improvement District Board of Directors will hold its monthly meeting on Thursday\, June 1\, at noon\, at La Famiglia. Cost for lunch is $15. Call 516-759-6970 to RSVP.
URL:https://glencovedowntown.org/event/bid-board-of-directors-meeting-7/
LOCATION:La Famiglia\, 5 School Street\, Glen Cove\, NY\, 11542\, United States
END:VEVENT
BEGIN:VEVENT
DTSTART;TZID=America/New_York:20230529T120000
DTEND;TZID=America/New_York:20230529T130000
DTSTAMP:20260425T075124
CREATED:20230518T161137Z
LAST-MODIFIED:20230518T161137Z
UID:3527-1685361600-1685365200@glencovedowntown.org
SUMMARY:Glen Cove Memorial Day Parade
DESCRIPTION:The annual Memorial Day Parade begins at noon at the corner of Forest Ave. & Cottage Row\, proceeding down School Street through downtown Glen Cove.
URL:https://glencovedowntown.org/event/glen-cove-memorial-day-parade/
LOCATION:NY
END:VEVENT
BEGIN:VEVENT
DTSTART;TZID=America/New_York:20230528T100000
DTEND;TZID=America/New_York:20230528T170000
DTSTAMP:20260425T075124
CREATED:20230421T175921Z
LAST-MODIFIED:20230421T175921Z
UID:3386-1685268000-1685293200@glencovedowntown.org
SUMMARY:Glen Cove Street Fair
DESCRIPTION:Nassau County Art Craft Gift and Street Fair\, in association with the City of Glen Cove\, presents the Glen Cove Street Fair from 10am to 5pm on Saturday\, May 27 and Sunday\, May 28. School\, Glen and Bridge Streets will be filled with vendors\, food trucks and live entertainment. Free admission.
URL:https://glencovedowntown.org/event/glen-cove-street-fair-2/
LOCATION:1 Bridge Street\, 1 Bridge Street\, Glen Cove\, 11542
ATTACH;FMTTYPE=image/jpeg:https://glencovedowntown.org/wp-content/uploads/2023/04/STREET-FAIR-2023-FLYER.jpg
END:VEVENT
BEGIN:VEVENT
DTSTART;TZID=America/New_York:20230527T100000
DTEND;TZID=America/New_York:20230527T170000
DTSTAMP:20260425T075124
CREATED:20230421T175758Z
LAST-MODIFIED:20230421T175758Z
UID:3382-1685181600-1685206800@glencovedowntown.org
SUMMARY:Glen Cove Street Fair
DESCRIPTION:Nassau County Art Craft Gift and Street Fair\, in association with the City of Glen Cove\, presents the Glen Cove Street Fair from 10am to 5pm on Saturday\, May 27 and Sunday\, May 28. School\, Glen and Bridge Streets will be filled with vendors\, food trucks and live entertainment. Free admission.
URL:https://glencovedowntown.org/event/glen-cove-street-fair/
LOCATION:1 Bridge Street\, 1 Bridge Street\, Glen Cove\, 11542
ATTACH;FMTTYPE=image/jpeg:https://glencovedowntown.org/wp-content/uploads/2023/04/STREET-FAIR-2023-FLYER.jpg
END:VEVENT
BEGIN:VEVENT
DTSTART;TZID=America/New_York:20230527T090000
DTEND;TZID=America/New_York:20230527T140000
DTSTAMP:20260425T075124
CREATED:20230317T161331Z
LAST-MODIFIED:20230317T161440Z
UID:3213-1685178000-1685196000@glencovedowntown.org
SUMMARY:CluedUpp Games - Alice in Wonderland
DESCRIPTION:For one day only\, the streets of Glen Cove will turn into a giant\, escape-room-style experience on Saturday\, May 27\, from 9am to 2pm as participants of the CluedUpp Games Alice in Wonderland Experience solve clues which just get curiouser and curiouser\, take on mad and mischievous challenges\, and uncover a dark conspiracy at the heart of Wonderland. Registration is required for this event. Go to CluedUpp Games for more information.
URL:https://glencovedowntown.org/event/cluedupp-games-alice-in-wonderland/
LOCATION:Downtown Glen Cove
END:VEVENT
BEGIN:VEVENT
DTSTART;TZID=America/New_York:20230525T170000
DTEND;TZID=America/New_York:20230525T190000
DTSTAMP:20260425T075124
CREATED:20230518T162341Z
LAST-MODIFIED:20230518T162341Z
UID:3529-1685034000-1685041200@glencovedowntown.org
SUMMARY:Founder's Day Celebration
DESCRIPTION:Celebrate the 355th anniversary of the founding of Glen Cove with a celebration at Meritage Wine Bar from 5-7pm.
URL:https://glencovedowntown.org/event/founders-day-celebration/
LOCATION:Meritage Wine Bar\, 90 School Street\, Glen Cove\, NY\, 11542
ATTACH;FMTTYPE=image/jpeg:https://glencovedowntown.org/wp-content/uploads/2023/05/347595970_6176763359076830_3288698345313226551_n.jpg
END:VEVENT
BEGIN:VEVENT
DTSTART;TZID=America/New_York:20230522T163000
DTEND;TZID=America/New_York:20230522T173000
DTSTAMP:20260425T075124
CREATED:20230518T155733Z
LAST-MODIFIED:20230518T155733Z
UID:3525-1684773000-1684776600@glencovedowntown.org
SUMMARY:Student Art Reception & Banner Unveiling
DESCRIPTION:The Glen Cove Downtown B.I.D. is holding a reception for the Glen Cove High School art students who designed the new banners for Downtown Sounds at 4:30pm in Village Square.
URL:https://glencovedowntown.org/event/student-art-reception-banner-unveiling/
LOCATION:NY
END:VEVENT
BEGIN:VEVENT
DTSTART;TZID=America/New_York:20230520T120000
DTEND;TZID=America/New_York:20230520T140000
DTSTAMP:20260425T075124
CREATED:20230419T170604Z
LAST-MODIFIED:20230419T170604Z
UID:3364-1684584000-1684591200@glencovedowntown.org
SUMMARY:Cookbook Club
DESCRIPTION:This bi-monthly club at the Glen Cove Library is for adults who enjoy cooking and sharing food together. Each club meeting will feature a selected cookbook\, and members will prepare a tasty treat from the book to bring to the library and share. This week’s selection is Alice’s Tea House. Come dressed for the occasion and enjoy scones\, cakes\, sandwiches\, and tea.
URL:https://glencovedowntown.org/event/cookbook-club/
LOCATION:Glen Cove Library\, 4 Glen Cove Avenue\, Glen Cove\, NY\, 11542\, United States
END:VEVENT
BEGIN:VEVENT
DTSTART;TZID=America/New_York:20230520T110000
DTEND;TZID=America/New_York:20230520T120000
DTSTAMP:20260425T075124
CREATED:20230424T204740Z
LAST-MODIFIED:20230424T204740Z
UID:3410-1684580400-1684584000@glencovedowntown.org
SUMMARY:Ribbon Cutting: Level Up
DESCRIPTION:
URL:https://glencovedowntown.org/event/ribbon-cutting-level-up/
LOCATION:Level Up\, 10 School Street\, Glen Cove\, NY\, 11542
END:VEVENT
BEGIN:VEVENT
DTSTART;TZID=America/New_York:20230518T143000
DTEND;TZID=America/New_York:20230518T153000
DTSTAMP:20260425T075124
CREATED:20230424T205312Z
LAST-MODIFIED:20230509T155408Z
UID:3416-1684420200-1684423800@glencovedowntown.org
SUMMARY:Ribbon Cutting: Village Square Pharmacy
DESCRIPTION:The Glen Cove Downtown Business Improvement District welcomes Village Square Pharmacy with a ribbon-cutting ceremony on Thursday\, May 18\, at 2:30pm.
URL:https://glencovedowntown.org/event/ribbon-cutting-village-square-pharmacy/
LOCATION:Village Square\, Glen Cove\, NY\, 11542\, United States
ATTACH;FMTTYPE=image/png:https://glencovedowntown.org/wp-content/uploads/2023/04/Village-Square-Pharmacy-Updated.png
END:VEVENT
BEGIN:VEVENT
DTSTART;TZID=America/New_York:20230516T113000
DTEND;TZID=America/New_York:20230516T123000
DTSTAMP:20260425T075124
CREATED:20230501T174019Z
LAST-MODIFIED:20230501T174019Z
UID:3424-1684236600-1684240200@glencovedowntown.org
SUMMARY:Ribbon Cutting: North Shore Gold & Diamond
DESCRIPTION:North Shore Gold & Diamond is celebrating its 43rd anniversary. This milestone will be marked with a ribbon cutting ceremony on May 16 at 11:30am. Those interested in joining the celebration can email info@glencovedowntown.org or call (516) 759-6970
URL:https://glencovedowntown.org/event/ribbon-cutting-north-shore-gold-diamond/
LOCATION:North Shore Gold & Diamond\, 15 Glen Street\, Glen Cove\, NY\, 11542
ATTACH;FMTTYPE=image/png:https://glencovedowntown.org/wp-content/uploads/2023/05/NS-Gold-Diamond-ribbon-cutting.png
END:VEVENT
BEGIN:VEVENT
DTSTART;TZID=America/New_York:20230515T110000
DTEND;TZID=America/New_York:20230515T120000
DTSTAMP:20260425T075124
CREATED:20230421T165415Z
LAST-MODIFIED:20230509T154904Z
UID:3379-1684148400-1684152000@glencovedowntown.org
SUMMARY:Ribbon Cutting: Healthy Meals Direct
DESCRIPTION:The Glen Cove Downtown Business Improvement welcomes Healthy Meals Direct to 9 Bridge Street with a ribbon-cutting ceremony at 11am.
URL:https://glencovedowntown.org/event/ribbon-cutting-healthy-meals-direct/
LOCATION:Healthy Meals Direct\, 9 Bridge Street\, Glen Cove\, NY\, 11542
ATTACH;FMTTYPE=image/png:https://glencovedowntown.org/wp-content/uploads/2023/04/HMD-Updated.png
END:VEVENT
BEGIN:VEVENT
DTSTART;TZID=America/New_York:20230505T170000
DTEND;TZID=America/New_York:20230505T220000
DTSTAMP:20260425T075124
CREATED:20230421T164813Z
LAST-MODIFIED:20230421T164813Z
UID:3376-1683306000-1683324000@glencovedowntown.org
SUMMARY:TequilaFest at Meritage
DESCRIPTION:Head to Meritage Wine Bar at 90 School Street for a Cinco de Mayo TequilaFest. Cost is $50 for open tequila and taco bar\, or enjoy $5 margaritas and $3 tacos. Call (516) 801-0055.
URL:https://glencovedowntown.org/event/tequilafest-at-meritage/
LOCATION:Meritage Wine Bar\, 90 School Street\, Glen Cove\, NY\, 11542
ATTACH;FMTTYPE=image/jpeg:https://glencovedowntown.org/wp-content/uploads/2023/04/342562976_161696746531480_1611874703479217354_n.jpg
END:VEVENT
BEGIN:VEVENT
DTSTART;TZID=America/New_York:20230504T193000
DTEND;TZID=America/New_York:20230504T213000
DTSTAMP:20260425T075124
CREATED:20230421T153916Z
LAST-MODIFIED:20230421T153916Z
UID:3372-1683228600-1683235800@glencovedowntown.org
SUMMARY:Wine Tasting at Meritage
DESCRIPTION:Meritage Wine Bar hosts a wine tasting honoring the career of Jim Clendenen of Clendenen Family Vineyards at 7:30pm. Five courses with five wines. Cost $70 per person. Call (516) 801-0055 for reservations.
URL:https://glencovedowntown.org/event/wine-tasting-at-meritage/
LOCATION:Meritage Wine Bar\, 90 School Street\, Glen Cove\, NY\, 11542
ATTACH;FMTTYPE=image/jpeg:https://glencovedowntown.org/wp-content/uploads/2023/04/342056738_234479165843541_4745297955978355320_n.jpg
END:VEVENT
BEGIN:VEVENT
DTSTART;TZID=America/New_York:20230504T120000
DTEND;TZID=America/New_York:20230504T130000
DTSTAMP:20260425T075124
CREATED:20230419T165016Z
LAST-MODIFIED:20230419T165016Z
UID:3361-1683201600-1683205200@glencovedowntown.org
SUMMARY:BID Board of Directors Monthly Meeting
DESCRIPTION:The Glen Cove Downtown BID Board of Directors will hold its monthly meeting at 12pm at Jalisco Cocina Mexicana\, 100 School Street. Cost for lunch is $15. Please RSVP to (516) 759-6970.
URL:https://glencovedowntown.org/event/bid-board-of-directors-monthly-meeting/
LOCATION:Jalisco Cocina Mexicana & Tequila Bar\, 100 School Street\, Glen Cove\, 11542\, United States
END:VEVENT
BEGIN:VEVENT
DTSTART;TZID=America/New_York:20230429T160000
DTEND;TZID=America/New_York:20230429T170000
DTSTAMP:20260425T075124
CREATED:20230407T153342Z
LAST-MODIFIED:20230407T153342Z
UID:3340-1682784000-1682787600@glencovedowntown.org
SUMMARY:The Great American Songbook & Broadway Tunes
DESCRIPTION:Glen Cove tenor and music performance major Joe Stroppel and pianist Tess Loucka present Songs From the Golden Age. Refreshments served. Cost is $20 for general admission\, $15 for members or $10 children. Go to www.northshorehistoricalmusem.org purchase tickets.
URL:https://glencovedowntown.org/event/the-great-american-songbook-broadway-tunes/
LOCATION:North Shore Historical Museum\, 140 Glen Street\, Glen Cove\, NY\, 11542\, United States
END:VEVENT
BEGIN:VEVENT
DTSTART;TZID=America/New_York:20230429T140000
DTEND;TZID=America/New_York:20230429T150000
DTSTAMP:20260425T075124
CREATED:20230403T133139Z
LAST-MODIFIED:20230405T193613Z
UID:3310-1682776800-1682780400@glencovedowntown.org
SUMMARY:Ribbon Cutting: Blossom Day Spa and Nails
DESCRIPTION:
URL:https://glencovedowntown.org/event/ribbon-cutting-blossom-day-spa-and-nails/
LOCATION:Blossom Day Spa & Nails\, 17 Glen Street\, Glen Cove\, NY\, 11542
ATTACH;FMTTYPE=image/png:https://glencovedowntown.org/wp-content/uploads/2023/04/Ribbon-cutting-invitations1.png
END:VEVENT
END:VCALENDAR