BEGIN:VCALENDAR
VERSION:2.0
PRODID:-//GCBID - ECPv6.15.20//NONSGML v1.0//EN
CALSCALE:GREGORIAN
METHOD:PUBLISH
X-WR-CALNAME:GCBID
X-ORIGINAL-URL:https://glencovedowntown.org
X-WR-CALDESC:Events for GCBID
REFRESH-INTERVAL;VALUE=DURATION:PT1H
X-Robots-Tag:noindex
X-PUBLISHED-TTL:PT1H
BEGIN:VTIMEZONE
TZID:America/New_York
BEGIN:DAYLIGHT
TZOFFSETFROM:-0500
TZOFFSETTO:-0400
TZNAME:EDT
DTSTART:20220313T070000
END:DAYLIGHT
BEGIN:STANDARD
TZOFFSETFROM:-0400
TZOFFSETTO:-0500
TZNAME:EST
DTSTART:20221106T060000
END:STANDARD
BEGIN:DAYLIGHT
TZOFFSETFROM:-0500
TZOFFSETTO:-0400
TZNAME:EDT
DTSTART:20230312T070000
END:DAYLIGHT
BEGIN:STANDARD
TZOFFSETFROM:-0400
TZOFFSETTO:-0500
TZNAME:EST
DTSTART:20231105T060000
END:STANDARD
BEGIN:DAYLIGHT
TZOFFSETFROM:-0500
TZOFFSETTO:-0400
TZNAME:EDT
DTSTART:20240310T070000
END:DAYLIGHT
BEGIN:STANDARD
TZOFFSETFROM:-0400
TZOFFSETTO:-0500
TZNAME:EST
DTSTART:20241103T060000
END:STANDARD
BEGIN:DAYLIGHT
TZOFFSETFROM:-0500
TZOFFSETTO:-0400
TZNAME:EDT
DTSTART:20250309T070000
END:DAYLIGHT
BEGIN:STANDARD
TZOFFSETFROM:-0400
TZOFFSETTO:-0500
TZNAME:EST
DTSTART:20251102T060000
END:STANDARD
END:VTIMEZONE
BEGIN:VEVENT
DTSTART;TZID=America/New_York:20240221T183000
DTEND;TZID=America/New_York:20240221T210000
DTSTAMP:20260425T090026
CREATED:20240111T202047Z
LAST-MODIFIED:20240111T202047Z
UID:4483-1708540200-1708549200@glencovedowntown.org
SUMMARY:La Bussola's Stand Up Comedy Night
DESCRIPTION:
URL:https://glencovedowntown.org/event/la-bussolas-stand-up-comedy-night/
LOCATION:La Bussola Ristorante\, 40 School Street\, Glen Cove\, NY\, 11542\, United States
ATTACH;FMTTYPE=image/jpeg:https://glencovedowntown.org/wp-content/uploads/2024/01/419045141_862029509259541_5633841566160229531_n.jpg
END:VEVENT
BEGIN:VEVENT
DTSTART;TZID=America/New_York:20240210T180000
DTEND;TZID=America/New_York:20240210T200000
DTSTAMP:20260425T090026
CREATED:20240131T194421Z
LAST-MODIFIED:20240131T194421Z
UID:4557-1707588000-1707595200@glencovedowntown.org
SUMMARY:Chef Moris Cafe Cooking Event
DESCRIPTION:Join as Chef Moris teaches you all their secrets around the kitchen. \nCall 516-200-5010 to reserve. \n$65.00 per person not including tax and tip.
URL:https://glencovedowntown.org/event/chef-moris-cafe-cooking-event/
LOCATION:Scoop N Fruit\, 8 School Street\, Glen Cove\, NY\, 11542\, United States
ATTACH;FMTTYPE=image/png:https://glencovedowntown.org/wp-content/uploads/2024/01/Chef-Moris-1.png
END:VEVENT
BEGIN:VEVENT
DTSTART;TZID=America/New_York:20240208T183000
DTEND;TZID=America/New_York:20240208T210000
DTSTAMP:20260425T090026
CREATED:20240111T201743Z
LAST-MODIFIED:20240111T201743Z
UID:4480-1707417000-1707426000@glencovedowntown.org
SUMMARY:La Bussola's Disco Night
DESCRIPTION:
URL:https://glencovedowntown.org/event/la-bussolas-disco-night/
LOCATION:La Bussola Ristorante\, 40 School Street\, Glen Cove\, NY\, 11542\, United States
ATTACH;FMTTYPE=image/jpeg:https://glencovedowntown.org/wp-content/uploads/2024/01/419082869_862029432592882_8624669749400300463_n.jpg
END:VEVENT
BEGIN:VEVENT
DTSTART;TZID=America/New_York:20240204T140000
DTEND;TZID=America/New_York:20240204T170000
DTSTAMP:20260425T090026
CREATED:20240111T202240Z
LAST-MODIFIED:20240111T202732Z
UID:4486-1707055200-1707066000@glencovedowntown.org
SUMMARY:Quakerism and Slavery at The North Shore Historical Museum
DESCRIPTION:Friends Academy senior M. William Green presents an overview of the Quaker faith and the role Quakerism played in the abolition of slavery in America and Long Island. \nFree.  All are welcome. \nFor more information visit: Upcoming Events | NSHM (northshorehistoricalmuseum.org)
URL:https://glencovedowntown.org/event/quakerism-and-slavery-at-the-north-shore-historical-museum/
LOCATION:North Shore Historical Museum\, 140 Glen Street\, Glen Cove\, NY\, 11542\, United States
ATTACH;FMTTYPE=image/png:https://glencovedowntown.org/wp-content/uploads/2024/01/Quakerism-and-Slavery.png
END:VEVENT
BEGIN:VEVENT
DTSTART;TZID=America/New_York:20240201T120000
DTEND;TZID=America/New_York:20240201T133000
DTSTAMP:20260425T090026
CREATED:20240111T203857Z
LAST-MODIFIED:20240131T203801Z
UID:4503-1706788800-1706794200@glencovedowntown.org
SUMMARY:BID Board Meeting
DESCRIPTION:
URL:https://glencovedowntown.org/event/bid-board-meeting/
LOCATION:Downtown Cafe\, Glen Cove\, NY\, 11542\, United States
END:VEVENT
BEGIN:VEVENT
DTSTART;TZID=America/New_York:20240130T190000
DTEND;TZID=America/New_York:20240130T210000
DTSTAMP:20260425T090026
CREATED:20240119T192637Z
LAST-MODIFIED:20240119T220817Z
UID:4538-1706641200-1706648400@glencovedowntown.org
SUMMARY:City of Glen Cove Comprehensive Plan Public Workshop and Committee Public Hearing
DESCRIPTION:Para leer este folleto en español haga clic aquí \nEveryone is invited to participate in the second public workshop and Committee\nPublic Hearing for the Glen Cove Comprehensive Plan. Your comments and\nideas will help shape the new Plan for the City. Please attend! \nTo learn more\, visit: www.GlenCoveComprehensivePlan.com
URL:https://glencovedowntown.org/event/city-of-glen-cove-comprehensive-plan-public-workshop-and-committee-public-hearing/
LOCATION:Glen Cove City Hall\, 9 Glen St.\, Glen Cove\, NY\, 11542\, United States
ATTACH;FMTTYPE=application/pdf:https://glencovedowntown.org/wp-content/uploads/2024/01/1-30-24-Comp-Plan-Public-Workshop-Flyer_English.pdf
END:VEVENT
BEGIN:VEVENT
DTSTART;TZID=America/New_York:20240120T140000
DTEND;TZID=America/New_York:20240120T170000
DTSTAMP:20260425T090026
CREATED:20240111T202656Z
LAST-MODIFIED:20240111T202656Z
UID:4492-1705759200-1705770000@glencovedowntown.org
SUMMARY:Hicks Nursery and the Rise and Fall of the Gold Coast Estates at The North Shore Historical Museum
DESCRIPTION:Lecture with Richard Panchyk\n \nHicks Nurseries was very important to the Gold Coast estates that were being built  from 1900 to the 1920s as they offered the ability to supply fully grown trees to the estate owners to create a landscape that looks like it has been there. \nLearn about the creation of these estates from the perspective of the company that made the “new” appear to have been there forever. \n$10 \n$5 Members (use coupon 2024 member) \n\nFor more information visit: Upcoming Events | NSHM (northshorehistoricalmuseum.org)
URL:https://glencovedowntown.org/event/hicks-nursery-and-the-rise-and-fall-of-the-gold-coast-estates-at-the-north-shore-historical-museum/
LOCATION:North Shore Historical Museum\, 140 Glen Street\, Glen Cove\, NY\, 11542\, United States
ATTACH;FMTTYPE=image/jpeg:https://glencovedowntown.org/wp-content/uploads/2024/01/Hicks-STH-1-1536x1108-1.jpg
END:VEVENT
BEGIN:VEVENT
DTSTART;TZID=America/New_York:20240116T190000
DTEND;TZID=America/New_York:20240116T210000
DTSTAMP:20260425T090026
CREATED:20240111T201612Z
LAST-MODIFIED:20240111T202109Z
UID:4477-1705431600-1705438800@glencovedowntown.org
SUMMARY:The Downtown Cafe Trivia Night
DESCRIPTION:
URL:https://glencovedowntown.org/event/the-downtown-cafe-trivia-night/
LOCATION:Downtown Cafe\, Glen Cove\, NY\, 11542\, United States
ATTACH;FMTTYPE=image/jpeg:https://glencovedowntown.org/wp-content/uploads/2024/01/418426873_18407631262043217_6608837582713286307_n.jpg
END:VEVENT
BEGIN:VEVENT
DTSTART;TZID=America/New_York:20240115T090000
DTEND;TZID=America/New_York:20240115T120000
DTSTAMP:20260425T090026
CREATED:20240111T201248Z
LAST-MODIFIED:20240111T201248Z
UID:4470-1705309200-1705320000@glencovedowntown.org
SUMMARY:NOSH MLK Day Food Drive
DESCRIPTION:
URL:https://glencovedowntown.org/event/nosh-mlk-day-food-drive/
LOCATION:finley middle schol
ATTACH;FMTTYPE=image/jpeg:https://glencovedowntown.org/wp-content/uploads/2024/01/418435464_18010444535187842_4490794572369752430_n.jpg
END:VEVENT
BEGIN:VEVENT
DTSTART;TZID=America/New_York:20231231T193000
DTEND;TZID=America/New_York:20231231T213000
DTSTAMP:20260425T090026
CREATED:20230816T201427Z
LAST-MODIFIED:20231201T203702Z
UID:4010-1704051000-1704058200@glencovedowntown.org
SUMMARY:Downtown Sounds New Year's Eve
DESCRIPTION:Ring in the New Year at Village Square with a special Downtown Sounds New Year’s Eve concert. The Dance Mechanics will perform from 7:30-9:30pm.
URL:https://glencovedowntown.org/event/downtown-sounds-new-years-eve/
LOCATION:Village Square\, Glen Cove\, NY\, 11542\, United States
ATTACH;FMTTYPE=image/png:https://glencovedowntown.org/wp-content/uploads/2023/08/NYE-DTS-Flyer-2023-.png
END:VEVENT
BEGIN:VEVENT
DTSTART;TZID=America/New_York:20231214T180000
DTEND;TZID=America/New_York:20231214T220000
DTSTAMP:20260425T090026
CREATED:20231106T184028Z
LAST-MODIFIED:20231106T184051Z
UID:4169-1702576800-1702591200@glencovedowntown.org
SUMMARY:Multi-Association Holiday Party
DESCRIPTION:Glen Cove Chamber of Commerce in collaboration with the Business Improvement District (BID)\, Gold Coast Business Association\, and North Shore Hispanic Chamber of Commerce; cordially invites you to our end-of-year holiday party mixer at the Metropolitan on Thursday\, December 14th from 6pm-10pm.\n\nJoin us for a fabulous evening which includes cocktail hour\, dinner & desserts\, open bar and live DJ for dancing. Combining our efforts is the perfect way to celebrate 2023 with fellow association members.\n\n• When: Thursday\, December 14th from 6pm-10pm\n• Where: The Metropolitan – 3 Pratt Blvd Glen Cove\, NY\n• Tickets: GlenCoveChamber.org/Holiday
URL:https://glencovedowntown.org/event/multi-association-holiday-party/
LOCATION:The Metropolitan\, 3 Pratt Blvd\, Glen Cove\, NY\, 11542
ATTACH;FMTTYPE=image/png:https://glencovedowntown.org/wp-content/uploads/2023/11/Multi-Association-Holiday-Mixer-2023.png
END:VEVENT
BEGIN:VEVENT
DTSTART;TZID=America/New_York:20231202T133000
DTEND;TZID=America/New_York:20231202T170000
DTSTAMP:20260425T090026
CREATED:20230816T201233Z
LAST-MODIFIED:20231201T203858Z
UID:4008-1701523800-1701536400@glencovedowntown.org
SUMMARY:Holiday Festival
DESCRIPTION:Enjoy free horse & carriage rides\, photos with Santa\, musical entertainment\, a hot cocoa bar and treats at the downtown Holiday Festival in Village Square. The Downtown Business Improvement District holds this event ahead of the City of Glen Cove’s Tree Lighting Ceremony at 4:45pm.
URL:https://glencovedowntown.org/event/holiday-festival/
LOCATION:Village Square\, Glen Cove\, NY\, 11542\, United States
ATTACH;FMTTYPE=image/png:https://glencovedowntown.org/wp-content/uploads/2023/08/Holiday-Festival-Flyer-2023-1.png
END:VEVENT
BEGIN:VEVENT
DTSTART;TZID=America/New_York:20231128T110000
DTEND;TZID=America/New_York:20231128T120000
DTSTAMP:20260425T090026
CREATED:20231115T155732Z
LAST-MODIFIED:20231115T183037Z
UID:4179-1701169200-1701172800@glencovedowntown.org
SUMMARY:CareFirst Ribbon Cutting
DESCRIPTION:
URL:https://glencovedowntown.org/event/carefirst-ribbon-cutting/
LOCATION:CareFirst\, 58 School Street\, Glen Cove\, NY\, 11542\, United States
ATTACH;FMTTYPE=image/png:https://glencovedowntown.org/wp-content/uploads/2023/11/Ribbon-Cutting-Invitations-1.png
END:VEVENT
BEGIN:VEVENT
DTSTART;TZID=America/New_York:20231106T000000
DTEND;TZID=America/New_York:20231112T233000
DTSTAMP:20260425T090026
CREATED:20231027T175230Z
LAST-MODIFIED:20231030T183951Z
UID:4157-1699228800-1699831800@glencovedowntown.org
SUMMARY:Wellness Week (Nov. 6- Nov. 12)
DESCRIPTION:Wellness Week will be happening from Monday\, Nov. 6 through Sunday\, Nov. 12. Try out free classes and discounts at participating businesses downtown!\n \nStart your path to a healthier lifestyle by taking part of the many opportunities at downtown businesses during Wellness Week. \nParticipating businesses and Wellness Week Deals: \nLevel Up Glen Cove:  \n\nUp to three free classes during the week \nClass times are 5am\, 6am\, 7am\, 8:45am\, and 5:30pm Monday through Friday.\nCall (516) 629-6045 or go to levelupglencove.com.\n\nMX4 Training classes at Glen Cove Fitness:  \n\nMonday – Thursday at 6:30 p.m.\, Monday – Friday at 10:30 a.m. \nReservations needed in advance – walk-ins won’t be honored. \nCall (516) 656-0515 or go to xlegionfit.com.\n\nGlen Cove Massage:  \n\nSchedule your recovery with John at Glen Cove Massage and receive $20 off your massage.\n\nRumble Boxing Glen Cove:  \n\nOne free class per person. \nParticipants must submit their information and sign a waiver in order to take class and must arrive 15 minutes prior to the class time. \nCheck rumbleboxinggym.com/location/glen-cove for the schedule.\n\nTwo Point Om:  \n\nWill offer 3 free opportunities to attend class. \nMonday\, Nov. 6\, 4:30pm\, Wednesday\, Nov. 8 at 8:15am and Friday\, Nov. 10\, 4:30pm. \nFree to attend\, preregistration required using the mobile app or at www.2pointom.com\n\nSoca Brazilian Jiu Jitsu:  \n\nGet a free t-shirt for taking a free introductory class this week. \nVisit socabjjglencove.com.
URL:https://glencovedowntown.org/event/wellness-week-start/
LOCATION:Downtown Glen Cove
ATTACH;FMTTYPE=image/png:https://glencovedowntown.org/wp-content/uploads/2023/10/Wellness-Week.png
END:VEVENT
BEGIN:VEVENT
DTSTART;TZID=America/New_York:20231028T133000
DTEND;TZID=America/New_York:20231028T160000
DTSTAMP:20260425T090026
CREATED:20230816T200936Z
LAST-MODIFIED:20231011T204243Z
UID:4006-1698499800-1698508800@glencovedowntown.org
SUMMARY:Halloween Parade & Festival
DESCRIPTION:Children can dress up\, join the parade\, trick-or-treat at participating businesses and play games at the festival. Activities include bounce houses\, costume contests\, dancing with a DJ\, games and prizes. Free event for Glen Cove residents.
URL:https://glencovedowntown.org/event/halloween-parade-festival/
LOCATION:Village Square\, Glen Cove\, NY\, 11542\, United States
ATTACH;FMTTYPE=image/png:https://glencovedowntown.org/wp-content/uploads/2023/08/Halloween-Flyer.png
END:VEVENT
BEGIN:VEVENT
DTSTART;TZID=America/New_York:20231028T130000
DTEND;TZID=America/New_York:20231028T163000
DTSTAMP:20260425T090026
CREATED:20231010T173447Z
LAST-MODIFIED:20231013T145326Z
UID:4115-1698498000-1698510600@glencovedowntown.org
SUMMARY:Murder Mystery Event
DESCRIPTION:We need your help in connection with the recent murder of Mr. James Dalton and the theft of a valuable artifact. Your assistance in solving this case is crucial. Follow the leads and uncover the truth. \nJoin us for our first murder mystery event. Participants will speak with people in Downtown businesses to get clues and solve the murder! \nSign up for the FREE event here: https://lp.constantcontactpages.com/sl/tDtwS22
URL:https://glencovedowntown.org/event/murder-mystery-event/
LOCATION:Downtown Glen Cove
ATTACH;FMTTYPE=image/png:https://glencovedowntown.org/wp-content/uploads/2023/08/Murder-Mystery-Flyer.png
END:VEVENT
BEGIN:VEVENT
DTSTART;TZID=America/New_York:20231022T160000
DTEND;TZID=America/New_York:20231022T190000
DTSTAMP:20260425T090026
CREATED:20231018T210110Z
LAST-MODIFIED:20231018T210110Z
UID:4128-1697990400-1698001200@glencovedowntown.org
SUMMARY:Hispanic Heritage Celebration
DESCRIPTION:Come and enjoy an evening of entertainment\, cheers and dancing!
URL:https://glencovedowntown.org/event/hispanic-heritage-celebration/
LOCATION:Village Square\, Glen Cove\, NY\, 11542\, United States
ATTACH;FMTTYPE=image/jpeg:https://glencovedowntown.org/wp-content/uploads/2023/10/unnamed.jpg
END:VEVENT
BEGIN:VEVENT
DTSTART;TZID=America/New_York:20231020T110000
DTEND;TZID=America/New_York:20231020T120000
DTSTAMP:20260425T090026
CREATED:20231013T160633Z
LAST-MODIFIED:20231013T160633Z
UID:4122-1697799600-1697803200@glencovedowntown.org
SUMMARY:Ribbon Cutting at Kiko Ramen
DESCRIPTION:Kiko Ramen will be welcomed to the downtown Glen Cove community with a ribbon cutting ceremony at 11am on Friday\, Oct. 20.
URL:https://glencovedowntown.org/event/ribbon-cutting-at-kiko-ramen/
LOCATION:Kiko Ramen\, 26 School Street\, Glen Cove
ATTACH;FMTTYPE=image/png:https://glencovedowntown.org/wp-content/uploads/2023/10/Kiko-Ribbon-Cutting-Invitation.png
END:VEVENT
BEGIN:VEVENT
DTSTART;TZID=America/New_York:20230930T100000
DTEND;TZID=America/New_York:20230930T140000
DTSTAMP:20260425T090026
CREATED:20230922T182211Z
LAST-MODIFIED:20230929T192151Z
UID:4098-1696068000-1696082400@glencovedowntown.org
SUMMARY:Wellness Day CANCELLED
DESCRIPTION:The second annual Downtown Wellness Day will take place in Village Square from 10am to 2pm. Free fitness classes and local vendors.
URL:https://glencovedowntown.org/event/wellness-day-3/
LOCATION:Village Square\, Glen Cove\, NY\, 11542\, United States
ATTACH;FMTTYPE=image/png:https://glencovedowntown.org/wp-content/uploads/2023/09/Wellness-Day7.png
END:VEVENT
BEGIN:VEVENT
DTSTART;TZID=America/New_York:20230923T100000
DTEND;TZID=America/New_York:20230923T140000
DTSTAMP:20260425T090026
CREATED:20230816T200608Z
LAST-MODIFIED:20230922T182114Z
UID:4004-1695463200-1695477600@glencovedowntown.org
SUMMARY:Wellness Day POSTPONED TO SEPT. 30
DESCRIPTION:The second annual Downtown Wellness Day will take place in Village Square from 10am to 2pm. Free fitness classes and local vendors.
URL:https://glencovedowntown.org/event/wellness-day-2/
LOCATION:Village Square\, Glen Cove\, NY\, 11542\, United States
ATTACH;FMTTYPE=image/png:https://glencovedowntown.org/wp-content/uploads/2023/08/918-924-2023-Instagram-Posts.png
END:VEVENT
BEGIN:VEVENT
DTSTART;TZID=America/New_York:20230825T193000
DTEND;TZID=America/New_York:20230825T213000
DTSTAMP:20260425T090026
CREATED:20230424T203736Z
LAST-MODIFIED:20230620T140656Z
UID:3408-1692991800-1692999000@glencovedowntown.org
SUMMARY:Downtown Sounds Final Concert of 2023: That '70s Band
DESCRIPTION:A ’70s Music Group
URL:https://glencovedowntown.org/event/downtown-sounds-final-concert-of-2023/
LOCATION:Village Square\, Glen Cove\, NY\, 11542\, United States
ATTACH;FMTTYPE=image/jpeg:https://glencovedowntown.org/wp-content/uploads/2023/05/That-70s-band-e1684269174819.jpg
END:VEVENT
BEGIN:VEVENT
DTSTART;TZID=America/New_York:20230818T193000
DTEND;TZID=America/New_York:20230818T213000
DTSTAMP:20260425T090026
CREATED:20230424T203628Z
LAST-MODIFIED:20230620T140544Z
UID:3406-1692387000-1692394200@glencovedowntown.org
SUMMARY:Downtown Sounds: Arena Rock
DESCRIPTION:A Classic Rock Tribute
URL:https://glencovedowntown.org/event/downtown-sounds-outdoor-concert-series-4/
LOCATION:Village Square\, Glen Cove\, NY\, 11542\, United States
ATTACH;FMTTYPE=image/jpeg:https://glencovedowntown.org/wp-content/uploads/2023/05/Arena-Rock-Tribute.jpg
END:VEVENT
BEGIN:VEVENT
DTSTART;TZID=America/New_York:20230811T193000
DTEND;TZID=America/New_York:20230811T213000
DTSTAMP:20260425T090026
CREATED:20230424T203533Z
LAST-MODIFIED:20230620T140457Z
UID:3404-1691782200-1691789400@glencovedowntown.org
SUMMARY:Downtown Sounds: Jose Trombone & Conjunto Rumbon
DESCRIPTION:A Salsa Gorda Group
URL:https://glencovedowntown.org/event/downtown-sounds-outdoor-concert-series-3/
LOCATION:Village Square\, Glen Cove\, NY\, 11542\, United States
ATTACH;FMTTYPE=image/jpeg:https://glencovedowntown.org/wp-content/uploads/2023/05/jose-trombone-scaled.jpg
END:VEVENT
BEGIN:VEVENT
DTSTART;TZID=America/New_York:20230804T193000
DTEND;TZID=America/New_York:20230804T213000
DTSTAMP:20260425T090026
CREATED:20230424T203436Z
LAST-MODIFIED:20230620T140204Z
UID:3402-1691177400-1691184600@glencovedowntown.org
SUMMARY:Downtown Sounds: Forever Ray
DESCRIPTION:A Tribute to Ray Charles
URL:https://glencovedowntown.org/event/downtown-sounds-outdoor-concert-series-2/
LOCATION:Village Square\, Glen Cove\, NY\, 11542\, United States
ATTACH;FMTTYPE=image/jpeg:https://glencovedowntown.org/wp-content/uploads/2023/05/ForeverRay.jpg
END:VEVENT
BEGIN:VEVENT
DTSTART;TZID=America/New_York:20230804T191500
DTEND;TZID=America/New_York:20230804T193000
DTSTAMP:20260425T090026
CREATED:20230801T184250Z
LAST-MODIFIED:20230801T184311Z
UID:3825-1691176500-1691177400@glencovedowntown.org
SUMMARY:Teen Idol Winner Tatiana Andino-Mendez Awarding and Performance
DESCRIPTION:
URL:https://glencovedowntown.org/event/teen-idol-winner-awarding-and-performance/
LOCATION:Downtown Sounds
ATTACH;FMTTYPE=image/png:https://glencovedowntown.org/wp-content/uploads/2023/08/11.png
END:VEVENT
BEGIN:VEVENT
DTSTART;TZID=America/New_York:20230801T180000
DTEND;TZID=America/New_York:20230801T203000
DTSTAMP:20260425T090026
CREATED:20230801T183946Z
LAST-MODIFIED:20230801T183946Z
UID:3822-1690912800-1690921800@glencovedowntown.org
SUMMARY:National Night Out
DESCRIPTION:
URL:https://glencovedowntown.org/event/national-night-out/
LOCATION:1 Bridge Street\, 1 Bridge Street\, Glen Cove\, 11542
ATTACH;FMTTYPE=image/png:https://glencovedowntown.org/wp-content/uploads/2023/08/7.png
END:VEVENT
BEGIN:VEVENT
DTSTART;TZID=America/New_York:20230728T193000
DTEND;TZID=America/New_York:20230728T213000
DTSTAMP:20260425T090026
CREATED:20230424T203332Z
LAST-MODIFIED:20230620T140231Z
UID:3400-1690572600-1690579800@glencovedowntown.org
SUMMARY:Downtown Sounds: Paradigm
DESCRIPTION:An 11-Piece Powerhouse Band
URL:https://glencovedowntown.org/event/downtown-sounds-outdoor-concert-series/
LOCATION:Village Square\, Glen Cove\, NY\, 11542\, United States
ATTACH;FMTTYPE=image/jpeg:https://glencovedowntown.org/wp-content/uploads/2023/05/Paradigm-Downtown-Sounds.jpeg
END:VEVENT
BEGIN:VEVENT
DTSTART;TZID=America/New_York:20230728T190000
DTEND;TZID=America/New_York:20230728T193000
DTSTAMP:20260425T090026
CREATED:20230620T141159Z
LAST-MODIFIED:20230620T141159Z
UID:3601-1690570800-1690572600@glencovedowntown.org
SUMMARY:Teen Idol Contest
DESCRIPTION:Open to Gold Coast residents ages 13 to 18\, Downtown Sounds Teen Idol showcases local emerging talent\, and the top finalists will perform live during the Downtown Sounds 2023 concert series.
URL:https://glencovedowntown.org/event/teen-idol-contest-4/
ATTACH;FMTTYPE=image/jpeg:https://glencovedowntown.org/wp-content/uploads/2023/06/Downtown-Sounds-Teen-Idol-2023.jpg
END:VEVENT
BEGIN:VEVENT
DTSTART;TZID=America/New_York:20230721T193000
DTEND;TZID=America/New_York:20230721T213000
DTSTAMP:20260425T090026
CREATED:20230424T203237Z
LAST-MODIFIED:20230620T140254Z
UID:3398-1689967800-1689975000@glencovedowntown.org
SUMMARY:Downtown Sounds: Lovesong
DESCRIPTION:An ’80s New Wave Tribute Band
URL:https://glencovedowntown.org/event/downtown-sounds-3/
LOCATION:Village Square\, Glen Cove\, NY\, 11542\, United States
ATTACH;FMTTYPE=image/jpeg:https://glencovedowntown.org/wp-content/uploads/2023/05/Lovesong-e1684267998182.jpeg
END:VEVENT
BEGIN:VEVENT
DTSTART;TZID=America/New_York:20230721T190000
DTEND;TZID=America/New_York:20230721T193000
DTSTAMP:20260425T090026
CREATED:20230620T141127Z
LAST-MODIFIED:20230620T141127Z
UID:3599-1689966000-1689967800@glencovedowntown.org
SUMMARY:Teen Idol Contest
DESCRIPTION:Open to Gold Coast residents ages 13 to 18\, Downtown Sounds Teen Idol showcases local emerging talent\, and the top finalists will perform live during the Downtown Sounds 2023 concert series.
URL:https://glencovedowntown.org/event/teen-idol-contest-3/
ATTACH;FMTTYPE=image/jpeg:https://glencovedowntown.org/wp-content/uploads/2023/06/Downtown-Sounds-Teen-Idol-2023.jpg
END:VEVENT
END:VCALENDAR