BEGIN:VCALENDAR
VERSION:2.0
PRODID:-//GCBID - ECPv6.15.20//NONSGML v1.0//EN
CALSCALE:GREGORIAN
METHOD:PUBLISH
X-WR-CALNAME:GCBID
X-ORIGINAL-URL:https://glencovedowntown.org
X-WR-CALDESC:Events for GCBID
REFRESH-INTERVAL;VALUE=DURATION:PT1H
X-Robots-Tag:noindex
X-PUBLISHED-TTL:PT1H
BEGIN:VTIMEZONE
TZID:America/New_York
BEGIN:DAYLIGHT
TZOFFSETFROM:-0500
TZOFFSETTO:-0400
TZNAME:EDT
DTSTART:20230312T070000
END:DAYLIGHT
BEGIN:STANDARD
TZOFFSETFROM:-0400
TZOFFSETTO:-0500
TZNAME:EST
DTSTART:20231105T060000
END:STANDARD
BEGIN:DAYLIGHT
TZOFFSETFROM:-0500
TZOFFSETTO:-0400
TZNAME:EDT
DTSTART:20240310T070000
END:DAYLIGHT
BEGIN:STANDARD
TZOFFSETFROM:-0400
TZOFFSETTO:-0500
TZNAME:EST
DTSTART:20241103T060000
END:STANDARD
BEGIN:DAYLIGHT
TZOFFSETFROM:-0500
TZOFFSETTO:-0400
TZNAME:EDT
DTSTART:20250309T070000
END:DAYLIGHT
BEGIN:STANDARD
TZOFFSETFROM:-0400
TZOFFSETTO:-0500
TZNAME:EST
DTSTART:20251102T060000
END:STANDARD
END:VTIMEZONE
BEGIN:VEVENT
DTSTART;TZID=America/New_York:20240602T120000
DTEND;TZID=America/New_York:20240602T123000
DTSTAMP:20260425T112729
CREATED:20240521T192920Z
LAST-MODIFIED:20240521T192950Z
UID:4942-1717329600-1717331400@glencovedowntown.org
SUMMARY:Glen Cove Pride Flag Raising
DESCRIPTION:The Pride flag raising will take place in Village Square at noon. \nThe Pride Stride will go from Sea Cliff Beach to Village Square\, where a ceremony and flag raising will take place at noon. \n 
URL:https://glencovedowntown.org/event/glen-cove-pride-flag-raising/
LOCATION:Village Square\, Glen Cove\, NY\, 11542\, United States
ATTACH;FMTTYPE=image/jpeg:https://glencovedowntown.org/wp-content/uploads/2024/05/441332615_970681421732406_6793312973444065170_n.jpg
END:VEVENT
BEGIN:VEVENT
DTSTART;TZID=America/New_York:20240601T100000
DTEND;TZID=America/New_York:20240601T160000
DTSTAMP:20260425T112729
CREATED:20240411T165945Z
LAST-MODIFIED:20240411T165945Z
UID:4771-1717236000-1717257600@glencovedowntown.org
SUMMARY:Questo: The Oz Escape
DESCRIPTION:*This is an outside company and is not a Glen Cove Downtown BID or City of Glen Cove affiliated event \n  \nThe magical world of Oz arrives to the streets of your city in the form of an outdoor escape room-style experience. \nYou will use your phone to follow hidden clues\, solve witty puzzles and complete fun challenges as you walk around the city. \nFollow the story of the iconic team of misfits trying to escape from Oz before the witch has her way! The event is entirely based on the original The Wonderful Wizard of Oz novel by L. Frank Baum. \nYou can play at your own pace or against the clock to compete with friends or hundreds of other teams parading their fantastic costumes (wearing costumes is optional at the event). \nDETAILS\n\n—   TICKET\none team ticket admits 2-6 adults and kids go for free \n—   TIME\nstart anytime between 10 AM – 4 PM\, the experience lasts approx. 90 minutes \n—   LOCATION: \noutdoors\, location to be sent via email before the event \n—   GAME\nthroughout the event\, you will be guided solely by our immersive mobile app \n—   COSTUME CONTEST: optional\, for people who wear them \n—   AGE: recommended for ages 8+ \n—   PET FRIENDLY: yes!
URL:https://glencovedowntown.org/event/questo-the-oz-escape/
LOCATION:New York
ATTACH;FMTTYPE=image/png:https://glencovedowntown.org/wp-content/uploads/2024/04/48-414-2024-Instagram-Posts-1.png
END:VEVENT
BEGIN:VEVENT
DTSTART;TZID=America/New_York:20240527T120000
DTEND;TZID=America/New_York:20240527T130000
DTSTAMP:20260425T112729
CREATED:20240521T185552Z
LAST-MODIFIED:20240521T193329Z
UID:4936-1716811200-1716814800@glencovedowntown.org
SUMMARY:City of Glen Cove Memorial Day Parade
DESCRIPTION:The Memorial Day Parade will be Monday\, May 27th.  \nIt begins at 12 Noon at the corner of Dosoris Lane & Forest Avenue\, by the Middle School\, and continues to School Street\, Glen Street to Pulaski and to the Library.
URL:https://glencovedowntown.org/event/memorial-day-parade/
LOCATION:New York
ATTACH;FMTTYPE=image/jpeg:https://glencovedowntown.org/wp-content/uploads/2024/05/19.jpg
END:VEVENT
BEGIN:VEVENT
DTSTART;TZID=America/New_York:20240523T113000
DTEND;TZID=America/New_York:20240523T120000
DTSTAMP:20260425T112729
CREATED:20240514T181829Z
LAST-MODIFIED:20240514T182026Z
UID:4913-1716463800-1716465600@glencovedowntown.org
SUMMARY:Madeline's Play Cafe Ribbon Cutting
DESCRIPTION:Celebrate the opening of Madeline’s Play Cafe at 36 Glen St. on Thursday\, May 23\, at 11:30am.
URL:https://glencovedowntown.org/event/madelines-play-cafe-ribbon-cutting/
LOCATION:Madeline’s Play Cafe\, 36 Glen Street\, Glen Cove\, NY\, 11542\, United States
ATTACH;FMTTYPE=image/png:https://glencovedowntown.org/wp-content/uploads/2024/05/Madelines-Play-Cafe-Ribbon-Cutting-.png
END:VEVENT
BEGIN:VEVENT
DTSTART;TZID=America/New_York:20240518T100000
DTEND;TZID=America/New_York:20240518T140000
DTSTAMP:20260425T112729
CREATED:20240327T181056Z
LAST-MODIFIED:20240513T155720Z
UID:4717-1716026400-1716040800@glencovedowntown.org
SUMMARY:Wellness Day
DESCRIPTION:Free fitness and wellness classes downtown! Vendors\, music and more. \nAttend classes for the chance to win a prize! The more classes you attend the higher your chances of winning. \nClass schedule: \n10am: Two Point Om Yoga \n10:30am: Level Up Glen Cove \n11am: Tenth Legion Fitness \n11:30am: Rumble Boxing Glen Cove \n12pm: F45 Training \n12:30pm: Soca Brazilian Jiu-Jitsu \n1:30pm: Living Lotus Sound Bowl Meditation
URL:https://glencovedowntown.org/event/wellness-day-5/
LOCATION:Village Square\, Glen Cove\, NY\, 11542\, United States
ATTACH;FMTTYPE=image/png:https://glencovedowntown.org/wp-content/uploads/2024/03/2024-Wellness-Day-Flyer.png
END:VEVENT
BEGIN:VEVENT
DTSTART;TZID=America/New_York:20240517T160000
DTEND;TZID=America/New_York:20240517T170000
DTSTAMP:20260425T112729
CREATED:20240510T201706Z
LAST-MODIFIED:20240510T201706Z
UID:4811-1715961600-1715965200@glencovedowntown.org
SUMMARY:Mad Chicken Ribbon Cutting
DESCRIPTION:Celebrate the opening of Mad Chicken at 5 School St. on Friday\, May 17\, at 4pm.
URL:https://glencovedowntown.org/event/mad-chicken-ribbon-cutting/
LOCATION:Mad Chicken\, 5 School Street\, Glen Cove\, NY\, 11542\, United States
ATTACH;FMTTYPE=image/png:https://glencovedowntown.org/wp-content/uploads/2024/05/Mad-Chicken.png
END:VEVENT
BEGIN:VEVENT
DTSTART;TZID=America/New_York:20240509T100000
DTEND;TZID=America/New_York:20240509T110000
DTSTAMP:20260425T112729
CREATED:20240514T182229Z
LAST-MODIFIED:20240514T182304Z
UID:4920-1715248800-1715252400@glencovedowntown.org
SUMMARY:Blossom Day Spa & Nails One Year Anniversary
DESCRIPTION:Celebrate the one year anniversary of Blossom Day Spa & Nails at 17 Glen St. on Thursday\, May 9\, at 10am.
URL:https://glencovedowntown.org/event/4920/
LOCATION:Blossom Day Spa & Nails\, 17 Glen Street\, Glen Cove\, NY\, 11542
ATTACH;FMTTYPE=image/png:https://glencovedowntown.org/wp-content/uploads/2024/05/Blossom-1-Year.png
END:VEVENT
BEGIN:VEVENT
DTSTART;TZID=America/New_York:20240502T120000
DTEND;TZID=America/New_York:20240502T133000
DTSTAMP:20260425T112729
CREATED:20240405T160152Z
LAST-MODIFIED:20240411T171204Z
UID:4738-1714651200-1714656600@glencovedowntown.org
SUMMARY:BID Board Meeting
DESCRIPTION:BID board meetings take place the first Thursday of every month and are open to members of the public. \nThe cost for lunch is $15 (cash)\, RSVP required. \nPlease email admin@glencovedowntown.org to RSVP and for the location.
URL:https://glencovedowntown.org/event/bid-board-meeting-3/
LOCATION:Jalisco Cocina Mexicana & Tequila Bar\, 100 School Street\, Glen Cove\, 11542\, United States
ATTACH;FMTTYPE=image/jpeg:https://glencovedowntown.org/wp-content/uploads/2024/03/IMG_7978-scaled-e1722963672518.jpg
END:VEVENT
BEGIN:VEVENT
DTSTART;TZID=America/New_York:20240501T190000
DTEND;TZID=America/New_York:20240501T200000
DTSTAMP:20260425T112729
CREATED:20240415T143013Z
LAST-MODIFIED:20240415T143230Z
UID:4781-1714590000-1714593600@glencovedowntown.org
SUMMARY:The North Shore Historical Museum: Murder at Madison Square Garden
DESCRIPTION:Murder at Madison Square Garden: A Dream Team's Insane Game of Judicial Cat and Mouse\n\nGet Tickets Here: Upcoming Events | NSHM (northshorehistoricalmuseum.org) \n\nLecture with Mary Noe\n\nThe trial of the century coupled with a defense strategy of “dementia Americana” and the “unwritten law” whereas a man is entitled to defend the honor of his wife.\n\nMay 1 is Law Day where we celebrate our legal system.  Learn about the high society love triangle and the trial that fascinated early 20th century America.\n\n$10\n\n$5 Members
URL:https://glencovedowntown.org/event/the-north-shore-historical-museum-murder-at-madison-square-garden/
LOCATION:North Shore Historical Museum\, 140 Glen Street\, Glen Cove\, NY\, 11542\, United States
ATTACH;FMTTYPE=image/jpeg:https://glencovedowntown.org/wp-content/uploads/2024/04/stanford-white-murder-1536x1326-1.jpg
END:VEVENT
BEGIN:VEVENT
DTSTART;TZID=America/New_York:20240501T183000
DTEND;TZID=America/New_York:20240501T220000
DTSTAMP:20260425T112729
CREATED:20240322T202211Z
LAST-MODIFIED:20240322T202211Z
UID:4689-1714588200-1714600800@glencovedowntown.org
SUMMARY:Doo Wop Night at La Bussola
DESCRIPTION:
URL:https://glencovedowntown.org/event/doo-wop-night-at-la-bussola/
LOCATION:La Bussola Ristorante\, 40 School Street\, Glen Cove\, NY\, 11542\, United States
ATTACH;FMTTYPE=image/jpeg:https://glencovedowntown.org/wp-content/uploads/2024/03/433622675_909820347813790_8473605843545772657_n.jpg
END:VEVENT
BEGIN:VEVENT
DTSTART;TZID=America/New_York:20240430T000000
DTEND;TZID=America/New_York:20240430T233000
DTSTAMP:20260425T112729
CREATED:20240308T174133Z
LAST-MODIFIED:20240308T174133Z
UID:4619-1714435200-1714519800@glencovedowntown.org
SUMMARY:Teen Idol Submission Deadline
DESCRIPTION:April 30 is the final day to send in your Teen Idol video!
URL:https://glencovedowntown.org/event/teen-idol-submission-deadline/
LOCATION:New York
ATTACH;FMTTYPE=image/png:https://glencovedowntown.org/wp-content/uploads/2024/03/2024-DTS-Teen-Idol-Audition-Flyer.png
END:VEVENT
BEGIN:VEVENT
DTSTART;TZID=America/New_York:20240427T080000
DTEND;TZID=America/New_York:20240427T170000
DTSTAMP:20260425T112729
CREATED:20240131T194706Z
LAST-MODIFIED:20240411T170139Z
UID:4560-1714204800-1714237200@glencovedowntown.org
SUMMARY:CluedUpp: Crimescene Investigator
DESCRIPTION:*This is an outside company and is not a Glen Cove Downtown BID or City of Glen Cove affiliated event \n  \nCriminal carnage has come to Glen Cove\, NY. Four people have been found dead and something connects the killings. \nDo you have what it takes to crack the case? \nThis outdoor murder-mystery event will put you at the centre of a crime scene investigation on Saturday\, April 27th\, 2024. \nJoin hundreds of investigators taking part in this relaunch of one of our most requested themes\, CSI. You’ll explore Glen Cove guided by our award-winning mobile app. As you hunt for clues you’ll visit different locations around the city\, solve cryptic puzzles\, and interrogate virtual witnesses. \nYou won’t just be racing against the clock\, you’ll be competing against other teams to see who’s got the best detective instincts. \nOver 108\,000 people dressed up in their finest detective outfits and took to their city streets in the first run of CSI\, and now it’s time to see for yourself why this is one of our most popular mysteries! \nWith limited places available\, we recommend booking your ticket early to avoid disappointment. Each team ticket admits up to 6 people. Don’t worry if you haven’t got a team of 6\, you can still take part with a smaller team.
URL:https://glencovedowntown.org/event/cluedupp-crimescene-investigator/
LOCATION:New York
ATTACH;FMTTYPE=image/png:https://glencovedowntown.org/wp-content/uploads/2024/01/25-211-2024-Instagram-Posts.png
END:VEVENT
BEGIN:VEVENT
DTSTART;TZID=America/New_York:20240421T053000
DTEND;TZID=America/New_York:20240421T060000
DTSTAMP:20260425T112729
CREATED:20240419T163617Z
LAST-MODIFIED:20240419T163906Z
UID:4793-1713677400-1713679200@glencovedowntown.org
SUMMARY:The BID on WHPC
DESCRIPTION:The BID’s executive director Jill Nossa is on WHPC’s My Hometown\nApril 18\, at 3:30 pm and replaying again Sunday\, April 21 at 5:30 am\n\n\n\nListen Live at www.NCCradio.org or search for WHPC on the iHeartRadio\,\nAudacy or TuneIn Apps – or download the WHPC app!\n\n\n\nOr listen after the show: Glen Cove Downtown Business Improvement District (spreaker.com)
URL:https://glencovedowntown.org/event/the-bid-on-whpc/
LOCATION:New York
ATTACH;FMTTYPE=image/jpeg:https://glencovedowntown.org/wp-content/uploads/2024/04/438109441_18276447424204893_6719662258829312565_n.jpg
END:VEVENT
BEGIN:VEVENT
DTSTART;TZID=America/New_York:20240420T140000
DTEND;TZID=America/New_York:20240420T170000
DTSTAMP:20260425T112729
CREATED:20240111T203753Z
LAST-MODIFIED:20240111T203753Z
UID:4500-1713621600-1713632400@glencovedowntown.org
SUMMARY:Making Long Island: A History of Growth and the American Dream at The North Shore Historical Museum
DESCRIPTION:Lecture with Larry Samuel\n \nDiscover the history of the development of Long Island and its intimate relationship with New York City. \nBeginning in the Roaring Twenties\, Wall Street money looked eastward to Nassau and Suffolk counties looking generate wealth from a land boom. After the Great Depression and World War II\, Long Island was the site of the creation of the quintessential postwar American suburb\, Levittown. Levittown and its spinoff suburban communities served as a primary symbol of the American dream through affordable home ownership for the predominately White middle class and established a core attribute of the national mythology. Starting in the 1960s\, the dream began to dissolve\, as the postwar economic engine ran out of steam and Long Island became as much urban as suburban. \n$10 \n$5 Members (use coupon 2024 member) \n\n\nFor more information visit: Upcoming Events | NSHM (northshorehistoricalmuseum.org)
URL:https://glencovedowntown.org/event/making-long-island-a-history-of-growth-and-the-american-dream-at-the-north-shore-historical-museum/
LOCATION:North Shore Historical Museum\, 140 Glen Street\, Glen Cove\, NY\, 11542\, United States
ATTACH;FMTTYPE=image/jpeg:https://glencovedowntown.org/wp-content/uploads/2024/01/Larry-Samuels.jpg
END:VEVENT
BEGIN:VEVENT
DTSTART;TZID=America/New_York:20240418T153000
DTEND;TZID=America/New_York:20240418T160000
DTSTAMP:20260425T112729
CREATED:20240419T163506Z
LAST-MODIFIED:20240419T163822Z
UID:4789-1713454200-1713456000@glencovedowntown.org
SUMMARY:The BID on WHPC
DESCRIPTION:The BID’s executive director Jill Nossa is on WHPC’s My Hometown\nApril 18\, at 3:30 pm and replaying again Sunday\, April 21 at 5:30 am\n\n\n\nListen Live at www.NCCradio.org or search for WHPC on the iHeartRadio\,\nAudacy or TuneIn Apps – or download the WHPC app!\n\n\n\nOr listen after the show: Glen Cove Downtown Business Improvement District (spreaker.com)
URL:https://glencovedowntown.org/event/4789/
LOCATION:New York
ATTACH;FMTTYPE=image/jpeg:https://glencovedowntown.org/wp-content/uploads/2024/04/438109441_18276447424204893_6719662258829312565_n.jpg
END:VEVENT
BEGIN:VEVENT
DTSTART;TZID=America/New_York:20240415T140000
DTEND;TZID=America/New_York:20240415T200000
DTSTAMP:20260425T112729
CREATED:20240405T162335Z
LAST-MODIFIED:20240405T162335Z
UID:4743-1713189600-1713211200@glencovedowntown.org
SUMMARY:Rumble Boxing: Behind the Bride
DESCRIPTION:Proud to introduce Rumble Glen Coves 1st Bridal Expo! We have partnered up with the best in their industry to bring you “Behind the Bride- Bridesmaids\, Beauty & Boxing” \nPlanning a wedding can be a stressful process and we have leveraged our relationships to help ensure you enjoy planning your perfect day! With special promotions and discounts from @louise.newyork @bronzed__bodiies @babyfaceaesthetics_ @glowbar @luxurysmileli @brushedupbydaniella @nicolette_thebeautylounge on Instagram \nThese wonderful businesses will be set up in our lobby from 2-8pm to showcase you all about the services that they offer! \nAdditionally we will be running 3 FREE classes\n5pm \, 6pm and 7:15pm\n(Will also be offering exclusive membership discounts) \nWe believe Brides who box are not just shedding for the wedding! Feeling strong and confident is how every bride should feel (bridesmaids and grooms too!) \nEvent is opened to ALL interested in the services that these heavy hitters of the beauty industry have to offer or anyone interested in jumping in a free class! The Glen Cove team uses their services personally! And we might love the workout too \nPlease DM @rumbleboxingglencove on Instagram to rsvp or text 917-930-7027!
URL:https://glencovedowntown.org/event/rumble-boxing-behind-the-bride/
LOCATION:Village Square\, Glen Cove\, NY\, 11542\, United States
ATTACH;FMTTYPE=image/png:https://glencovedowntown.org/wp-content/uploads/2024/04/15.png
END:VEVENT
BEGIN:VEVENT
DTSTART;TZID=America/New_York:20240413T100000
DTEND;TZID=America/New_York:20240413T170000
DTSTAMP:20260425T112730
CREATED:20240405T162635Z
LAST-MODIFIED:20240405T162635Z
UID:4746-1713002400-1713027600@glencovedowntown.org
SUMMARY:The Shoppe by Trubee Hill: Sidewalk Sale
DESCRIPTION:All sale items are 50% – 70% off!
URL:https://glencovedowntown.org/event/the-shoppe-by-trubee-hill-sidewalk-sale/
LOCATION:Village Square\, Glen Cove\, NY\, 11542\, United States
ATTACH;FMTTYPE=image/png:https://glencovedowntown.org/wp-content/uploads/2024/04/3.png
END:VEVENT
BEGIN:VEVENT
DTSTART;TZID=America/New_York:20240406T090000
DTEND;TZID=America/New_York:20240406T103000
DTSTAMP:20260425T112730
CREATED:20240405T161926Z
LAST-MODIFIED:20240405T161926Z
UID:4740-1712394000-1712399400@glencovedowntown.org
SUMMARY:The Glen Cove Baseball/Softball Opening Day Parade
DESCRIPTION:The Glen Cove Baseball/Softball Opening Day Parade is SATURDAY\, APRIL 6TH at 9:30am.\n\nThere will be street closures as follows:\nStarting at 9:00am School Street in front of Staples will be closed.\nThe parade begins at 9:30am. At that time\, Glen Street and Bridge Street close.\nAs the parade approaches the Post Office\, the remainder of the parade route/roads close all the way to City Stadium.\nParade should be over by 10:00am.
URL:https://glencovedowntown.org/event/the-glen-cove-baseball-softball-opening-day-parade/
LOCATION:New York
ATTACH;FMTTYPE=image/png:https://glencovedowntown.org/wp-content/uploads/2024/04/11.png
END:VEVENT
BEGIN:VEVENT
DTSTART;TZID=America/New_York:20240404T193000
DTEND;TZID=America/New_York:20240404T213000
DTSTAMP:20260425T112730
CREATED:20240322T191803Z
LAST-MODIFIED:20240322T191803Z
UID:4684-1712259000-1712266200@glencovedowntown.org
SUMMARY:Meritage Wine Bar Wine Tasting
DESCRIPTION:
URL:https://glencovedowntown.org/event/meritage-wine-bar-wine-tasting/
LOCATION:Meritage Wine Bar\, 90 School Street\, Glen Cove\, NY\, 11542
ATTACH;FMTTYPE=image/png:https://glencovedowntown.org/wp-content/uploads/2024/03/19.png
END:VEVENT
BEGIN:VEVENT
DTSTART;TZID=America/New_York:20240404T120000
DTEND;TZID=America/New_York:20240404T133000
DTSTAMP:20260425T112730
CREATED:20240405T155433Z
LAST-MODIFIED:20240405T155505Z
UID:4735-1712232000-1712237400@glencovedowntown.org
SUMMARY:BID Board Meeting
DESCRIPTION:
URL:https://glencovedowntown.org/event/bid-board-meeting-2/
LOCATION:El Tazumal\, 6 Glen Street\, Glen Cove\, NY\, 11542\, United States
END:VEVENT
BEGIN:VEVENT
DTSTART;TZID=America/New_York:20240326T130000
DTEND;TZID=America/New_York:20240326T140000
DTSTAMP:20260425T112730
CREATED:20240306T153203Z
LAST-MODIFIED:20240306T153203Z
UID:4602-1711458000-1711461600@glencovedowntown.org
SUMMARY:Tropical Smoothie Ribbon Cutting
DESCRIPTION:
URL:https://glencovedowntown.org/event/tropical-smoothie-ribbon-cutting/
LOCATION:Village Square\, Glen Cove\, NY\, 11542\, United States
ATTACH;FMTTYPE=image/png:https://glencovedowntown.org/wp-content/uploads/2024/03/Ribbon-Cutting-Invitations-2.png
END:VEVENT
BEGIN:VEVENT
DTSTART;TZID=America/New_York:20240324T133000
DTEND;TZID=America/New_York:20240324T170000
DTSTAMP:20260425T112730
CREATED:20240321T150725Z
LAST-MODIFIED:20240321T150725Z
UID:4642-1711287000-1711299600@glencovedowntown.org
SUMMARY:The Regency Easter Eggstravaganza
DESCRIPTION:
URL:https://glencovedowntown.org/event/the-regency-easter-eggstravaganza/
LOCATION:The Regency\, 94 School Street\, Glen Cove\, NY\, 11542\, United States
ATTACH;FMTTYPE=image/png:https://glencovedowntown.org/wp-content/uploads/2024/03/Scrap-Page-16.png
END:VEVENT
BEGIN:VEVENT
DTSTART;TZID=America/New_York:20240323T090000
DTEND;TZID=America/New_York:20240323T110000
DTSTAMP:20260425T112730
CREATED:20240322T191650Z
LAST-MODIFIED:20240322T191650Z
UID:4681-1711184400-1711191600@glencovedowntown.org
SUMMARY:Level Up Glen Cove Stretch Zone
DESCRIPTION:Contact info@levelupglencove.com for details
URL:https://glencovedowntown.org/event/level-up-glen-cove-stretch-zone/
LOCATION:New York
ATTACH;FMTTYPE=image/png:https://glencovedowntown.org/wp-content/uploads/2024/03/7.png
END:VEVENT
BEGIN:VEVENT
DTSTART;TZID=America/New_York:20240317T130000
DTEND;TZID=America/New_York:20240317T170000
DTSTAMP:20260425T112730
CREATED:20240111T201455Z
LAST-MODIFIED:20240209T210953Z
UID:4474-1710680400-1710694800@glencovedowntown.org
SUMMARY:Glen Cove's Saint Patrick's Day Parade
DESCRIPTION:The parade starts at Finley Middle School
URL:https://glencovedowntown.org/event/glen-coves-saint-patricks-day-parade/
LOCATION:New York
ATTACH;FMTTYPE=image/jpeg:https://glencovedowntown.org/wp-content/uploads/2024/01/426206457_10160306021791314_9083648493384420847_n.jpg
END:VEVENT
BEGIN:VEVENT
DTSTART;TZID=America/New_York:20240317T120000
DTEND;TZID=America/New_York:20240317T180000
DTSTAMP:20260425T112730
CREATED:20240308T173208Z
LAST-MODIFIED:20240308T173208Z
UID:4609-1710676800-1710698400@glencovedowntown.org
SUMMARY:Woman Owned Business Pop Up by Looks 2 Love by Lis
DESCRIPTION:Celebrate International Women’s Day with an inspiring afternoon at Looks 2 Love by Lis.
URL:https://glencovedowntown.org/event/woman-owned-business-pop-up-by-looks-2-love-by-lis/
LOCATION:Looks 2 Love by Lis\, 3 School Street\, LL1\, Glen Cove\, NY\, 11542\, United States
ATTACH;FMTTYPE=image/png:https://glencovedowntown.org/wp-content/uploads/2024/03/304-310-2024-Instagram-Posts.png
END:VEVENT
BEGIN:VEVENT
DTSTART;TZID=America/New_York:20240317T090000
DTEND;TZID=America/New_York:20240317T170000
DTSTAMP:20260425T112730
CREATED:20240308T172643Z
LAST-MODIFIED:20240308T172643Z
UID:4606-1710666000-1710694800@glencovedowntown.org
SUMMARY:Saint Patrick's Scavenger Hunt
DESCRIPTION:Keep an eye out for one plush leprechaun in each of the participating businesses. \n1- Snap a photo of the leprechaun in 10 different businesses \n2- Post your 10 photos on social media before 5 pm\n \n3- Tag the Glen Cove Downtown BID and participating businesses to be entered for a chance to win a Downtown BID raffle
URL:https://glencovedowntown.org/event/saint-patricks-scavenger-hunt/
LOCATION:Downtown Glen Cove
ATTACH;FMTTYPE=image/png:https://glencovedowntown.org/wp-content/uploads/2024/03/St.-Pattys-Scav-Hunt-2024-2.png
END:VEVENT
BEGIN:VEVENT
DTSTART;TZID=America/New_York:20240314T180000
DTEND;TZID=America/New_York:20240314T200000
DTSTAMP:20260425T112730
CREATED:20240308T173544Z
LAST-MODIFIED:20240308T173544Z
UID:4612-1710439200-1710446400@glencovedowntown.org
SUMMARY:The Glen Cove Downtown BID's Annual Meeting
DESCRIPTION:
URL:https://glencovedowntown.org/event/the-glen-cove-downtown-bids-annual-meeting/
LOCATION:Glen Floors\, 30 Glen Street\, Glen Cove\, NY\, 11542\, United States
ATTACH;FMTTYPE=image/png:https://glencovedowntown.org/wp-content/uploads/2024/03/2022-and-2023-Annual-Meeting-Invite.png
END:VEVENT
BEGIN:VEVENT
DTSTART;TZID=America/New_York:20240310T140000
DTEND;TZID=America/New_York:20240310T170000
DTSTAMP:20260425T112730
CREATED:20240111T203017Z
LAST-MODIFIED:20240111T203017Z
UID:4497-1710079200-1710090000@glencovedowntown.org
SUMMARY:The Gilded Age in New York at The North Shore Historical Museum
DESCRIPTION:Lecture and book signing with Esther Crain \nThe drama\, expansion\, mansions and wealth of New York City’s transformative Gilded Age era\, from 1870 to 1910 in one afternoon! \nIn forty short years\, New York City suddenly became a city of skyscrapers\, subways\, streetlights\, and Central Park\, as well as sprawling bridges that connected the once-distant boroughs. In Manhattan\, more than a million poor immigrants crammed into tenements\, while the half of the millionaires in the entire country lined Fifth Avenue with their opulent mansions. \nThe Gilded Age in New York captures what is was like to live in Gotham then\, to be a daily witness to the city’s rapid evolution. \nBooks ARE NOT included in ticket price and must be purchased in advance. \n$20 \n$15 Members (use coupon 2024 member) \n\n\nFor more information visit: Upcoming Events | NSHM (northshorehistoricalmuseum.org)
URL:https://glencovedowntown.org/event/the-gilded-age-in-new-york-at-the-north-shore-historical-museum/
LOCATION:North Shore Historical Museum\, 140 Glen Street\, Glen Cove\, NY\, 11542\, United States
ATTACH;FMTTYPE=image/jpeg:https://glencovedowntown.org/wp-content/uploads/2024/01/51pmCvaTAML.jpg
END:VEVENT
BEGIN:VEVENT
DTSTART;TZID=America/New_York:20240229T190000
DTEND;TZID=America/New_York:20240229T210000
DTSTAMP:20260425T112730
CREATED:20240111T202439Z
LAST-MODIFIED:20240111T202812Z
UID:4489-1709233200-1709240400@glencovedowntown.org
SUMMARY:Long Island Shipwrecks at The North Shore Historical Museum
DESCRIPTION:Exhibit Opening with Bill Bleyer\, Bradley Golden and Adam Grohman\n\n\n\n\nFree.  All are welcome. \n\nFor more information visit: Upcoming Events | NSHM (northshorehistoricalmuseum.org)
URL:https://glencovedowntown.org/event/long-island-shipwrecks-at-the-north-shore-historical-museum/
LOCATION:North Shore Historical Museum\, 140 Glen Street\, Glen Cove\, NY\, 11542\, United States
ATTACH;FMTTYPE=image/jpeg:https://glencovedowntown.org/wp-content/uploads/2024/01/William-T.-Bell-unloading-1151x1536-1.jpg
END:VEVENT
BEGIN:VEVENT
DTSTART;TZID=America/New_York:20240221T183000
DTEND;TZID=America/New_York:20240221T210000
DTSTAMP:20260425T112730
CREATED:20240111T202047Z
LAST-MODIFIED:20240111T202047Z
UID:4483-1708540200-1708549200@glencovedowntown.org
SUMMARY:La Bussola's Stand Up Comedy Night
DESCRIPTION:
URL:https://glencovedowntown.org/event/la-bussolas-stand-up-comedy-night/
LOCATION:La Bussola Ristorante\, 40 School Street\, Glen Cove\, NY\, 11542\, United States
ATTACH;FMTTYPE=image/jpeg:https://glencovedowntown.org/wp-content/uploads/2024/01/419045141_862029509259541_5633841566160229531_n.jpg
END:VEVENT
END:VCALENDAR