BEGIN:VCALENDAR
VERSION:2.0
PRODID:-//GCBID - ECPv6.15.20//NONSGML v1.0//EN
CALSCALE:GREGORIAN
METHOD:PUBLISH
X-ORIGINAL-URL:https://glencovedowntown.org
X-WR-CALDESC:Events for GCBID
REFRESH-INTERVAL;VALUE=DURATION:PT1H
X-Robots-Tag:noindex
X-PUBLISHED-TTL:PT1H
BEGIN:VTIMEZONE
TZID:America/New_York
BEGIN:DAYLIGHT
TZOFFSETFROM:-0500
TZOFFSETTO:-0400
TZNAME:EDT
DTSTART:20250309T070000
END:DAYLIGHT
BEGIN:STANDARD
TZOFFSETFROM:-0400
TZOFFSETTO:-0500
TZNAME:EST
DTSTART:20251102T060000
END:STANDARD
BEGIN:DAYLIGHT
TZOFFSETFROM:-0500
TZOFFSETTO:-0400
TZNAME:EDT
DTSTART:20260308T070000
END:DAYLIGHT
BEGIN:STANDARD
TZOFFSETFROM:-0400
TZOFFSETTO:-0500
TZNAME:EST
DTSTART:20261101T060000
END:STANDARD
BEGIN:DAYLIGHT
TZOFFSETFROM:-0500
TZOFFSETTO:-0400
TZNAME:EDT
DTSTART:20270314T070000
END:DAYLIGHT
BEGIN:STANDARD
TZOFFSETFROM:-0400
TZOFFSETTO:-0500
TZNAME:EST
DTSTART:20271107T060000
END:STANDARD
END:VTIMEZONE
BEGIN:VEVENT
DTSTART;TZID=America/New_York:20260425T130000
DTEND;TZID=America/New_York:20260425T170000
DTSTAMP:20260423T163821
CREATED:20260415T145328Z
LAST-MODIFIED:20260415T145328Z
UID:8418-1777122000-1777136400@glencovedowntown.org
SUMMARY:Green Eats: Earth Day Movie & Activity
DESCRIPTION:Event Details: \n\nDate: Saturday\, April 25\nTime: 1:00 PM & 3:00 PM\nLocation: 17 Bridge Street\, Glen Cove\, NY 11542\nAdmission: Free\nParking: Free parking available in the Brewster Street and Pulaski Street parking garages\n\nCome celebrate Earth Day with us!  \nGreen Eats and Green Glen Cove present THE LORAX! The classic 1972 film based on the Dr. Seuss book with it’s powerful environmental message will be shown at 1pm and 3pm on Saturday\, April 25 at 17 Bridge St. Glen Cove. \nWe are also having a seed planting activity which will be available all day starting at 11:30am. Free seed planting kit with any purchase. You can go home with your choice of carrot\, tomato\, green bush bean\, cilantro\, or basil. We would like to thank Winter’s Edge Micro Farm for the gracious donation of the plant pots. \nPlease feel free to join us for some healthy\, tasty treats! Cool off with our delicious\, unique smoothies\, and come celebrate our precious Earth!
URL:https://glencovedowntown.org/event/green-eats-earth-day-movie-activity/
LOCATION:Green Eats\, 17 Bridge Street\, Glen Cove\, NY\, 11542\, United States
ATTACH;FMTTYPE=image/png:https://glencovedowntown.org/wp-content/uploads/2026/04/413-419-2026-Instagram-Posts.png
END:VEVENT
BEGIN:VEVENT
DTSTART;TZID=America/New_York:20260501T180000
DTEND;TZID=America/New_York:20260501T210000
DTSTAMP:20260423T163821
CREATED:20260414T190608Z
LAST-MODIFIED:20260422T174512Z
UID:8409-1777658400-1777669200@glencovedowntown.org
SUMMARY:Glen Cove Downtown BID Art Crawl
DESCRIPTION:Walk around Downtown Glen Cove and enjoy art displayed by different artists at various downtown businesses \nEvent Details: \n\nDate: Friday\, May 1\nTime: 6:00 PM – 9:00 PM\nLocation: Downtown Glen Cove\, NY 11542\nAdmission: Free\nParking: Free parking available in the Brewster Street and Pulaski Street parking garages\n\nVenues: \nThe Shoppe by Trubee Hill \nSip & Shop Event \n100 Village Sq. \n  \nGlen Cove Massage \nJulie Robinson\, John Robinson\, & Puneeta Mittal \n56 School St. \n  \nLevel Up Glen Cove \nTony Tedeschi & JoAnn Russo \n10 School St. \n  \nGreen Eats \nRachel Flynn \n17 Bridge St. \n  \nLong Island Academy of Fine Art \nLIAFA Student Artists \n14 Glen St. \n  \nNorth Shore Village Theatre \nMeet performers \n19 Glen St. \n  \nSoca Brazilian Jiu-Jitsu \nSophi Photo Memoir\, Phillip Zaino\, Steven Kiernan\, Adult Day Program & Age-Friendly \n20 Glen St. \n  \nGlen Floors \nGlen Cove High School Art Club \n30 Glen St. \n  \nNoble Savage Brewery \nMarino Carrabs photography & live music by Barry Waller \n27 Glen St. \n  \nWhile in Kathmandu \nLive music \n61 Glen St. \n  \nOtherside Wine Bar \nLive music\, Restaurant Week special \n149 Glen St. \n  \nNorth Shore Historical Museum \nExhibit: No Longer Hidden \n140 Glen St. \n 
URL:https://glencovedowntown.org/event/glen-cove-downtown-bid-art-crawl-2/
LOCATION:Downtown Glen Cove
ATTACH;FMTTYPE=image/png:https://glencovedowntown.org/wp-content/uploads/2026/04/2026-Art-Crawl-Flyer-4.png
END:VEVENT
BEGIN:VEVENT
DTSTART;TZID=America/New_York:20260502T183000
DTEND;TZID=America/New_York:20260502T213000
DTSTAMP:20260423T163821
CREATED:20260414T194212Z
LAST-MODIFIED:20260414T194212Z
UID:8415-1777746600-1777757400@glencovedowntown.org
SUMMARY:North Shore Historical Museum: Spring Soiree
DESCRIPTION:Event Details: \n\nDate: Saturday\, May 2\nTime: 6:30 PM – 9:30 PM\nLocation: 140 Glen Street\, Glen Cove\, NY 11542\nAdmission: $40 members/ $50 public\nhttps://northshorehistoricalmuseum.org/\nDress Code: Spring cocktail attire\n\n 
URL:https://glencovedowntown.org/event/north-shore-historical-museum-spring-soiree/
LOCATION:North Shore Historical Museum\, 140 Glen Street\, Glen Cove\, NY\, 11542\, United States
ATTACH;FMTTYPE=image/png:https://glencovedowntown.org/wp-content/uploads/2026/04/9.png
END:VEVENT
END:VCALENDAR