BEGIN:VCALENDAR
VERSION:2.0
PRODID:-//GCBID - ECPv6.15.20//NONSGML v1.0//EN
CALSCALE:GREGORIAN
METHOD:PUBLISH
X-WR-CALNAME:GCBID
X-ORIGINAL-URL:https://glencovedowntown.org
X-WR-CALDESC:Events for GCBID
REFRESH-INTERVAL;VALUE=DURATION:PT1H
X-Robots-Tag:noindex
X-PUBLISHED-TTL:PT1H
BEGIN:VTIMEZONE
TZID:America/New_York
BEGIN:DAYLIGHT
TZOFFSETFROM:-0500
TZOFFSETTO:-0400
TZNAME:EDT
DTSTART:20250309T070000
END:DAYLIGHT
BEGIN:STANDARD
TZOFFSETFROM:-0400
TZOFFSETTO:-0500
TZNAME:EST
DTSTART:20251102T060000
END:STANDARD
BEGIN:DAYLIGHT
TZOFFSETFROM:-0500
TZOFFSETTO:-0400
TZNAME:EDT
DTSTART:20260308T070000
END:DAYLIGHT
BEGIN:STANDARD
TZOFFSETFROM:-0400
TZOFFSETTO:-0500
TZNAME:EST
DTSTART:20261101T060000
END:STANDARD
BEGIN:DAYLIGHT
TZOFFSETFROM:-0500
TZOFFSETTO:-0400
TZNAME:EDT
DTSTART:20270314T070000
END:DAYLIGHT
BEGIN:STANDARD
TZOFFSETFROM:-0400
TZOFFSETTO:-0500
TZNAME:EST
DTSTART:20271107T060000
END:STANDARD
END:VTIMEZONE
BEGIN:VEVENT
DTSTART;TZID=America/New_York:20260329T130000
DTEND;TZID=America/New_York:20260329T143000
DTSTAMP:20260423T204750
CREATED:20260318T181613Z
LAST-MODIFIED:20260318T185641Z
UID:8382-1774789200-1774794600@glencovedowntown.org
SUMMARY:The Regency: Spring Eggstravaganza
DESCRIPTION:Meet the Easter Bunny! \nEaster Bunny meet & greet (bring your own camera) \nEaster egg hunt (bring your own basket) \nEvent Details: \n\nDate: Sunday\, March 29\nTime: 1:00 PM\nLocation: 94 School Street\, Glen Cove\, NY 11542\nContact: 516-674-3007\nhttps://www.theregencyatglencove.com/\nAdmission: Free\nParking: Free parking available in the Brewster Street and Pulaski Street parking garages
URL:https://glencovedowntown.org/event/the-regency-spring-eggstravaganza/
LOCATION:The Regency\, 94 School Street\, Glen Cove\, NY\, 11542\, United States
ATTACH;FMTTYPE=image/jpeg:https://glencovedowntown.org/wp-content/uploads/2026/03/Regency-Easter-flyer-1_page-0001.jpg
END:VEVENT
END:VCALENDAR