BEGIN:VCALENDAR
VERSION:2.0
PRODID:-//GCBID - ECPv6.15.20//NONSGML v1.0//EN
CALSCALE:GREGORIAN
METHOD:PUBLISH
X-ORIGINAL-URL:https://glencovedowntown.org
X-WR-CALDESC:Events for GCBID
REFRESH-INTERVAL;VALUE=DURATION:PT1H
X-Robots-Tag:noindex
X-PUBLISHED-TTL:PT1H
BEGIN:VTIMEZONE
TZID:America/New_York
BEGIN:DAYLIGHT
TZOFFSETFROM:-0500
TZOFFSETTO:-0400
TZNAME:EDT
DTSTART:20250309T070000
END:DAYLIGHT
BEGIN:STANDARD
TZOFFSETFROM:-0400
TZOFFSETTO:-0500
TZNAME:EST
DTSTART:20251102T060000
END:STANDARD
BEGIN:DAYLIGHT
TZOFFSETFROM:-0500
TZOFFSETTO:-0400
TZNAME:EDT
DTSTART:20260308T070000
END:DAYLIGHT
BEGIN:STANDARD
TZOFFSETFROM:-0400
TZOFFSETTO:-0500
TZNAME:EST
DTSTART:20261101T060000
END:STANDARD
BEGIN:DAYLIGHT
TZOFFSETFROM:-0500
TZOFFSETTO:-0400
TZNAME:EDT
DTSTART:20270314T070000
END:DAYLIGHT
BEGIN:STANDARD
TZOFFSETFROM:-0400
TZOFFSETTO:-0500
TZNAME:EST
DTSTART:20271107T060000
END:STANDARD
END:VTIMEZONE
BEGIN:VEVENT
DTSTART;TZID=America/New_York:20260327T183000
DTEND;TZID=America/New_York:20260327T200000
DTSTAMP:20260423T234302
CREATED:20260311T193854Z
LAST-MODIFIED:20260311T193854Z
UID:8355-1774636200-1774641600@glencovedowntown.org
SUMMARY:North Shore Historical Museum: An Evening with Rhonda Denet
DESCRIPTION:Event Details: \n\nDate: Friday\, March 27\nTime: 6:30 PM\nLocation: 140 Glen Street\, Glen Cove\, NY 11542\nTickets: https://northshorehistoricalmuseum.org/events/\nAdmission: $35\n\n$25 for museum members\n\n\n\nIn celebration of both Black History and Women’s History Month\, vocalist Rhonda Denét joins us on Long Island’s North Shore for a powerful musical journey that honors the profound legacy and voices of trailblazing women in American music. \nJoin us at 6:30 PM for an intimate\, 15-minute guided tour of our current exhibit\, No Longer Hidden\, offering a curated look at the stories and milestones that shaped our nation before the music begins.
URL:https://glencovedowntown.org/event/north-shore-historical-museum-an-evening-with-rhonda-denet/
LOCATION:North Shore Historical Museum\, 140 Glen Street\, Glen Cove\, NY\, 11542\, United States
ATTACH;FMTTYPE=image/png:https://glencovedowntown.org/wp-content/uploads/2026/03/5-1.png
END:VEVENT
END:VCALENDAR