BEGIN:VCALENDAR
VERSION:2.0
PRODID:-//GCBID - ECPv6.15.20//NONSGML v1.0//EN
CALSCALE:GREGORIAN
METHOD:PUBLISH
X-ORIGINAL-URL:https://glencovedowntown.org
X-WR-CALDESC:Events for GCBID
REFRESH-INTERVAL;VALUE=DURATION:PT1H
X-Robots-Tag:noindex
X-PUBLISHED-TTL:PT1H
BEGIN:VTIMEZONE
TZID:America/New_York
BEGIN:DAYLIGHT
TZOFFSETFROM:-0500
TZOFFSETTO:-0400
TZNAME:EDT
DTSTART:20250309T070000
END:DAYLIGHT
BEGIN:STANDARD
TZOFFSETFROM:-0400
TZOFFSETTO:-0500
TZNAME:EST
DTSTART:20251102T060000
END:STANDARD
BEGIN:DAYLIGHT
TZOFFSETFROM:-0500
TZOFFSETTO:-0400
TZNAME:EDT
DTSTART:20260308T070000
END:DAYLIGHT
BEGIN:STANDARD
TZOFFSETFROM:-0400
TZOFFSETTO:-0500
TZNAME:EST
DTSTART:20261101T060000
END:STANDARD
BEGIN:DAYLIGHT
TZOFFSETFROM:-0500
TZOFFSETTO:-0400
TZNAME:EDT
DTSTART:20270314T070000
END:DAYLIGHT
BEGIN:STANDARD
TZOFFSETFROM:-0400
TZOFFSETTO:-0500
TZNAME:EST
DTSTART:20271107T060000
END:STANDARD
END:VTIMEZONE
BEGIN:VEVENT
DTSTART;TZID=America/New_York:20260321T103000
DTEND;TZID=America/New_York:20260321T113000
DTSTAMP:20260424T081557
CREATED:20260311T192821Z
LAST-MODIFIED:20260311T192821Z
UID:8346-1774089000-1774092600@glencovedowntown.org
SUMMARY:Screaming Pigeon: Silent Disco Yin
DESCRIPTION:SILENT DISCO YIN \n\nSat March 7 + Sat March 21\n\n10:45am\n50C Glen Street\, Glen Cove\, NY 11542\n\nRegister Here: Screaming Pigeon Yoga Studio\, Glen Cove\, NY\n\n\nWhat if the only thing you could hear… was the practice?\n\n\nWe’re turning down the room and turning up the experience.\nWireless headphones.\nImmersive sound.\nSlow\, intentional yin.\n\n\nYour breath.\nOur cues.\nA curated soundtrack — flowing directly into your ears.\n\n\nNo outside noise.\nNo distraction.\nJust you\, your body\, and deep warmth from the inside out.\n\n\nThis is yin — amplified.\n\n\n\nLimited headphones available.\nReserve early.
URL:https://glencovedowntown.org/event/screaming-pigeon-silent-disco-yin/
LOCATION:Screaming Pigeon\, 50 C Glen Street\, Glen Cove\, NY\, 11542\, United States
ATTACH;FMTTYPE=image/png:https://glencovedowntown.org/wp-content/uploads/2026/03/14.png
END:VEVENT
BEGIN:VEVENT
DTSTART;TZID=America/New_York:20260321T150000
DTEND;TZID=America/New_York:20260321T170000
DTSTAMP:20260424T081557
CREATED:20260311T193516Z
LAST-MODIFIED:20260311T193516Z
UID:8352-1774105200-1774112400@glencovedowntown.org
SUMMARY:Otherside Wine Bar: Beaujolais Masterclass
DESCRIPTION:Event Details: \n\nDate: Saturday\, March 21\nTime: 3:00 PM – 5:00 PM\nLocation: 149 Glen Street\, Glen Cove\, NY 11542\nContact: 515-962-9463\nAdmission: $85 per person\nTickets: Otherside Wine Bar Restaurant – Glen Cove\, NY | OpenTable\n\noin us SATURDAY\, MARCH 21st (3-5pm) for a guided deep dive into Beaujolais\, one of France’s most exciting and misunderstood wine regions. Often associated with easy-drinking Nouveau\, Beaujolais in fact produces some of the most soulful\, transparent expressions of Gamay in the world.In this masterclass\, we’ll taste through wines from several of the region’s most celebrated growers — including members of the legendary “Gang of Four” who helped redefine Beaujolais in the late 20th century through organic farming and minimal-intervention cellar practices.Along the way we’ll explore the crus of Beaujolais\, the influence of granite soils\, and how site\, farming\, and winemaking choices shape the personality of each wine. From the lifted florality of Chiroubles to the deeper structure of Morgon\, this lineup showcases the remarkable range of Gamay at its most expressive.Expect a lively conversation\, a few surprises\, and six beautiful wines that capture the energy and character of modern Beaujolais.LIST OF WINES1. Guy Breton — Chiroubles “Cuvée Lea” 20242. Guy Breton — Beaujolais-Villages “Cuvée Marylou” 20243. Georges Descombes — Régnié 20234. Domaine de la Grand’Cour (Jean-Louis Dutraive) — Fleurie “Tous Ensemble” 20245. Jean-Paul & Charly Thévenet — Morgon VV6. Jean Foillard — Morgon “Côte du Py” 2018
URL:https://glencovedowntown.org/event/otherside-wine-bar-beaujolais-masterclass/
LOCATION:Otherside Wine Bar\, 149 Glen Street\, Glen Cove\, NY\, 11542\, United States
ATTACH;FMTTYPE=image/png:https://glencovedowntown.org/wp-content/uploads/2026/03/12.png
END:VEVENT
END:VCALENDAR