BEGIN:VCALENDAR
VERSION:2.0
PRODID:-//GCBID - ECPv6.15.20//NONSGML v1.0//EN
CALSCALE:GREGORIAN
METHOD:PUBLISH
X-WR-CALNAME:GCBID
X-ORIGINAL-URL:https://glencovedowntown.org
X-WR-CALDESC:Events for GCBID
REFRESH-INTERVAL;VALUE=DURATION:PT1H
X-Robots-Tag:noindex
X-PUBLISHED-TTL:PT1H
BEGIN:VTIMEZONE
TZID:America/New_York
BEGIN:DAYLIGHT
TZOFFSETFROM:-0500
TZOFFSETTO:-0400
TZNAME:EDT
DTSTART:20250309T070000
END:DAYLIGHT
BEGIN:STANDARD
TZOFFSETFROM:-0400
TZOFFSETTO:-0500
TZNAME:EST
DTSTART:20251102T060000
END:STANDARD
BEGIN:DAYLIGHT
TZOFFSETFROM:-0500
TZOFFSETTO:-0400
TZNAME:EDT
DTSTART:20260308T070000
END:DAYLIGHT
BEGIN:STANDARD
TZOFFSETFROM:-0400
TZOFFSETTO:-0500
TZNAME:EST
DTSTART:20261101T060000
END:STANDARD
BEGIN:DAYLIGHT
TZOFFSETFROM:-0500
TZOFFSETTO:-0400
TZNAME:EDT
DTSTART:20270314T070000
END:DAYLIGHT
BEGIN:STANDARD
TZOFFSETFROM:-0400
TZOFFSETTO:-0500
TZNAME:EST
DTSTART:20271107T060000
END:STANDARD
END:VTIMEZONE
BEGIN:VEVENT
DTSTART;TZID=America/New_York:20260313T180000
DTEND;TZID=America/New_York:20260313T210000
DTSTAMP:20260424T211941
CREATED:20260311T193112Z
LAST-MODIFIED:20260311T193112Z
UID:8349-1773424800-1773435600@glencovedowntown.org
SUMMARY:While in Kathmandu: Friday Night Live
DESCRIPTION:Event Details: \nMusic ft. Kirsten Maxwell \n\nDate: March 13\nTime: 6:00 PM – 9:00 PM\nLocation: 61 1/2 Glen Street\, Glen Cove\, NY 11542\nContact: 516-277-1684\nParking: Free parking available in the Brewster Street and Pulaski Street parking garages
URL:https://glencovedowntown.org/event/while-in-kathmandu-friday-night-live/
LOCATION:While In Kathmandu\, 61 1/2 Glen Street\, Glen Cove
ATTACH;FMTTYPE=image/png:https://glencovedowntown.org/wp-content/uploads/2026/03/13.png
END:VEVENT
END:VCALENDAR