BEGIN:VCALENDAR
VERSION:2.0
PRODID:-//GCBID - ECPv6.15.20//NONSGML v1.0//EN
CALSCALE:GREGORIAN
METHOD:PUBLISH
X-ORIGINAL-URL:https://glencovedowntown.org
X-WR-CALDESC:Events for GCBID
REFRESH-INTERVAL;VALUE=DURATION:PT1H
X-Robots-Tag:noindex
X-PUBLISHED-TTL:PT1H
BEGIN:VTIMEZONE
TZID:America/New_York
BEGIN:DAYLIGHT
TZOFFSETFROM:-0500
TZOFFSETTO:-0400
TZNAME:EDT
DTSTART:20250309T070000
END:DAYLIGHT
BEGIN:STANDARD
TZOFFSETFROM:-0400
TZOFFSETTO:-0500
TZNAME:EST
DTSTART:20251102T060000
END:STANDARD
BEGIN:DAYLIGHT
TZOFFSETFROM:-0500
TZOFFSETTO:-0400
TZNAME:EDT
DTSTART:20260308T070000
END:DAYLIGHT
BEGIN:STANDARD
TZOFFSETFROM:-0400
TZOFFSETTO:-0500
TZNAME:EST
DTSTART:20261101T060000
END:STANDARD
BEGIN:DAYLIGHT
TZOFFSETFROM:-0500
TZOFFSETTO:-0400
TZNAME:EDT
DTSTART:20270314T070000
END:DAYLIGHT
BEGIN:STANDARD
TZOFFSETFROM:-0400
TZOFFSETTO:-0500
TZNAME:EST
DTSTART:20271107T060000
END:STANDARD
END:VTIMEZONE
BEGIN:VEVENT
DTSTART;TZID=America/New_York:20260305T180000
DTEND;TZID=America/New_York:20260305T200000
DTSTAMP:20260425T114427
CREATED:20260212T195502Z
LAST-MODIFIED:20260212T195502Z
UID:8274-1772733600-1772740800@glencovedowntown.org
SUMMARY:The Glen Cove Downtown BID's Annual Meeting
DESCRIPTION:Event Details: \n\nDate: Thursday\, March 5\nTime: 6:00 PM\nLocation: 120 Village Square\, Glen Cove\, NY 11542\nContact: 516-759-6970\nAdmission: Free\nParking: Free parking available in the Brewster Street and Pulaski Street parking garages
URL:https://glencovedowntown.org/event/the-glen-cove-downtown-bids-annual-meeting-2/
LOCATION:Tocolo Cantina\, 120 Village Sq\, Glen Cove\, NY\, 11542\, United States
ATTACH;FMTTYPE=image/png:https://glencovedowntown.org/wp-content/uploads/2026/02/Annual-Meeting-Invite-Front-3.png
END:VEVENT
END:VCALENDAR