BEGIN:VCALENDAR
VERSION:2.0
PRODID:-//GCBID - ECPv6.15.20//NONSGML v1.0//EN
CALSCALE:GREGORIAN
METHOD:PUBLISH
X-WR-CALNAME:GCBID
X-ORIGINAL-URL:https://glencovedowntown.org
X-WR-CALDESC:Events for GCBID
REFRESH-INTERVAL;VALUE=DURATION:PT1H
X-Robots-Tag:noindex
X-PUBLISHED-TTL:PT1H
BEGIN:VTIMEZONE
TZID:America/New_York
BEGIN:DAYLIGHT
TZOFFSETFROM:-0500
TZOFFSETTO:-0400
TZNAME:EDT
DTSTART:20250309T070000
END:DAYLIGHT
BEGIN:STANDARD
TZOFFSETFROM:-0400
TZOFFSETTO:-0500
TZNAME:EST
DTSTART:20251102T060000
END:STANDARD
BEGIN:DAYLIGHT
TZOFFSETFROM:-0500
TZOFFSETTO:-0400
TZNAME:EDT
DTSTART:20260308T070000
END:DAYLIGHT
BEGIN:STANDARD
TZOFFSETFROM:-0400
TZOFFSETTO:-0500
TZNAME:EST
DTSTART:20261101T060000
END:STANDARD
BEGIN:DAYLIGHT
TZOFFSETFROM:-0500
TZOFFSETTO:-0400
TZNAME:EDT
DTSTART:20270314T070000
END:DAYLIGHT
BEGIN:STANDARD
TZOFFSETFROM:-0400
TZOFFSETTO:-0500
TZNAME:EST
DTSTART:20271107T060000
END:STANDARD
END:VTIMEZONE
BEGIN:VEVENT
DTSTART;VALUE=DATE:20260214
DTEND;VALUE=DATE:20260216
DTSTAMP:20260426T000014
CREATED:20260212T201919Z
LAST-MODIFIED:20260212T201919Z
UID:8287-1771027200-1771199999@glencovedowntown.org
SUMMARY:Meritage Wine Bar: Valentine's Day Special
DESCRIPTION:Event Details: \n\nDate: Valentine’s Weekend\nLocation: 90 School St.\, Glen Cove\, NY 11542\nReservations: (516) 801-0055\nAdmission: $45 per person\nParking: Free parking available in the Brewster Street and Pulaski Street parking garages\n\n VALENTINE’S WEEKEND AT MERITAGE WINE BAR \n\nCelebrate love the way it should be celebrated — with beautiful food and exceptional wine.\nJoin us for a 3-Course Valentine’s Weekend Prix Fixe | $45 per person\n\n First Course – Choose One\n Baby Romaine Salad\nFennel\, watermelon radishes\, herbs\, crispy quinoa\, lemon vinaigrette\, spiced honey\n Okayu Soup\nRice porridge\, charred spinach\, soft-boiled egg\, chicken\, touch of cream\n Second Course – Choose One\n Chicken Parm\nFontina béchamel\, pomodoro sauce\, basil\n Atlantic Salmon\nPotato risotto\, smoked kale\, lemon vin blanc\, parmesan\n Spice-Rubbed Steak\nGarlic mashed potatoes\, broccolini\, pan jus\, chimichurri\n Potato Gnocchi\nWild mushrooms\, vodka tomato pink sauce\n To Share\n Tres Leches Tiramisu\nCoffee cream\, Oaxacan cacao\n\nPair your evening with a special bottle from our curated wine list — because Valentine’s deserves something memorable in your glass.\n\nReservations strongly recommended.
URL:https://glencovedowntown.org/event/meritage-wine-bar-valentines-day-special/
LOCATION:Meritage Wine Bar\, 90 School Street\, Glen Cove\, NY\, 11542
ATTACH;FMTTYPE=image/png:https://glencovedowntown.org/wp-content/uploads/2026/02/29.png
END:VEVENT
BEGIN:VEVENT
DTSTART;TZID=America/New_York:20260215T140000
DTEND;TZID=America/New_York:20260215T170000
DTSTAMP:20260426T000014
CREATED:20260212T195903Z
LAST-MODIFIED:20260212T195903Z
UID:8277-1771164000-1771174800@glencovedowntown.org
SUMMARY:The North Shore Historical Museum: Nazis of Long Island
DESCRIPTION:Event Details: \n\nDate: Sunday\, February 15\nTime: 2:00 PM\nLocation: 140 Glen St.\, Glen Cove\, NY 11542\nContact: 516-801-1191\nAdmission: Members $15 Non-Members $20\nMore Information: https://northshorehistoricalmuseum.org/events/ \n\n  \nExplore a hidden chapter of Long Island’s past with historian Christopher Verga as he discusses his new book\, Nazis of Long Island: Sedition\, Espionage & the Plot Against America. The lecture uncovers how Camp Siegfried in Yaphank became a center for the German American Bund’s efforts to spread fascism\, antisemitism\, and pro‑Nazi ideology in the 1930s—and the courageous local citizens who organized to resist them. \nJoin us on Sunday\, February 15 at 2:00 PM for a compelling conversation that brings this overlooked World War II–era history to life and examines its relevance to understanding threats to democracy today. \nAdmission for Museum Members: $15 / Non-Members $20
URL:https://glencovedowntown.org/event/the-north-shore-historical-museum-nazis-of-long-island/
LOCATION:North Shore Historical Museum\, 140 Glen Street\, Glen Cove\, NY\, 11542\, United States
ATTACH;FMTTYPE=image/png:https://glencovedowntown.org/wp-content/uploads/2026/02/3.png
END:VEVENT
END:VCALENDAR